Workbook
Name HypDateTimeFormat: "mm/dd/yy HH:MM AM/PM"
Name HypIntgFormat: "###0"
Name HypRealFormat: "#,##0.#####"

Sheet Cover Sheet
A1: IDAHO BEHAVIORAL HEALTH PLAN
A2: Other-02 QMIA Quarterly Report: 2022-Q3 (07/01/2022 - 09/30/2022)
A4: REPORT COVER SHEET
A5: Report ID: | B5: OTHER-02
A6: Report Name: | B6: QMIA Report
A7: Report Frequency/Schedule | B7: Quarterly (Feb/May/Aug/Nov)
A8: Report Data Type: | B8: Confidential/Proprietary
A9: Report Owner/Contact: | B9: Sherry L. Johnson, Quality Manager
A10: Report Production Team: | B10: Optum Standard Reporting-Optum Idaho
A11: Data Source System(s): | B11: Cosmos via IR3029 EDW Data Mart and Facets
A12: Report Specifications Approval Date(s):
A13: Report Specifications Approver(s):
A15: IBHP Contract Citation(s):
A16: Contractual Performance Target(s): | B16: n/a
A17: Optum Internal Performance Target(s): | B17: n/a
A18: Assigned QAPI Oversight Committee: | B18: n/a
A20: Report Description: | B20: The purpose of this report is to show the number of enrolled IBHP youth Medicaid members, over time, for Idaho children's mental health systems-of-care stakeholders, so they can identify and address youth empowerment services performance issues at critical points in care, which will serve to improve outcomes for children, youth and families and reduce unnecessary and potentially serious variation in healthcare processes.
A21: Report Parameters/Filters:
A23: Report Period: | B23: Calendar Quarter: 2022-Q3(07/01/2022 to 09/30/2022 )
A24: Report Run Date: | B24: 44872
A25: Report Submission Date: | B25: 44875
A26: Report Summary: | B26: Section 5 Service Utilization: For each service identified, this report contains the distinct number of members between the ages of 0-17 who have utilized the service during the period covered by the report (July 2018 to September 2022). Of additional note is the potential impact of COVID-19 on utilization beginning in March 2020 (SFY20-Q3).
A27: Identified Barriers: | B27: No identified barriers at this time.
A28: Opportunities/Interventions: | B28: No additional interventions at this time.
A30: Trend Analysis
A31: This report is intended only for the use of the customer named herein and may contain information which is confidential, proprietary, or legally privileged. Any reproduction, dissemination, or distribution without the express written consent of Optum or its affiliates is prohibited.

Sheet BMC Service Utilizers
A1: Behavior Modification and Consultation
A2: *Please note: Formerly known as Adaptive Behavior Treatment Services
A3: Table 1: Behavior Modification and Consultation - Distinct service utilizers per Region/Quarter
A4: Description: This table displays distinct number of members between the ages of 0 to 17, by quarter who utilized the indicated service between 7/1/2018 to 9/30/2022. Note: Total distinct utilizer count represents an unduplicated (distinct) count of utilizers for the given state fiscal year across all quarters and/or regions combined. Data as of 11/07/2022. Includes Procedure codes ('97153', '0373T','97154','97155','97156','97157','97158')
B5: Region 1 | C5: Region 2 | D5: Region 3 | E5: Region 4 | F5: Region 5 | G5: Region 6 | H5: Region 7 | I5: Region 9 / Out of State | J5: Total
A6: Service Date SFY-Qtr | B6: Distinct Utilizers | C6: Distinct Utilizers | D6: Distinct Utilizers | E6: Distinct Utilizers | F6: Distinct Utilizers | G6: Distinct Utilizers | H6: Distinct Utilizers | I6: Distinct Utilizers | J6: Distinct Utilizers
A7: SFY2019-Q1 | B7: 0 | C7: 0 | D7: 0 | E7: 0 | F7: 0 | G7: 0 | H7: 0 | I7: 0 | J7: 0
A8: SFY2019-Q2 | B8: 0 | C8: 0 | D8: 0 | E8: 0 | F8: 0 | G8: 0 | H8: 0 | I8: 0 | J8: 0
A9: SFY2019-Q3 | B9: 0 | C9: 0 | D9: 0 | E9: 0 | F9: 0 | G9: 0 | H9: 0 | I9: 0 | J9: 0
A10: SFY2019-Q4 | B10: 0 | C10: 0 | D10: 0 | E10: 0 | F10: 0 | G10: 0 | H10: 0 | I10: 0 | J10: 0
A11: 2019 Distinct Utilizers | B11: 0 | C11: 0 | D11: 0 | E11: 0 | F11: 0 | G11: 0 | H11: 0 | I11: 0 | J11: 0
A12: SFY2020-Q1 | B12: 0 | C12: 0 | D12: 0 | E12: 0 | F12: 0 | G12: 0 | H12: 0 | I12: 0 | J12: 0
A13: SFY2020-Q2 | B13: 0 | C13: 0 | D13: 1 | E13: 2 | F13: 0 | G13: 0 | H13: 0 | I13: 0 | J13: 3
A14: SFY2020-Q3 | B14: 14 | C14: 0 | D14: 4 | E14: 4 | F14: 0 | G14: 0 | H14: 0 | I14: 0 | J14: 22
A15: SFY2020-Q4 | B15: 23 | C15: 0 | D15: 1 | E15: 4 | F15: 0 | G15: 0 | H15: 0 | I15: 0 | J15: 28
A16: 2020 Distinct Utilizers | B16: 25 | C16: 0 | D16: 4 | E16: 4 | F16: 0 | G16: 0 | H16: 0 | I16: 0 | J16: 33
A17: SFY2021-Q1 | B17: 26 | C17: 0 | D17: 0 | E17: 1 | F17: 0 | G17: 0 | H17: 0 | I17: 0 | J17: 27
A18: SFY2021-Q2 | B18: 25 | C18: 0 | D18: 0 | E18: 3 | F18: 0 | G18: 0 | H18: 0 | I18: 0 | J18: 28
... A28: 2023 Distinct Utilizers | B28: 60 | C28: 1 | D28: 25 | E28: 44 | F28: 1 | G28: 0 | H28: 0 | I28: 0 | J28: 130
F37: f 5

Sheet BMC Member Utilizers
A1: Behavior Modification and Consultation
A2: *Please note: Formerly known as Adaptive Behavior Treatment Services
A3: Table 1: Behavior Modification and Consultation - Member Utilization per Region/Quarter
A4: Description: This table displays distinct number of members between the ages of 0 to 17, by quarter who utilized the indicated service between 7/1/2018 to 9/30/2022. Note: Total distinct utilizer count represents an unduplicated (distinct) count of utilizers for the given state fiscal year across all quarters and/or regions combined. Data as of 11/07/2022. Includes Procedure codes ('97153', '0373T','97154','97155','97156','97157','97158')
B5: Region 1 | C5: Region 2 | D5: Region 3 | E5: Region 4 | F5: Region 5 | G5: Region 6 | H5: Region 7 | I5: Region 9 / Out of State | J5: Total
A6: Service Date SFY-Qtr | B6: Member Utilization | C6: Member Utilization | D6: Member Utilization | E6: Member Utilization | F6: Member Utilization | G6: Member Utilization | H6: Member Utilization | I6: Member Utilization | J6: Member Utilization
A7: SFY2019-Q1 | B7: ='BMC Service Utilizers'!B7/'All Eligible'!B2 -> 0 | C7: ='BMC Service Utilizers'!C7/'All Eligible'!C2 -> 0 | D7: ='BMC Service Utilizers'!D7/'All Eligible'!D2 -> 0 | E7: ='BMC Service Utilizers'!E7/'All Eligible'!E2 -> 0 | F7: ='BMC Service Utilizers'!F7/'All Eligible'!F2 -> 0 | G7: ='BMC Service Utilizers'!G7/'All Eligible'!G2 -> 0 | H7: ='BMC Service Utilizers'!H7/'All Eligible'!H2 -> 0 | I7: ='BMC Service Utilizers'!I7/'All Eligible'!I2 -> 0 | J7: ='BMC Service Utilizers'!J7/'All Eligible'!J2 -> 0
A8: SFY2019-Q2 | B8: ='BMC Service Utilizers'!B8/'All Eligible'!B3 -> 0 | C8: ='BMC Service Utilizers'!C8/'All Eligible'!C3 -> 0 | D8: ='BMC Service Utilizers'!D8/'All Eligible'!D3 -> 0 | E8: ='BMC Service Utilizers'!E8/'All Eligible'!E3 -> 0 | F8: ='BMC Service Utilizers'!F8/'All Eligible'!F3 -> 0 | G8: ='BMC Service Utilizers'!G8/'All Eligible'!G3 -> 0 | H8: ='BMC Service Utilizers'!H8/'All Eligible'!H3 -> 0 | I8: ='BMC Service Utilizers'!I8/'All Eligible'!I3 -> 0 | J8: ='BMC Service Utilizers'!J8/'All Eligible'!J3 -> 0
A9: SFY2019-Q3 | B9: ='BMC Service Utilizers'!B9/'All Eligible'!B4 -> 0 | C9: ='BMC Service Utilizers'!C9/'All Eligible'!C4 -> 0 | D9: ='BMC Service Utilizers'!D9/'All Eligible'!D4 -> 0 | E9: ='BMC Service Utilizers'!E9/'All Eligible'!E4 -> 0 | F9: ='BMC Service Utilizers'!F9/'All Eligible'!F4 -> 0 | G9: ='BMC Service Utilizers'!G9/'All Eligible'!G4 -> 0 | H9: ='BMC Service Utilizers'!H9/'All Eligible'!H4 -> 0 | I9: ='BMC Service Utilizers'!I9/'All Eligible'!I4 -> 0 | J9: ='BMC Service Utilizers'!J9/'All Eligible'!J4 -> 0
A10: SFY2019-Q4 | B10: ='BMC Service Utilizers'!B10/'All Eligible'!B5 -> 0 | C10: ='BMC Service Utilizers'!C10/'All Eligible'!C5 -> 0 | D10: ='BMC Service Utilizers'!D10/'All Eligible'!D5 -> 0 | E10: ='BMC Service Utilizers'!E10/'All Eligible'!E5 -> 0 | F10: ='BMC Service Utilizers'!F10/'All Eligible'!F5 -> 0 | G10: ='BMC Service Utilizers'!G10/'All Eligible'!G5 -> 0 | H10: ='BMC Service Utilizers'!H10/'All Eligible'!H5 -> 0 | I10: ='BMC Service Utilizers'!I10/'All Eligible'!I5 -> 0 | J10: ='BMC Service Utilizers'!J10/'All Eligible'!J5 -> 0
A11: 2019 Distinct Utilizers
A12: SFY2020-Q1 | B12: ='BMC Service Utilizers'!B12/'All Eligible'!B7 -> 0 | C12: ='BMC Service Utilizers'!C12/'All Eligible'!C7 -> 0 | D12: ='BMC Service Utilizers'!D12/'All Eligible'!D7 -> 0 | E12: ='BMC Service Utilizers'!E12/'All Eligible'!E7 -> 0 | F12: ='BMC Service Utilizers'!F12/'All Eligible'!F7 -> 0 | G12: ='BMC Service Utilizers'!G12/'All Eligible'!G7 -> 0 | H12: ='BMC Service Utilizers'!H12/'All Eligible'!H7 -> 0 | I12: ='BMC Service Utilizers'!I12/'All Eligible'!I7 -> 0 | J12: ='BMC Service Utilizers'!J12/'All Eligible'!J7 -> 0
A13: SFY2020-Q2 | B13: ='BMC Service Utilizers'!B13/'All Eligible'!B8 -> 0 | C13: ='BMC Service Utilizers'!C13/'All Eligible'!C8 -> 0 | D13: ='BMC Service Utilizers'!D13/'All Eligible'!D8 -> 2.4628722e-05 | E13: ='BMC Service Utilizers'!E13/'All Eligible'!E8 -> 5.3236797e-05 | F13: ='BMC Service Utilizers'!F13/'All Eligible'!F8 -> 0 | G13: ='BMC Service Utilizers'!G13/'All Eligible'!G8 -> 0 | H13: ='BMC Service Utilizers'!H13/'All Eligible'!H8 -> 0 | I13: ='BMC Service Utilizers'!I13/'All Eligible'!I8 -> 0 | J13: ='BMC Service Utilizers'!J13/'All Eligible'!J8 -> 1.5785237e-05
A14: SFY2020-Q3 | B14: ='BMC Service Utilizers'!B14/'All Eligible'!B9 -> 0.00067931486 | C14: ='BMC Service Utilizers'!C14/'All Eligible'!C9 -> 0 | D14: ='BMC Service Utilizers'!D14/'All Eligible'!D9 -> 0.00010566636 | E14: ='BMC Service Utilizers'!E14/'All Eligible'!E9 -> 0.00011377211 | F14: ='BMC Service Utilizers'!F14/'All Eligible'!F9 -> 0 | G14: ='BMC Service Utilizers'!G14/'All Eligible'!G9 -> 0 | H14: ='BMC Service Utilizers'!H14/'All Eligible'!H9 -> 0 | I14: ='BMC Service Utilizers'!I14/'All Eligible'!I9 -> 0 | J14: ='BMC Service Utilizers'!J14/'All Eligible'!J9 -> 0.00012356496
A15: SFY2020-Q4 | B15: ='BMC Service Utilizers'!B15/'All Eligible'!B10 -> 0.0010860327 | C15: ='BMC Service Utilizers'!C15/'All Eligible'!C10 -> 0 | D15: ='BMC Service Utilizers'!D15/'All Eligible'!D10 -> 2.5825112e-05 | E15: ='BMC Service Utilizers'!E15/'All Eligible'!E10 -> 0.00011114507 | F15: ='BMC Service Utilizers'!F15/'All Eligible'!F10 -> 0 | G15: ='BMC Service Utilizers'!G15/'All Eligible'!G10 -> 0 | H15: ='BMC Service Utilizers'!H15/'All Eligible'!H10 -> 0 | I15: ='BMC Service Utilizers'!I15/'All Eligible'!I10 -> 0 | J15: ='BMC Service Utilizers'!J15/'All Eligible'!J10 -> 0.00015388082
A16: 2020 Distinct Utilizers
A17: SFY2021-Q1 | B17: ='BMC Service Utilizers'!B17/'All Eligible'!B12 -> 0.0011932627 | C17: ='BMC Service Utilizers'!C17/'All Eligible'!C12 -> 0 | D17: ='BMC Service Utilizers'!D17/'All Eligible'!D12 -> 0 | E17: ='BMC Service Utilizers'!E17/'All Eligible'!E12 -> 2.711938e-05 | F17: ='BMC Service Utilizers'!F17/'All Eligible'!F12 -> 0 | G17: ='BMC Service Utilizers'!G17/'All Eligible'!G12 -> 0 | H17: ='BMC Service Utilizers'!H17/'All Eligible'!H12 -> 0 | I17: ='BMC Service Utilizers'!I17/'All Eligible'!I12 -> 0 | J17: ='BMC Service Utilizers'!J17/'All Eligible'!J12 -> 0.00014471004
A18: SFY2021-Q2 | B18: ='BMC Service Utilizers'!B18/'All Eligible'!B13 -> 0.001118168 | C18: ='BMC Service Utilizers'!C18/'All Eligible'!C13 -> 0 | D18: ='BMC Service Utilizers'!D18/'All Eligible'!D13 -> 0 | E18: ='BMC Service Utilizers'!E18/'All Eligible'!E13 -> 7.9565044e-05 | F18: ='BMC Service Utilizers'!F18/'All Eligible'!F13 -> 0 | G18: ='BMC Service Utilizers'!G18/'All Eligible'!G13 -> 0 | H18: ='BMC Service Utilizers'!H18/'All Eligible'!H13 -> 0 | I18: ='BMC Service Utilizers'!I18/'All Eligible'!I13 -> 0 | J18: ='BMC Service Utilizers'!J18/'All Eligible'!J13 -> 0.00014735989
A19: SFY2021-Q3 | B19: ='BMC Service Utilizers'!B19/'All Eligible'!B14 -> 0.0014038782 | C19: ='BMC Service Utilizers'!C19/'All Eligible'!C14 -> 0 | D19: ='BMC Service Utilizers'!D19/'All Eligible'!D14 -> 2.4358162e-05 | E19: ='BMC Service Utilizers'!E19/'All Eligible'!E14 -> 0.00031379933 | F19: ='BMC Service Utilizers'!F19/'All Eligible'!F14 -> 0 | G19: ='BMC Service Utilizers'!G19/'All Eligible'!G14 -> 0 | H19: ='BMC Service Utilizers'!H19/'All Eligible'!H14 -> 0 | I19: ='BMC Service Utilizers'!I19/'All Eligible'!I14 -> 0 | J19: ='BMC Service Utilizers'!J19/'All Eligible'!J14 -> 0.00023344729
A20: SFY2021-Q4 | B20: ='BMC Service Utilizers'!B20/'All Eligible'!B15 -> 0.0015985483 | C20: ='BMC Service Utilizers'!C20/'All Eligible'!C15 -> 0 | D20: ='BMC Service Utilizers'!D20/'All Eligible'!D15 -> 7.2172637e-05 | E20: ='BMC Service Utilizers'!E20/'All Eligible'!E15 -> 0.00064724919 | F20: ='BMC Service Utilizers'!F20/'All Eligible'!F15 -> 0 | G20: ='BMC Service Utilizers'!G20/'All Eligible'!G15 -> 0 | H20: ='BMC Service Utilizers'!H20/'All Eligible'!H15 -> 0 | I20: ='BMC Service Utilizers'!I20/'All Eligible'!I15 -> 0.00018903592 | J20: ='BMC Service Utilizers'!J20/'All Eligible'!J15 -> 0.0003331437
A21: 2021 Distinct Utilizers
A22: SFY2022-Q1 | B22: ='BMC Service Utilizers'!B22/'All Eligible'!B17 -> 0.0015043411 | C22: ='BMC Service Utilizers'!C22/'All Eligible'!C17 -> 0 | D22: ='BMC Service Utilizers'!D22/'All Eligible'!D17 -> 0.00014337603 | E22: ='BMC Service Utilizers'!E22/'All Eligible'!E17 -> 0.00061544774 | F22: ='BMC Service Utilizers'!F22/'All Eligible'!F17 -> 0 | G22: ='BMC Service Utilizers'!G22/'All Eligible'!G17 -> 0 | H22: ='BMC Service Utilizers'!H22/'All Eligible'!H17 -> 0 | I22: ='BMC Service Utilizers'!I22/'All Eligible'!I17 -> 0 | J22: ='BMC Service Utilizers'!J22/'All Eligible'!J17 -> 0.00032624598
A23: SFY2022-Q2 | B23: ='BMC Service Utilizers'!B23/'All Eligible'!B18 -> 0.001391407 | C23: ='BMC Service Utilizers'!C23/'All Eligible'!C18 -> 0 | D23: ='BMC Service Utilizers'!D23/'All Eligible'!D18 -> 0.00016608143 | E23: ='BMC Service Utilizers'!E23/'All Eligible'!E18 -> 0.00058303126 | F23: ='BMC Service Utilizers'!F23/'All Eligible'!F18 -> 0 | G23: ='BMC Service Utilizers'!G23/'All Eligible'!G18 -> 0 | H23: ='BMC Service Utilizers'!H23/'All Eligible'!H18 -> 0 | I23: ='BMC Service Utilizers'!I23/'All Eligible'!I18 -> 0 | J23: ='BMC Service Utilizers'!J23/'All Eligible'!J18 -> 0.00031470164
A24: SFY2022-Q3 | B24: ='BMC Service Utilizers'!B24/'All Eligible'!B19 -> 0.0014222371 | C24: ='BMC Service Utilizers'!C24/'All Eligible'!C19 -> 0 | D24: ='BMC Service Utilizers'!D24/'All Eligible'!D19 -> 0.00028115555 | E24: ='BMC Service Utilizers'!E24/'All Eligible'!E19 -> 0.00097955493 | F24: ='BMC Service Utilizers'!F24/'All Eligible'!F19 -> 0 | G24: ='BMC Service Utilizers'!G24/'All Eligible'!G19 -> 0 | H24: ='BMC Service Utilizers'!H24/'All Eligible'!H19 -> 0 | I24: ='BMC Service Utilizers'!I24/'All Eligible'!I19 -> 0 | J24: ='BMC Service Utilizers'!J24/'All Eligible'!J19 -> 0.00042391478
A25: SFY2022-Q4 | B25: ='BMC Service Utilizers'!B25/'All Eligible'!B20 -> 0.002256959 | C25: ='BMC Service Utilizers'!C25/'All Eligible'!C20 -> 0.00011976048 | D25: ='BMC Service Utilizers'!D25/'All Eligible'!D20 -> 0.00037403277 | E25: ='BMC Service Utilizers'!E25/'All Eligible'!E20 -> 0.0011483636 | F25: ='BMC Service Utilizers'!F25/'All Eligible'!F20 -> 0 | G25: ='BMC Service Utilizers'!G25/'All Eligible'!G20 -> 0 | H25: ='BMC Service Utilizers'!H25/'All Eligible'!H20 -> 0 | I25: ='BMC Service Utilizers'!I25/'All Eligible'!I20 -> 0 | J25: ='BMC Service Utilizers'!J25/'All Eligible'!J20 -> 0.00057860556
A26: 2022 Distinct Utilizers
A27: SFY2023-Q1 | B27: ='BMC Service Utilizers'!B27/'All Eligible'!B22 -> 0.0024747371 | C27: ='BMC Service Utilizers'!C27/'All Eligible'!C22 -> 0.00011741223 | D27: ='BMC Service Utilizers'!D27/'All Eligible'!D22 -> 0.00057972359 | E27: ='BMC Service Utilizers'!E27/'All Eligible'!E22 -> 0.0010858835 | F27: ='BMC Service Utilizers'!F27/'All Eligible'!F22 -> 3.5260931e-05 | G27: ='BMC Service Utilizers'!G27/'All Eligible'!G22 -> 0 | H27: ='BMC Service Utilizers'!H27/'All Eligible'!H22 -> 0 | I27: ='BMC Service Utilizers'!I27/'All Eligible'!I22 -> 0 | J27: ='BMC Service Utilizers'!J27/'All Eligible'!J22 -> 0.00064452476
A28: 2023 Distinct Utilizers
F37: f 5

Sheet BMCA Service Utilizer
A1: Behavior Modification and Consultation Assessment
A2: *Please note: Formerly known as Behavior Identification Assessment
A3: Table 1: Behavior Modification and Consultation Assessment - Distinct service utilizers per Region/Quarter
A4: Description: This table displays distinct number of members between the ages of 0 to 17, by quarter who utilized the indicated service between 7/1/2018 to 9/30/2022. Note: Total distinct utilizer count represents an unduplicated (distinct) count of utilizers for the given state fiscal year across all quarters and/or regions combined. Data as of 11/07/2022. Includes Procedure Codes ('97151','97152','0362T')
B5: Region 1 | C5: Region 2 | D5: Region 3 | E5: Region 4 | F5: Region 5 | G5: Region 6 | H5: Region 7 | I5: Region 9 / Out of State | J5: Total
A6: Service Date SFY-Qtr | B6: Distinct Utilizers | C6: Distinct Utilizers | D6: Distinct Utilizers | E6: Distinct Utilizers | F6: Distinct Utilizers | G6: Distinct Utilizers | H6: Distinct Utilizers | I6: Distinct Utilizers | J6: Distinct Utilizers
A7: SFY2019-Q1 | B7: 0 | C7: 0 | D7: 0 | E7: 0 | F7: 0 | G7: 0 | H7: 0 | I7: 0 | J7: 0
A8: SFY2019-Q2 | B8: 0 | C8: 0 | D8: 0 | E8: 0 | F8: 0 | G8: 0 | H8: 0 | I8: 0 | J8: 0
A9: SFY2019-Q3 | B9: 0 | C9: 0 | D9: 0 | E9: 0 | F9: 0 | G9: 0 | H9: 0 | I9: 0 | J9: 0
A10: SFY2019-Q4 | B10: 0 | C10: 0 | D10: 0 | E10: 0 | F10: 0 | G10: 0 | H10: 0 | I10: 0 | J10: 0
A11: 2019 Distinct Utilizers | B11: 0 | C11: 0 | D11: 0 | E11: 0 | F11: 0 | G11: 0 | H11: 0 | I11: 0 | J11: 0
A12: SFY2020-Q1 | B12: 0 | C12: 0 | D12: 2 | E12: 1 | F12: 0 | G12: 0 | H12: 0 | I12: 0 | J12: 3
A13: SFY2020-Q2 | B13: 3 | C13: 0 | D13: 1 | E13: 4 | F13: 1 | G13: 0 | H13: 0 | I13: 0 | J13: 9
A14: SFY2020-Q3 | B14: 11 | C14: 0 | D14: 3 | E14: 5 | F14: 0 | G14: 0 | H14: 0 | I14: 0 | J14: 19
A15: SFY2020-Q4 | B15: 12 | C15: 0 | D15: 0 | E15: 2 | F15: 0 | G15: 0 | H15: 7 | I15: 0 | J15: 21
A16: 2020 Distinct Utilizers | B16: 23 | C16: 0 | D16: 4 | E16: 9 | F16: 1 | G16: 0 | H16: 7 | I16: 0 | J16: 44
A17: SFY2021-Q1 | B17: 10 | C17: 0 | D17: 4 | E17: 2 | F17: 0 | G17: 0 | H17: 4 | I17: 0 | J17: 20
A18: SFY2021-Q2 | B18: 14 | C18: 0 | D18: 2 | E18: 1 | F18: 0 | G18: 0 | H18: 0 | I18: 0 | J18: 17
... A28: 2023 Distinct Utilizers | B28: 40 | C28: 0 | D28: 16 | E28: 46 | F28: 0 | G28: 0 | H28: 0 | I28: 0 | J28: 102

Sheet BMCA Member Utilizer
A1: Behavior Modification and Consultation Assessment
A2: *Please note: Formerly known as Behavior Identification Assessment
A3: Table 1: Behavior Modification and Consultation Assessment - Member Utilization per Region/Quarter
A4: Description: This table displays distinct number of members between the ages of 0 to 17, by quarter who utilized the indicated service between 7/1/2018 to 9/30/2022. Note: Total distinct utilizer count represents an unduplicated (distinct) count of utilizers for the given state fiscal year across all quarters and/or regions combined. Data as of 11/07/2022. Includes Procedure Codes ('97151','97152','0362T')
B5: Region 1 | C5: Region 2 | D5: Region 3 | E5: Region 4 | F5: Region 5 | G5: Region 6 | H5: Region 7 | I5: Region 9 / Out of State | J5: Total
A6: Service Date SFY-Qtr | B6: Member Utilization | C6: Member Utilization | D6: Member Utilization | E6: Member Utilization | F6: Member Utilization | G6: Member Utilization | H6: Member Utilization | I6: Member Utilization | J6: Member Utilization
A7: SFY2019-Q1 | B7: ='BMCA Service Utilizer'!B7/'All Eligible'!B2 -> 0 | C7: ='BMCA Service Utilizer'!C7/'All Eligible'!C2 -> 0 | D7: ='BMCA Service Utilizer'!D7/'All Eligible'!D2 -> 0 | E7: ='BMCA Service Utilizer'!E7/'All Eligible'!E2 -> 0 | F7: ='BMCA Service Utilizer'!F7/'All Eligible'!F2 -> 0 | G7: ='BMCA Service Utilizer'!G7/'All Eligible'!G2 -> 0 | H7: ='BMCA Service Utilizer'!H7/'All Eligible'!H2 -> 0 | I7: ='BMCA Service Utilizer'!I7/'All Eligible'!I2 -> 0 | J7: ='BMCA Service Utilizer'!J7/'All Eligible'!J2 -> 0
A8: SFY2019-Q2 | B8: ='BMCA Service Utilizer'!B8/'All Eligible'!B3 -> 0 | C8: ='BMCA Service Utilizer'!C8/'All Eligible'!C3 -> 0 | D8: ='BMCA Service Utilizer'!D8/'All Eligible'!D3 -> 0 | E8: ='BMCA Service Utilizer'!E8/'All Eligible'!E3 -> 0 | F8: ='BMCA Service Utilizer'!F8/'All Eligible'!F3 -> 0 | G8: ='BMCA Service Utilizer'!G8/'All Eligible'!G3 -> 0 | H8: ='BMCA Service Utilizer'!H8/'All Eligible'!H3 -> 0 | I8: ='BMCA Service Utilizer'!I8/'All Eligible'!I3 -> 0 | J8: ='BMCA Service Utilizer'!J8/'All Eligible'!J3 -> 0
A9: SFY2019-Q3 | B9: ='BMCA Service Utilizer'!B9/'All Eligible'!B4 -> 0 | C9: ='BMCA Service Utilizer'!C9/'All Eligible'!C4 -> 0 | D9: ='BMCA Service Utilizer'!D9/'All Eligible'!D4 -> 0 | E9: ='BMCA Service Utilizer'!E9/'All Eligible'!E4 -> 0 | F9: ='BMCA Service Utilizer'!F9/'All Eligible'!F4 -> 0 | G9: ='BMCA Service Utilizer'!G9/'All Eligible'!G4 -> 0 | H9: ='BMCA Service Utilizer'!H9/'All Eligible'!H4 -> 0 | I9: ='BMCA Service Utilizer'!I9/'All Eligible'!I4 -> 0 | J9: ='BMCA Service Utilizer'!J9/'All Eligible'!J4 -> 0
A10: SFY2019-Q4 | B10: ='BMCA Service Utilizer'!B10/'All Eligible'!B5 -> 0 | C10: ='BMCA Service Utilizer'!C10/'All Eligible'!C5 -> 0 | D10: ='BMCA Service Utilizer'!D10/'All Eligible'!D5 -> 0 | E10: ='BMCA Service Utilizer'!E10/'All Eligible'!E5 -> 0 | F10: ='BMCA Service Utilizer'!F10/'All Eligible'!F5 -> 0 | G10: ='BMCA Service Utilizer'!G10/'All Eligible'!G5 -> 0 | H10: ='BMCA Service Utilizer'!H10/'All Eligible'!H5 -> 0 | I10: ='BMCA Service Utilizer'!I10/'All Eligible'!I5 -> 0 | J10: ='BMCA Service Utilizer'!J10/'All Eligible'!J5 -> 0
A11: 2019 Distinct Utilizers
A12: SFY2020-Q1 | B12: ='BMCA Service Utilizer'!B12/'All Eligible'!B7 -> 0 | C12: ='BMCA Service Utilizer'!C12/'All Eligible'!C7 -> 0 | D12: ='BMCA Service Utilizer'!D12/'All Eligible'!D7 -> 4.8812633e-05 | E12: ='BMCA Service Utilizer'!E12/'All Eligible'!E7 -> 2.6224005e-05 | F12: ='BMCA Service Utilizer'!F12/'All Eligible'!F7 -> 0 | G12: ='BMCA Service Utilizer'!G12/'All Eligible'!G7 -> 0 | H12: ='BMCA Service Utilizer'!H12/'All Eligible'!H7 -> 0 | I12: ='BMCA Service Utilizer'!I12/'All Eligible'!I7 -> 0 | J12: ='BMCA Service Utilizer'!J12/'All Eligible'!J7 -> 1.5592759e-05
A13: SFY2020-Q2 | B13: ='BMCA Service Utilizer'!B13/'All Eligible'!B8 -> 0.00013613468 | C13: ='BMCA Service Utilizer'!C13/'All Eligible'!C8 -> 0 | D13: ='BMCA Service Utilizer'!D13/'All Eligible'!D8 -> 2.4628722e-05 | E13: ='BMCA Service Utilizer'!E13/'All Eligible'!E8 -> 0.00010647359 | F13: ='BMCA Service Utilizer'!F13/'All Eligible'!F8 -> 3.7995365e-05 | G13: ='BMCA Service Utilizer'!G13/'All Eligible'!G8 -> 0 | H13: ='BMCA Service Utilizer'!H13/'All Eligible'!H8 -> 0 | I13: ='BMCA Service Utilizer'!I13/'All Eligible'!I8 -> 0 | J13: ='BMCA Service Utilizer'!J13/'All Eligible'!J8 -> 4.735571e-05
A14: SFY2020-Q3 | B14: ='BMCA Service Utilizer'!B14/'All Eligible'!B9 -> 0.00053374739 | C14: ='BMCA Service Utilizer'!C14/'All Eligible'!C9 -> 0 | D14: ='BMCA Service Utilizer'!D14/'All Eligible'!D9 -> 7.9249769e-05 | E14: ='BMCA Service Utilizer'!E14/'All Eligible'!E9 -> 0.00014221514 | F14: ='BMCA Service Utilizer'!F14/'All Eligible'!F9 -> 0 | G14: ='BMCA Service Utilizer'!G14/'All Eligible'!G9 -> 0 | H14: ='BMCA Service Utilizer'!H14/'All Eligible'!H9 -> 0 | I14: ='BMCA Service Utilizer'!I14/'All Eligible'!I9 -> 0 | J14: ='BMCA Service Utilizer'!J14/'All Eligible'!J9 -> 0.00010671519
A15: SFY2020-Q4 | B15: ='BMCA Service Utilizer'!B15/'All Eligible'!B10 -> 0.00056662574 | C15: ='BMCA Service Utilizer'!C15/'All Eligible'!C10 -> 0 | D15: ='BMCA Service Utilizer'!D15/'All Eligible'!D10 -> 0 | E15: ='BMCA Service Utilizer'!E15/'All Eligible'!E10 -> 5.5572536e-05 | F15: ='BMCA Service Utilizer'!F15/'All Eligible'!F10 -> 0 | G15: ='BMCA Service Utilizer'!G15/'All Eligible'!G10 -> 0 | H15: ='BMCA Service Utilizer'!H15/'All Eligible'!H10 -> 0.00020956829 | I15: ='BMCA Service Utilizer'!I15/'All Eligible'!I10 -> 0 | J15: ='BMCA Service Utilizer'!J15/'All Eligible'!J10 -> 0.00011541061
A16: 2020 Distinct Utilizers
A17: SFY2021-Q1 | B17: ='BMCA Service Utilizer'!B17/'All Eligible'!B12 -> 0.00045894718 | C17: ='BMCA Service Utilizer'!C17/'All Eligible'!C12 -> 0 | D17: ='BMCA Service Utilizer'!D17/'All Eligible'!D12 -> 0.00010094382 | E17: ='BMCA Service Utilizer'!E17/'All Eligible'!E12 -> 5.4238759e-05 | F17: ='BMCA Service Utilizer'!F17/'All Eligible'!F12 -> 0 | G17: ='BMCA Service Utilizer'!G17/'All Eligible'!G12 -> 0 | H17: ='BMCA Service Utilizer'!H17/'All Eligible'!H12 -> 0.00011618113 | I17: ='BMCA Service Utilizer'!I17/'All Eligible'!I12 -> 0 | J17: ='BMCA Service Utilizer'!J17/'All Eligible'!J12 -> 0.00010719263
A18: SFY2021-Q2 | B18: ='BMCA Service Utilizer'!B18/'All Eligible'!B13 -> 0.00062617408 | C18: ='BMCA Service Utilizer'!C18/'All Eligible'!C13 -> 0 | D18: ='BMCA Service Utilizer'!D18/'All Eligible'!D13 -> 4.9408335e-05 | E18: ='BMCA Service Utilizer'!E18/'All Eligible'!E13 -> 2.6521681e-05 | F18: ='BMCA Service Utilizer'!F18/'All Eligible'!F13 -> 0 | G18: ='BMCA Service Utilizer'!G18/'All Eligible'!G13 -> 0 | H18: ='BMCA Service Utilizer'!H18/'All Eligible'!H13 -> 0 | I18: ='BMCA Service Utilizer'!I18/'All Eligible'!I13 -> 0 | J18: ='BMCA Service Utilizer'!J18/'All Eligible'!J13 -> 8.9468504e-05
A19: SFY2021-Q3 | B19: ='BMCA Service Utilizer'!B19/'All Eligible'!B14 -> 0.00092129508 | C19: ='BMCA Service Utilizer'!C19/'All Eligible'!C14 -> 0 | D19: ='BMCA Service Utilizer'!D19/'All Eligible'!D14 -> 4.8716325e-05 | E19: ='BMCA Service Utilizer'!E19/'All Eligible'!E14 -> 0.00031379933 | F19: ='BMCA Service Utilizer'!F19/'All Eligible'!F14 -> 0 | G19: ='BMCA Service Utilizer'!G19/'All Eligible'!G14 -> 0 | H19: ='BMCA Service Utilizer'!H19/'All Eligible'!H14 -> 0 | I19: ='BMCA Service Utilizer'!I19/'All Eligible'!I14 -> 0 | J19: ='BMCA Service Utilizer'!J19/'All Eligible'!J14 -> 0.00018157011
A20: SFY2021-Q4 | B20: ='BMCA Service Utilizer'!B20/'All Eligible'!B15 -> 0.0010801002 | C20: ='BMCA Service Utilizer'!C20/'All Eligible'!C15 -> 0 | D20: ='BMCA Service Utilizer'!D20/'All Eligible'!D15 -> 2.4057546e-05 | E20: ='BMCA Service Utilizer'!E20/'All Eligible'!E15 -> 0.00046601942 | F20: ='BMCA Service Utilizer'!F20/'All Eligible'!F15 -> 0 | G20: ='BMCA Service Utilizer'!G20/'All Eligible'!G15 -> 0 | H20: ='BMCA Service Utilizer'!H20/'All Eligible'!H15 -> 0 | I20: ='BMCA Service Utilizer'!I20/'All Eligible'!I15 -> 0 | J20: ='BMCA Service Utilizer'!J20/'All Eligible'!J15 -> 0.00022551266
A21: 2021 Distinct Utilizers
A22: SFY2022-Q1 | B22: ='BMCA Service Utilizer'!B22/'All Eligible'!B17 -> 0.00085962348 | C22: ='BMCA Service Utilizer'!C22/'All Eligible'!C17 -> 0 | D22: ='BMCA Service Utilizer'!D22/'All Eligible'!D17 -> 0.00011948002 | E22: ='BMCA Service Utilizer'!E22/'All Eligible'!E17 -> 0.00069237871 | F22: ='BMCA Service Utilizer'!F22/'All Eligible'!F17 -> 0 | G22: ='BMCA Service Utilizer'!G22/'All Eligible'!G17 -> 0 | H22: ='BMCA Service Utilizer'!H22/'All Eligible'!H17 -> 0 | I22: ='BMCA Service Utilizer'!I22/'All Eligible'!I17 -> 0 | J22: ='BMCA Service Utilizer'!J22/'All Eligible'!J17 -> 0.00026507486
A23: SFY2022-Q2 | B23: ='BMCA Service Utilizer'!B23/'All Eligible'!B18 -> 0.00096976852 | C23: ='BMCA Service Utilizer'!C23/'All Eligible'!C18 -> 0 | D23: ='BMCA Service Utilizer'!D23/'All Eligible'!D18 -> 0.00011862959 | E23: ='BMCA Service Utilizer'!E23/'All Eligible'!E18 -> 0.00070977718 | F23: ='BMCA Service Utilizer'!F23/'All Eligible'!F18 -> 0 | G23: ='BMCA Service Utilizer'!G23/'All Eligible'!G18 -> 0 | H23: ='BMCA Service Utilizer'!H23/'All Eligible'!H18 -> 0 | I23: ='BMCA Service Utilizer'!I23/'All Eligible'!I18 -> 0 | J23: ='BMCA Service Utilizer'!J23/'All Eligible'!J18 -> 0.00028424664
A24: SFY2022-Q3 | B24: ='BMCA Service Utilizer'!B24/'All Eligible'!B19 -> 0.0010457626 | C24: ='BMCA Service Utilizer'!C24/'All Eligible'!C19 -> 0 | D24: ='BMCA Service Utilizer'!D24/'All Eligible'!D19 -> 0.00028115555 | E24: ='BMCA Service Utilizer'!E24/'All Eligible'!E19 -> 0.00092932134 | F24: ='BMCA Service Utilizer'!F24/'All Eligible'!F19 -> 0 | G24: ='BMCA Service Utilizer'!G24/'All Eligible'!G19 -> 0 | H24: ='BMCA Service Utilizer'!H24/'All Eligible'!H19 -> 0 | I24: ='BMCA Service Utilizer'!I24/'All Eligible'!I19 -> 0 | J24: ='BMCA Service Utilizer'!J24/'All Eligible'!J19 -> 0.00036905522
A25: SFY2022-Q4 | B25: ='BMCA Service Utilizer'!B25/'All Eligible'!B20 -> 0.0015882304 | C25: ='BMCA Service Utilizer'!C25/'All Eligible'!C20 -> 0.00011976048 | D25: ='BMCA Service Utilizer'!D25/'All Eligible'!D20 -> 0.00025714753 | E25: ='BMCA Service Utilizer'!E25/'All Eligible'!E20 -> 0.001173328 | F25: ='BMCA Service Utilizer'!F25/'All Eligible'!F20 -> 0 | G25: ='BMCA Service Utilizer'!G25/'All Eligible'!G20 -> 0 | H25: ='BMCA Service Utilizer'!H25/'All Eligible'!H20 -> 0 | I25: ='BMCA Service Utilizer'!I25/'All Eligible'!I20 -> 0 | J25: ='BMCA Service Utilizer'!J25/'All Eligible'!J20 -> 0.00047884598
A26: 2022 Distinct Utilizers
A27: SFY2023-Q1 | B27: ='BMCA Service Utilizer'!B27/'All Eligible'!B22 -> 0.0016498247 | C27: ='BMCA Service Utilizer'!C27/'All Eligible'!C22 -> 0 | D27: ='BMCA Service Utilizer'!D27/'All Eligible'!D22 -> 0.0003710231 | E27: ='BMCA Service Utilizer'!E27/'All Eligible'!E22 -> 0.0011352419 | F27: ='BMCA Service Utilizer'!F27/'All Eligible'!F22 -> 0 | G27: ='BMCA Service Utilizer'!G27/'All Eligible'!G22 -> 0 | H27: ='BMCA Service Utilizer'!H27/'All Eligible'!H22 -> 0 | I27: ='BMCA Service Utilizer'!I27/'All Eligible'!I22 -> 0 | J27: ='BMCA Service Utilizer'!J27/'All Eligible'!J22 -> 0.00050570404
A28: 2023 Distinct Utilizers

Sheet CANS Asmt Service Utilizer
A1: CANS Assessment
A2: Table 1: CANS Assessment - Distinct service utilizers per Region/Quarter
A3: Description: This table displays distinct number of members between the ages of 0 to 17, by quarter who utilized the indicated service between 7/1/2018 to 9/30/2022. Note: Total distinct utilizer count represents an unduplicated (distinct) count of utilizers for the given state fiscal year across all quarters and/or regions combined. Data as of 11/07/2022. Includes Procedure Code ('H0031') Member < Age 18
B4: Region 1 | C4: Region 2 | D4: Region 3 | E4: Region 4 | F4: Region 5 | G4: Region 6 | H4: Region 7 | I4: Region 9 / Out of State | J4: Total
A5: Service Date SFY-Qtr | B5: Distinct Utilizers | C5: Distinct Utilizers | D5: Distinct Utilizers | E5: Distinct Utilizers | F5: Distinct Utilizers | G5: Distinct Utilizers | H5: Distinct Utilizers | I5: Distinct Utilizers | J5: Distinct Utilizers
A6: SFY2019-Q1 | B6: 189 | C6: 107 | D6: 155 | E6: 199 | F6: 52 | G6: 8 | H6: 351 | I6: 2 | J6: 1063
A7: SFY2019-Q2 | B7: 248 | C7: 85 | D7: 317 | E7: 361 | F7: 77 | G7: 26 | H7: 458 | I7: 4 | J7: 1576
A8: SFY2019-Q3 | B8: 324 | C8: 123 | D8: 424 | E8: 586 | F8: 120 | G8: 34 | H8: 716 | I8: 3 | J8: 2329
A9: SFY2019-Q4 | B9: 367 | C9: 163 | D9: 853 | E9: 969 | F9: 327 | G9: 161 | H9: 881 | I9: 5 | J9: 3724
A10: 2019 Distinct Utilizers | B10: 736 | C10: 308 | D10: 1180 | E10: 1365 | F10: 489 | G10: 193 | H10: 1526 | I10: 10 | J10: 5779
A11: SFY2020-Q1 | B11: 682 | C11: 187 | D11: 1511 | E11: 1690 | F11: 563 | G11: 329 | H11: 1380 | I11: 19 | J11: 6357
A12: SFY2020-Q2 | B12: 629 | C12: 185 | D12: 1597 | E12: 1832 | F12: 631 | G12: 358 | H12: 1379 | I12: 16 | J12: 6626
A13: SFY2020-Q3 | B13: 752 | C13: 229 | D13: 1594 | E13: 1726 | F13: 724 | G13: 431 | H13: 1542 | I13: 8 | J13: 7005
A14: SFY2020-Q4 | B14: 616 | C14: 151 | D14: 1193 | E14: 1439 | F14: 521 | G14: 405 | H14: 1262 | I14: 8 | J14: 5593
A15: 2020 Distinct Utilizers | B15: 1421 | C15: 423 | D15: 3169 | E15: 3591 | F15: 1406 | G15: 856 | H15: 3018 | I15: 35 | J15: 13775
A16: SFY2021-Q1 | B16: 701 | C16: 174 | D16: 1233 | E16: 1550 | F16: 565 | G16: 378 | H16: 1385 | I16: 18 | J16: 5999
A17: SFY2021-Q2 | B17: 706 | C17: 97 | D17: 1360 | E17: 1655 | F17: 673 | G17: 363 | H17: 1457 | I17: 9 | J17: 6316
... A27: 2023 Distinct Utilizers | B27: 509 | C27: 150 | D27: 1226 | E27: 1538 | F27: 496 | G27: 330 | H27: 1408 | I27: 9 | J27: 5663

Sheet CANS Asmt Member Utilizer
A1: CANS Assessment
A2: Table 1: CANS Assessment - Member Utilization per Region/Quarter
A3: Description: This table displays distinct number of members between the ages of 0 to 17, by quarter who utilized the indicated service between 7/1/2018 to 9/30/2022. Note: Total distinct utilizer count represents an unduplicated (distinct) count of utilizers for the given state fiscal year across all quarters and/or regions combined. Data as of 11/07/2022. Includes Procedure Code ('H0031')Member < Age 18
B4: Region 1 | C4: Region 2 | D4: Region 3 | E4: Region 4 | F4: Region 5 | G4: Region 6 | H4: Region 7 | I4: Region 9 / Out of State | J4: Total
A5: Service Date SFY-Qtr | B5: Member Utilization | C5: Member Utilization | D5: Member Utilization | E5: Member Utilization | F5: Member Utilization | G5: Member Utilization | H5: Member Utilization | I5: Member Utilization | J5: Member Utilization | P5: CANS Member Utilizer
A6: SFY2019-Q1 | B6: ='CANS Asmt Service Utilizer'!B6/'All Eligible'!B2 -> 0.0082536355 | C6: ='CANS Asmt Service Utilizer'!C6/'All Eligible'!C2 -> 0.013614964 | D6: ='CANS Asmt Service Utilizer'!D6/'All Eligible'!D2 -> 0.0036007991 | E6: ='CANS Asmt Service Utilizer'!E6/'All Eligible'!E2 -> 0.0050368271 | F6: ='CANS Asmt Service Utilizer'!F6/'All Eligible'!F2 -> 0.0019068574 | G6: ='CANS Asmt Service Utilizer'!G6/'All Eligible'!G2 -> 0.00054425471 | H6: ='CANS Asmt Service Utilizer'!H6/'All Eligible'!H2 -> 0.0097087379 | I6: ='CANS Asmt Service Utilizer'!I6/'All Eligible'!I2 -> 0.000232369 | J6: ='CANS Asmt Service Utilizer'!J6/'All Eligible'!J2 -> 0.0053138841
A7: SFY2019-Q2 | B7: ='CANS Asmt Service Utilizer'!B7/'All Eligible'!B3 -> 0.010687812 | C7: ='CANS Asmt Service Utilizer'!C7/'All Eligible'!C3 -> 0.010745891 | D7: ='CANS Asmt Service Utilizer'!D7/'All Eligible'!D3 -> 0.0072980937 | E7: ='CANS Asmt Service Utilizer'!E7/'All Eligible'!E3 -> 0.0090451254 | F7: ='CANS Asmt Service Utilizer'!F7/'All Eligible'!F3 -> 0.0027937015 | G7: ='CANS Asmt Service Utilizer'!G7/'All Eligible'!G3 -> 0.0017493104 | H7: ='CANS Asmt Service Utilizer'!H7/'All Eligible'!H3 -> 0.012547945 | I7: ='CANS Asmt Service Utilizer'!I7/'All Eligible'!I3 -> 0.00051085568 | J7: ='CANS Asmt Service Utilizer'!J7/'All Eligible'!J3 -> 0.0078323791
A8: SFY2019-Q3 | B8: ='CANS Asmt Service Utilizer'!B8/'All Eligible'!B4 -> 0.014464286 | C8: ='CANS Asmt Service Utilizer'!C8/'All Eligible'!C4 -> 0.015994798 | D8: ='CANS Asmt Service Utilizer'!D8/'All Eligible'!D4 -> 0.010209979 | E8: ='CANS Asmt Service Utilizer'!E8/'All Eligible'!E4 -> 0.015274737 | F8: ='CANS Asmt Service Utilizer'!F8/'All Eligible'!F4 -> 0.0045065345 | G8: ='CANS Asmt Service Utilizer'!G8/'All Eligible'!G4 -> 0.0023632446 | H8: ='CANS Asmt Service Utilizer'!H8/'All Eligible'!H4 -> 0.020343799 | I8: ='CANS Asmt Service Utilizer'!I8/'All Eligible'!I4 -> 0.00039808917 | J8: ='CANS Asmt Service Utilizer'!J8/'All Eligible'!J4 -> 0.01202201
A9: SFY2019-Q4 | B9: ='CANS Asmt Service Utilizer'!B9/'All Eligible'!B5 -> 0.016168113 | C9: ='CANS Asmt Service Utilizer'!C9/'All Eligible'!C5 -> 0.021018698 | D9: ='CANS Asmt Service Utilizer'!D9/'All Eligible'!D5 -> 0.020287304 | E9: ='CANS Asmt Service Utilizer'!E9/'All Eligible'!E5 -> 0.024991618 | F9: ='CANS Asmt Service Utilizer'!F9/'All Eligible'!F5 -> 0.01209946 | G9: ='CANS Asmt Service Utilizer'!G9/'All Eligible'!G5 -> 0.01109121 | H9: ='CANS Asmt Service Utilizer'!H9/'All Eligible'!H5 -> 0.024637154 | I9: ='CANS Asmt Service Utilizer'!I9/'All Eligible'!I5 -> 0.00067033114 | J9: ='CANS Asmt Service Utilizer'!J9/'All Eligible'!J5 -> 0.018996802
A10: 2019 Distinct Utilizers
A11: SFY2020-Q1 | B11: ='CANS Asmt Service Utilizer'!B11/'All Eligible'!B7 -> 0.030540504 | C11: ='CANS Asmt Service Utilizer'!C11/'All Eligible'!C7 -> 0.024345788 | D11: ='CANS Asmt Service Utilizer'!D11/'All Eligible'!D7 -> 0.036877944 | E11: ='CANS Asmt Service Utilizer'!E11/'All Eligible'!E7 -> 0.044318569 | F11: ='CANS Asmt Service Utilizer'!F11/'All Eligible'!F7 -> 0.02124849 | G11: ='CANS Asmt Service Utilizer'!G11/'All Eligible'!G7 -> 0.023094202 | H11: ='CANS Asmt Service Utilizer'!H11/'All Eligible'!H7 -> 0.039156712 | I11: ='CANS Asmt Service Utilizer'!I11/'All Eligible'!I7 -> 0.0026048807 | J11: ='CANS Asmt Service Utilizer'!J11/'All Eligible'!J7 -> 0.033041056
A12: SFY2020-Q2 | B12: ='CANS Asmt Service Utilizer'!B12/'All Eligible'!B8 -> 0.028542905 | C12: ='CANS Asmt Service Utilizer'!C12/'All Eligible'!C8 -> 0.024322903 | D12: ='CANS Asmt Service Utilizer'!D12/'All Eligible'!D8 -> 0.039332069 | E12: ='CANS Asmt Service Utilizer'!E12/'All Eligible'!E8 -> 0.048764906 | F12: ='CANS Asmt Service Utilizer'!F12/'All Eligible'!F8 -> 0.023975075 | G12: ='CANS Asmt Service Utilizer'!G12/'All Eligible'!G8 -> 0.025098149 | H12: ='CANS Asmt Service Utilizer'!H12/'All Eligible'!H8 -> 0.039352777 | I12: ='CANS Asmt Service Utilizer'!I12/'All Eligible'!I8 -> 0.0024198427 | J12: ='CANS Asmt Service Utilizer'!J12/'All Eligible'!J8 -> 0.034864326
A13: SFY2020-Q3 | B13: ='CANS Asmt Service Utilizer'!B13/'All Eligible'!B9 -> 0.036488913 | C13: ='CANS Asmt Service Utilizer'!C13/'All Eligible'!C9 -> 0.031978774 | D13: ='CANS Asmt Service Utilizer'!D13/'All Eligible'!D9 -> 0.042108044 | E13: ='CANS Asmt Service Utilizer'!E13/'All Eligible'!E9 -> 0.049092667 | F13: ='CANS Asmt Service Utilizer'!F13/'All Eligible'!F9 -> 0.029427306 | G13: ='CANS Asmt Service Utilizer'!G13/'All Eligible'!G9 -> 0.03216658 | H13: ='CANS Asmt Service Utilizer'!H13/'All Eligible'!H9 -> 0.046996434 | I13: ='CANS Asmt Service Utilizer'!I13/'All Eligible'!I9 -> 0.0012406948 | J13: ='CANS Asmt Service Utilizer'!J13/'All Eligible'!J9 -> 0.039344207
A14: SFY2020-Q4 | B14: ='CANS Asmt Service Utilizer'!B14/'All Eligible'!B10 -> 0.029086788 | C14: ='CANS Asmt Service Utilizer'!C14/'All Eligible'!C10 -> 0.02058623 | D14: ='CANS Asmt Service Utilizer'!D14/'All Eligible'!D10 -> 0.030809359 | E14: ='CANS Asmt Service Utilizer'!E14/'All Eligible'!E10 -> 0.03998444 | F14: ='CANS Asmt Service Utilizer'!F14/'All Eligible'!F10 -> 0.020690203 | G14: ='CANS Asmt Service Utilizer'!G14/'All Eligible'!G10 -> 0.029401089 | H14: ='CANS Asmt Service Utilizer'!H14/'All Eligible'!H10 -> 0.037782169 | I14: ='CANS Asmt Service Utilizer'!I14/'All Eligible'!I10 -> 0.0012545084 | J14: ='CANS Asmt Service Utilizer'!J14/'All Eligible'!J10 -> 0.030737694
A15: 2020 Distinct Utilizers
A16: SFY2021-Q1 | B16: ='CANS Asmt Service Utilizer'!B16/'All Eligible'!B12 -> 0.032172197 | C16: ='CANS Asmt Service Utilizer'!C16/'All Eligible'!C12 -> 0.023043306 | D16: ='CANS Asmt Service Utilizer'!D16/'All Eligible'!D12 -> 0.031115934 | E16: ='CANS Asmt Service Utilizer'!E16/'All Eligible'!E12 -> 0.042035038 | F16: ='CANS Asmt Service Utilizer'!F16/'All Eligible'!F12 -> 0.021848415 | G16: ='CANS Asmt Service Utilizer'!G16/'All Eligible'!G12 -> 0.026674194 | H16: ='CANS Asmt Service Utilizer'!H16/'All Eligible'!H12 -> 0.040227715 | I16: ='CANS Asmt Service Utilizer'!I16/'All Eligible'!I12 -> 0.002866242 | J16: ='CANS Asmt Service Utilizer'!J16/'All Eligible'!J12 -> 0.032152428
A17: SFY2021-Q2 | B17: ='CANS Asmt Service Utilizer'!B17/'All Eligible'!B13 -> 0.031577064 | C17: ='CANS Asmt Service Utilizer'!C17/'All Eligible'!C13 -> 0.012522592 | D17: ='CANS Asmt Service Utilizer'!D17/'All Eligible'!D13 -> 0.033597668 | E17: ='CANS Asmt Service Utilizer'!E17/'All Eligible'!E13 -> 0.043893383 | F17: ='CANS Asmt Service Utilizer'!F17/'All Eligible'!F13 -> 0.02541061 | G17: ='CANS Asmt Service Utilizer'!G17/'All Eligible'!G13 -> 0.025119369 | H17: ='CANS Asmt Service Utilizer'!H17/'All Eligible'!H13 -> 0.0414356 | I17: ='CANS Asmt Service Utilizer'!I17/'All Eligible'!I13 -> 0.0016002845 | J17: ='CANS Asmt Service Utilizer'!J17/'All Eligible'!J13 -> 0.033240181
A18: SFY2021-Q3 | B18: ='CANS Asmt Service Utilizer'!B18/'All Eligible'!B14 -> 0.032113714 | C18: ='CANS Asmt Service Utilizer'!C18/'All Eligible'!C14 -> 0.012895812 | D18: ='CANS Asmt Service Utilizer'!D18/'All Eligible'!D14 -> 0.033736055 | E18: ='CANS Asmt Service Utilizer'!E18/'All Eligible'!E14 -> 0.045004053 | F18: ='CANS Asmt Service Utilizer'!F18/'All Eligible'!F14 -> 0.026893319 | G18: ='CANS Asmt Service Utilizer'!G18/'All Eligible'!G14 -> 0.028334014 | H18: ='CANS Asmt Service Utilizer'!H18/'All Eligible'!H14 -> 0.047351659 | I18: ='CANS Asmt Service Utilizer'!I18/'All Eligible'!I14 -> 0.0016423358 | J18: ='CANS Asmt Service Utilizer'!J18/'All Eligible'!J14 -> 0.035177913
A19: SFY2021-Q4 | B19: ='CANS Asmt Service Utilizer'!B19/'All Eligible'!B15 -> 0.02942193 | C19: ='CANS Asmt Service Utilizer'!C19/'All Eligible'!C15 -> 0.017812343 | D19: ='CANS Asmt Service Utilizer'!D19/'All Eligible'!D15 -> 0.033873024 | E19: ='CANS Asmt Service Utilizer'!E19/'All Eligible'!E15 -> 0.045825243 | F19: ='CANS Asmt Service Utilizer'!F19/'All Eligible'!F15 -> 0.026525882 | G19: ='CANS Asmt Service Utilizer'!G19/'All Eligible'!G15 -> 0.025387205 | H19: ='CANS Asmt Service Utilizer'!H19/'All Eligible'!H15 -> 0.044161184 | I19: ='CANS Asmt Service Utilizer'!I19/'All Eligible'!I15 -> 0.0030245747 | J19: ='CANS Asmt Service Utilizer'!J19/'All Eligible'!J15 -> 0.034436808
A20: 2021 Distinct Utilizers
A21: SFY2022-Q1 | B21: ='CANS Asmt Service Utilizer'!B21/'All Eligible'!B17 -> 0.025229949 | C21: ='CANS Asmt Service Utilizer'!C21/'All Eligible'!C17 -> 0.016360932 | D21: ='CANS Asmt Service Utilizer'!D21/'All Eligible'!D17 -> 0.029296502 | E21: ='CANS Asmt Service Utilizer'!E21/'All Eligible'!E17 -> 0.042004308 | F21: ='CANS Asmt Service Utilizer'!F21/'All Eligible'!F17 -> 0.026818663 | G21: ='CANS Asmt Service Utilizer'!G21/'All Eligible'!G17 -> 0.026233645 | H21: ='CANS Asmt Service Utilizer'!H21/'All Eligible'!H17 -> 0.03918762 | I21: ='CANS Asmt Service Utilizer'!I21/'All Eligible'!I17 -> 0.0022026432 | J21: ='CANS Asmt Service Utilizer'!J21/'All Eligible'!J17 -> 0.031447054
A22: SFY2022-Q2 | B22: ='CANS Asmt Service Utilizer'!B22/'All Eligible'!B18 -> 0.023906902 | C22: ='CANS Asmt Service Utilizer'!C22/'All Eligible'!C18 -> 0.015867204 | D22: ='CANS Asmt Service Utilizer'!D22/'All Eligible'!D18 -> 0.031579197 | E22: ='CANS Asmt Service Utilizer'!E22/'All Eligible'!E18 -> 0.043321757 | F22: ='CANS Asmt Service Utilizer'!F22/'All Eligible'!F18 -> 0.021411807 | G22: ='CANS Asmt Service Utilizer'!G22/'All Eligible'!G18 -> 0.02212766 | H22: ='CANS Asmt Service Utilizer'!H22/'All Eligible'!H18 -> 0.037106985 | I22: ='CANS Asmt Service Utilizer'!I22/'All Eligible'!I18 -> 0.0037402244 | J22: ='CANS Asmt Service Utilizer'!J22/'All Eligible'!J18 -> 0.030825533
A23: SFY2022-Q3 | B23: ='CANS Asmt Service Utilizer'!B23/'All Eligible'!B19 -> 0.028361081 | C23: ='CANS Asmt Service Utilizer'!C23/'All Eligible'!C19 -> 0.018636528 | D23: ='CANS Asmt Service Utilizer'!D23/'All Eligible'!D19 -> 0.035542747 | E23: ='CANS Asmt Service Utilizer'!E23/'All Eligible'!E19 -> 0.044456724 | F23: ='CANS Asmt Service Utilizer'!F23/'All Eligible'!F19 -> 0.020493562 | G23: ='CANS Asmt Service Utilizer'!G23/'All Eligible'!G19 -> 0.02210159 | H23: ='CANS Asmt Service Utilizer'!H23/'All Eligible'!H19 -> 0.039900118 | I23: ='CANS Asmt Service Utilizer'!I23/'All Eligible'!I19 -> 0.0030127462 | J23: ='CANS Asmt Service Utilizer'!J23/'All Eligible'!J19 -> 0.032736195
A24: SFY2022-Q4 | B24: ='CANS Asmt Service Utilizer'!B24/'All Eligible'!B20 -> 0.025662459 | C24: ='CANS Asmt Service Utilizer'!C24/'All Eligible'!C20 -> 0.019401198 | D24: ='CANS Asmt Service Utilizer'!D24/'All Eligible'!D20 -> 0.030974589 | E24: ='CANS Asmt Service Utilizer'!E24/'All Eligible'!E20 -> 0.042314702 | F24: ='CANS Asmt Service Utilizer'!F24/'All Eligible'!F20 -> 0.020416148 | G24: ='CANS Asmt Service Utilizer'!G24/'All Eligible'!G20 -> 0.02431222 | H24: ='CANS Asmt Service Utilizer'!H24/'All Eligible'!H20 -> 0.039781591 | I24: ='CANS Asmt Service Utilizer'!I24/'All Eligible'!I20 -> 0.0041048311 | J24: ='CANS Asmt Service Utilizer'!J24/'All Eligible'!J20 -> 0.031349448
A25: 2022 Distinct Utilizers
A26: SFY2023-Q1 | B26: ='CANS Asmt Service Utilizer'!B26/'All Eligible'!B22 -> 0.020994019 | C26: ='CANS Asmt Service Utilizer'!C26/'All Eligible'!C22 -> 0.017611835 | D26: ='CANS Asmt Service Utilizer'!D26/'All Eligible'!D22 -> 0.028429645 | E26: ='CANS Asmt Service Utilizer'!E26/'All Eligible'!E22 -> 0.037956565 | F26: ='CANS Asmt Service Utilizer'!F26/'All Eligible'!F22 -> 0.017489422 | G26: ='CANS Asmt Service Utilizer'!G26/'All Eligible'!G22 -> 0.020864947 | H26: ='CANS Asmt Service Utilizer'!H26/'All Eligible'!H22 -> 0.036106267 | I26: ='CANS Asmt Service Utilizer'!I26/'All Eligible'!I22 -> 0.0042432815 | J26: ='CANS Asmt Service Utilizer'!J26/'All Eligible'!J22 -> 0.02807649
A27: 2023 Distinct Utilizers

Sheet Case Mgmt Service Utilizer
A1: Case Management
A2: Table 1: Case Management - Distinct service utilizers per Region/Quarter
A3: Description: This table displays distinct number of members between the ages of 0 to 17, by quarter who utilized the indicated service between 7/1/2018 to 9/30/2022. Note: Total distinct utilizer count represents an unduplicated (distinct) count of utilizers for the given state fiscal year across all quarters and/or regions combined. Data as of 11/07/2022. Includes Procedure Code 'T1017' and 'T1016'
B4: Region 1 | C4: Region 2 | D4: Region 3 | E4: Region 4 | F4: Region 5 | G4: Region 6 | H4: Region 7 | I4: Region 9 / Out of State | J4: Total
A5: Service Date SFY-Qtr | B5: Distinct Utilizers | C5: Distinct Utilizers | D5: Distinct Utilizers | E5: Distinct Utilizers | F5: Distinct Utilizers | G5: Distinct Utilizers | H5: Distinct Utilizers | I5: Distinct Utilizers | J5: Distinct Utilizers
A6: SFY2019-Q1 | B6: 68 | C6: 31 | D6: 210 | E6: 347 | F6: 21 | G6: 75 | H6: 991 | I6: 2 | J6: 1733
A7: SFY2019-Q2 | B7: 60 | C7: 27 | D7: 206 | E7: 352 | F7: 20 | G7: 70 | H7: 969 | I7: 3 | J7: 1702
A8: SFY2019-Q3 | B8: 48 | C8: 27 | D8: 205 | E8: 370 | F8: 16 | G8: 54 | H8: 951 | I8: 4 | J8: 1670
A9: SFY2019-Q4 | B9: 32 | C9: 21 | D9: 216 | E9: 378 | F9: 17 | G9: 74 | H9: 950 | I9: 1 | J9: 1684
A10: 2019 Distinct Utilizers | B10: 102 | C10: 58 | D10: 382 | E10: 635 | F10: 55 | G10: 142 | H10: 1468 | I10: 9 | J10: 2809
A11: SFY2020-Q1 | B11: 19 | C11: 16 | D11: 153 | E11: 310 | F11: 26 | G11: 74 | H11: 877 | I11: 3 | J11: 1473
A12: SFY2020-Q2 | B12: 19 | C12: 23 | D12: 147 | E12: 257 | F12: 18 | G12: 70 | H12: 714 | I12: 0 | J12: 1238
A13: SFY2020-Q3 | B13: 50 | C13: 17 | D13: 182 | E13: 368 | F13: 58 | G13: 89 | H13: 743 | I13: 2 | J13: 1502
A14: SFY2020-Q4 | B14: 84 | C14: 25 | D14: 220 | E14: 381 | F14: 45 | G14: 89 | H14: 689 | I14: 0 | J14: 1530
A15: 2020 Distinct Utilizers | B15: 99 | C15: 57 | D15: 373 | E15: 661 | F15: 93 | G15: 181 | H15: 1369 | I15: 5 | J15: 2809
A16: SFY2021-Q1 | B16: 119 | C16: 23 | D16: 209 | E16: 389 | F16: 76 | G16: 84 | H16: 645 | I16: 3 | J16: 1536
A17: SFY2021-Q2 | B17: 127 | C17: 29 | D17: 198 | E17: 337 | F17: 142 | G17: 73 | H17: 606 | I17: 3 | J17: 1503
... A27: 2023 Distinct Utilizers | B27: 39 | C27: 28 | D27: 161 | E27: 272 | F27: 117 | G27: 98 | H27: 585 | I27: 0 | J27: 1297

Sheet Case Mgmt Member Utilizer
A1: Case Management
A2: Table 1: Case Management - Member Utilization per Region/Quarter
A3: Description: This table displays distinct number of members between the ages of 0 to 17, by quarter who utilized the indicated service between 7/1/2018 to 9/30/2022. Note: Total distinct utilizer count represents an unduplicated (distinct) count of utilizers for the given state fiscal year across all quarters and/or regions combined. Data as of 11/07/2022. Includes Procedure Code 'T1017' and 'T1016'
B4: Region 1 | C4: Region 2 | D4: Region 3 | E4: Region 4 | F4: Region 5 | G4: Region 6 | H4: Region 7 | I4: Region 9 / Out of State | J4: Total
A5: Service Date SFY-Qtr | B5: Member Utilization | C5: Member Utilization | D5: Member Utilization | E5: Member Utilization | F5: Member Utilization | G5: Member Utilization | H5: Member Utilization | I5: Member Utilization | J5: Member Utilization
A6: SFY2019-Q1 | B6: ='Case Mgmt Service Utilizer'!B6/'All Eligible'!B2 -> 0.002969562 | C6: ='Case Mgmt Service Utilizer'!C6/'All Eligible'!C2 -> 0.0039445222 | D6: ='Case Mgmt Service Utilizer'!D6/'All Eligible'!D2 -> 0.0048785021 | E6: ='Case Mgmt Service Utilizer'!E6/'All Eligible'!E2 -> 0.008782809 | F6: ='Case Mgmt Service Utilizer'!F6/'All Eligible'!F2 -> 0.00077007701 | G6: ='Case Mgmt Service Utilizer'!G6/'All Eligible'!G2 -> 0.0051023879 | H6: ='Case Mgmt Service Utilizer'!H6/'All Eligible'!H2 -> 0.02741128 | I6: ='Case Mgmt Service Utilizer'!I6/'All Eligible'!I2 -> 0.000232369 | J6: ='Case Mgmt Service Utilizer'!J6/'All Eligible'!J2 -> 0.0086631807
A7: SFY2019-Q2 | B7: ='Case Mgmt Service Utilizer'!B7/'All Eligible'!B3 -> 0.0025857611 | C7: ='Case Mgmt Service Utilizer'!C7/'All Eligible'!C3 -> 0.0034134008 | D7: ='Case Mgmt Service Utilizer'!D7/'All Eligible'!D3 -> 0.0047426098 | E7: ='Case Mgmt Service Utilizer'!E7/'All Eligible'!E3 -> 0.0088196237 | F7: ='Case Mgmt Service Utilizer'!F7/'All Eligible'!F3 -> 0.00072563675 | G7: ='Case Mgmt Service Utilizer'!G7/'All Eligible'!G3 -> 0.0047096818 | H7: ='Case Mgmt Service Utilizer'!H7/'All Eligible'!H3 -> 0.026547945 | I7: ='Case Mgmt Service Utilizer'!I7/'All Eligible'!I3 -> 0.00038314176 | J7: ='Case Mgmt Service Utilizer'!J7/'All Eligible'!J3 -> 0.0084585719
A8: SFY2019-Q3 | B8: ='Case Mgmt Service Utilizer'!B8/'All Eligible'!B4 -> 0.0021428571 | C8: ='Case Mgmt Service Utilizer'!C8/'All Eligible'!C4 -> 0.0035110533 | D8: ='Case Mgmt Service Utilizer'!D8/'All Eligible'!D4 -> 0.0049364284 | E8: ='Case Mgmt Service Utilizer'!E8/'All Eligible'!E4 -> 0.0096444583 | F8: ='Case Mgmt Service Utilizer'!F8/'All Eligible'!F4 -> 0.00060087126 | G8: ='Case Mgmt Service Utilizer'!G8/'All Eligible'!G4 -> 0.0037533885 | H8: ='Case Mgmt Service Utilizer'!H8/'All Eligible'!H4 -> 0.027020884 | I8: ='Case Mgmt Service Utilizer'!I8/'All Eligible'!I4 -> 0.00053078556 | J8: ='Case Mgmt Service Utilizer'!J8/'All Eligible'!J4 -> 0.0086203337
A9: SFY2019-Q4 | B9: ='Case Mgmt Service Utilizer'!B9/'All Eligible'!B5 -> 0.0014097537 | C9: ='Case Mgmt Service Utilizer'!C9/'All Eligible'!C5 -> 0.0027079304 | D9: ='Case Mgmt Service Utilizer'!D9/'All Eligible'!D5 -> 0.0051372307 | E9: ='Case Mgmt Service Utilizer'!E9/'All Eligible'!E5 -> 0.0097490522 | F9: ='Case Mgmt Service Utilizer'!F9/'All Eligible'!F5 -> 0.0006290239 | G9: ='Case Mgmt Service Utilizer'!G9/'All Eligible'!G5 -> 0.0050978231 | H9: ='Case Mgmt Service Utilizer'!H9/'All Eligible'!H5 -> 0.026566738 | I9: ='Case Mgmt Service Utilizer'!I9/'All Eligible'!I5 -> 0.00013406623 | J9: ='Case Mgmt Service Utilizer'!J9/'All Eligible'!J5 -> 0.0085903904
A10: 2019 Distinct Utilizers
A11: SFY2020-Q1 | B11: ='Case Mgmt Service Utilizer'!B11/'All Eligible'!B7 -> 0.00085083516 | C11: ='Case Mgmt Service Utilizer'!C11/'All Eligible'!C7 -> 0.0020830621 | D11: ='Case Mgmt Service Utilizer'!D11/'All Eligible'!D7 -> 0.0037341664 | E11: ='Case Mgmt Service Utilizer'!E11/'All Eligible'!E7 -> 0.0081294417 | F11: ='Case Mgmt Service Utilizer'!F11/'All Eligible'!F7 -> 0.00098128019 | G11: ='Case Mgmt Service Utilizer'!G11/'All Eligible'!G7 -> 0.0051944405 | H11: ='Case Mgmt Service Utilizer'!H11/'All Eligible'!H7 -> 0.024884374 | I11: ='Case Mgmt Service Utilizer'!I11/'All Eligible'!I7 -> 0.00041129696 | J11: ='Case Mgmt Service Utilizer'!J11/'All Eligible'!J7 -> 0.0076560445
A12: SFY2020-Q2 | B12: ='Case Mgmt Service Utilizer'!B12/'All Eligible'!B8 -> 0.00086218632 | C12: ='Case Mgmt Service Utilizer'!C12/'All Eligible'!C8 -> 0.0030239285 | D12: ='Case Mgmt Service Utilizer'!D12/'All Eligible'!D8 -> 0.0036204221 | E12: ='Case Mgmt Service Utilizer'!E12/'All Eligible'!E8 -> 0.0068409284 | F12: ='Case Mgmt Service Utilizer'!F12/'All Eligible'!F8 -> 0.00068391656 | G12: ='Case Mgmt Service Utilizer'!G12/'All Eligible'!G8 -> 0.0049074593 | H12: ='Case Mgmt Service Utilizer'!H12/'All Eligible'!H8 -> 0.020375549 | I12: ='Case Mgmt Service Utilizer'!I12/'All Eligible'!I8 -> 0 | J12: ='Case Mgmt Service Utilizer'!J12/'All Eligible'!J8 -> 0.006514041
A13: SFY2020-Q3 | B13: ='Case Mgmt Service Utilizer'!B13/'All Eligible'!B9 -> 0.0024261245 | C13: ='Case Mgmt Service Utilizer'!C13/'All Eligible'!C9 -> 0.0023739701 | D13: ='Case Mgmt Service Utilizer'!D13/'All Eligible'!D9 -> 0.0048078193 | E13: ='Case Mgmt Service Utilizer'!E13/'All Eligible'!E9 -> 0.010467035 | F13: ='Case Mgmt Service Utilizer'!F13/'All Eligible'!F9 -> 0.0023574361 | G13: ='Case Mgmt Service Utilizer'!G13/'All Eligible'!G9 -> 0.0066422867 | H13: ='Case Mgmt Service Utilizer'!H13/'All Eligible'!H9 -> 0.022644845 | I13: ='Case Mgmt Service Utilizer'!I13/'All Eligible'!I9 -> 0.0003101737 | J13: ='Case Mgmt Service Utilizer'!J13/'All Eligible'!J9 -> 0.0084361169
A14: SFY2020-Q4 | B14: ='Case Mgmt Service Utilizer'!B14/'All Eligible'!B10 -> 0.0039663802 | C14: ='Case Mgmt Service Utilizer'!C14/'All Eligible'!C10 -> 0.0034083163 | D14: ='Case Mgmt Service Utilizer'!D14/'All Eligible'!D10 -> 0.0056815247 | E14: ='Case Mgmt Service Utilizer'!E14/'All Eligible'!E10 -> 0.010586568 | F14: ='Case Mgmt Service Utilizer'!F14/'All Eligible'!F10 -> 0.0017870617 | G14: ='Case Mgmt Service Utilizer'!G14/'All Eligible'!G10 -> 0.00646098 | H14: ='Case Mgmt Service Utilizer'!H14/'All Eligible'!H10 -> 0.020627507 | I14: ='Case Mgmt Service Utilizer'!I14/'All Eligible'!I10 -> 0 | J14: ='Case Mgmt Service Utilizer'!J14/'All Eligible'!J10 -> 0.0084084876
A15: 2020 Distinct Utilizers
A16: SFY2021-Q1 | B16: ='Case Mgmt Service Utilizer'!B16/'All Eligible'!B12 -> 0.0054614714 | C16: ='Case Mgmt Service Utilizer'!C16/'All Eligible'!C12 -> 0.0030459542 | D16: ='Case Mgmt Service Utilizer'!D16/'All Eligible'!D12 -> 0.0052743148 | E16: ='Case Mgmt Service Utilizer'!E16/'All Eligible'!E12 -> 0.010549439 | F16: ='Case Mgmt Service Utilizer'!F16/'All Eligible'!F12 -> 0.0029389018 | G16: ='Case Mgmt Service Utilizer'!G16/'All Eligible'!G12 -> 0.0059275986 | H16: ='Case Mgmt Service Utilizer'!H16/'All Eligible'!H12 -> 0.018734207 | I16: ='Case Mgmt Service Utilizer'!I16/'All Eligible'!I12 -> 0.00047770701 | J16: ='Case Mgmt Service Utilizer'!J16/'All Eligible'!J12 -> 0.0082323936
A17: SFY2021-Q2 | B17: ='Case Mgmt Service Utilizer'!B17/'All Eligible'!B13 -> 0.0056802934 | C17: ='Case Mgmt Service Utilizer'!C17/'All Eligible'!C13 -> 0.0037438678 | D17: ='Case Mgmt Service Utilizer'!D17/'All Eligible'!D13 -> 0.0048914252 | E17: ='Case Mgmt Service Utilizer'!E17/'All Eligible'!E13 -> 0.0089378067 | F17: ='Case Mgmt Service Utilizer'!F17/'All Eligible'!F13 -> 0.0053615254 | G17: ='Case Mgmt Service Utilizer'!G17/'All Eligible'!G13 -> 0.0050515535 | H17: ='Case Mgmt Service Utilizer'!H17/'All Eligible'!H13 -> 0.017234024 | I17: ='Case Mgmt Service Utilizer'!I17/'All Eligible'!I13 -> 0.00053342817 | J17: ='Case Mgmt Service Utilizer'!J17/'All Eligible'!J13 -> 0.0079100684
A18: SFY2021-Q3 | B18: ='Case Mgmt Service Utilizer'!B18/'All Eligible'!B14 -> 0.0016232342 | C18: ='Case Mgmt Service Utilizer'!C18/'All Eligible'!C14 -> 0.0022982635 | D18: ='Case Mgmt Service Utilizer'!D18/'All Eligible'!D14 -> 0.0040190968 | E18: ='Case Mgmt Service Utilizer'!E18/'All Eligible'!E14 -> 0.0088648309 | F18: ='Case Mgmt Service Utilizer'!F18/'All Eligible'!F14 -> 0.0056911174 | G18: ='Case Mgmt Service Utilizer'!G18/'All Eligible'!G14 -> 0.0044271898 | H18: ='Case Mgmt Service Utilizer'!H18/'All Eligible'!H14 -> 0.016566097 | I18: ='Case Mgmt Service Utilizer'!I18/'All Eligible'!I14 -> 0.00054744526 | J18: ='Case Mgmt Service Utilizer'!J18/'All Eligible'!J14 -> 0.0071175485
A19: SFY2021-Q4 | B19: ='Case Mgmt Service Utilizer'!B19/'All Eligible'!B15 -> 0.0022898125 | C19: ='Case Mgmt Service Utilizer'!C19/'All Eligible'!C15 -> 0.0030105369 | D19: ='Case Mgmt Service Utilizer'!D19/'All Eligible'!D15 -> 0.0038973224 | E19: ='Case Mgmt Service Utilizer'!E19/'All Eligible'!E15 -> 0.0089320388 | F19: ='Case Mgmt Service Utilizer'!F19/'All Eligible'!F15 -> 0.0066590633 | G19: ='Case Mgmt Service Utilizer'!G19/'All Eligible'!G15 -> 0.0037037037 | H19: ='Case Mgmt Service Utilizer'!H19/'All Eligible'!H15 -> 0.016557018 | I19: ='Case Mgmt Service Utilizer'!I19/'All Eligible'!I15 -> 0.0018903592 | J19: ='Case Mgmt Service Utilizer'!J19/'All Eligible'!J15 -> 0.0072932843
A20: 2021 Distinct Utilizers
A21: SFY2022-Q1 | B21: ='Case Mgmt Service Utilizer'!B21/'All Eligible'!B17 -> 0.0021490587 | C21: ='Case Mgmt Service Utilizer'!C21/'All Eligible'!C17 -> 0.0029747149 | D21: ='Case Mgmt Service Utilizer'!D21/'All Eligible'!D17 -> 0.0041818008 | E21: ='Case Mgmt Service Utilizer'!E21/'All Eligible'!E17 -> 0.0084880501 | F21: ='Case Mgmt Service Utilizer'!F21/'All Eligible'!F17 -> 0.0064306332 | G21: ='Case Mgmt Service Utilizer'!G21/'All Eligible'!G17 -> 0.0044497576 | H21: ='Case Mgmt Service Utilizer'!H21/'All Eligible'!H17 -> 0.015691252 | I21: ='Case Mgmt Service Utilizer'!I21/'All Eligible'!I17 -> 0.0011013216 | J21: ='Case Mgmt Service Utilizer'!J21/'All Eligible'!J17 -> 0.0071621188
A22: SFY2022-Q2 | B22: ='Case Mgmt Service Utilizer'!B22/'All Eligible'!B18 -> 0.0024876671 | C22: ='Case Mgmt Service Utilizer'!C22/'All Eligible'!C18 -> 0.0031734407 | D22: ='Case Mgmt Service Utilizer'!D22/'All Eligible'!D18 -> 0.0040096802 | E22: ='Case Mgmt Service Utilizer'!E22/'All Eligible'!E18 -> 0.0075540571 | F22: ='Case Mgmt Service Utilizer'!F22/'All Eligible'!F18 -> 0.0059216465 | G22: ='Case Mgmt Service Utilizer'!G22/'All Eligible'!G18 -> 0.0048445172 | H22: ='Case Mgmt Service Utilizer'!H22/'All Eligible'!H18 -> 0.015640794 | I22: ='Case Mgmt Service Utilizer'!I22/'All Eligible'!I18 -> 0.0003400204 | J22: ='Case Mgmt Service Utilizer'!J22/'All Eligible'!J18 -> 0.0069741945
A23: SFY2022-Q3 | B23: ='Case Mgmt Service Utilizer'!B23/'All Eligible'!B19 -> 0.0018405421 | C23: ='Case Mgmt Service Utilizer'!C23/'All Eligible'!C19 -> 0.0012023566 | D23: ='Case Mgmt Service Utilizer'!D23/'All Eligible'!D19 -> 0.0045219184 | E23: ='Case Mgmt Service Utilizer'!E23/'All Eligible'!E19 -> 0.0073843372 | F23: ='Case Mgmt Service Utilizer'!F23/'All Eligible'!F19 -> 0.0057224607 | G23: ='Case Mgmt Service Utilizer'!G23/'All Eligible'!G19 -> 0.0050407135 | H23: ='Case Mgmt Service Utilizer'!H23/'All Eligible'!H19 -> 0.014745696 | I23: ='Case Mgmt Service Utilizer'!I23/'All Eligible'!I19 -> 0.00023174971 | J23: ='Case Mgmt Service Utilizer'!J23/'All Eligible'!J19 -> 0.006687879
A24: SFY2022-Q4 | B24: ='Case Mgmt Service Utilizer'!B24/'All Eligible'!B20 -> 0.0015464348 | C24: ='Case Mgmt Service Utilizer'!C24/'All Eligible'!C20 -> 0.002994012 | D24: ='Case Mgmt Service Utilizer'!D24/'All Eligible'!D20 -> 0.0046286556 | E24: ='Case Mgmt Service Utilizer'!E24/'All Eligible'!E20 -> 0.0071148613 | F24: ='Case Mgmt Service Utilizer'!F24/'All Eligible'!F20 -> 0.0044815935 | G24: ='Case Mgmt Service Utilizer'!G24/'All Eligible'!G20 -> 0.0053103007 | H24: ='Case Mgmt Service Utilizer'!H24/'All Eligible'!H20 -> 0.015210608 | I24: ='Case Mgmt Service Utilizer'!I24/'All Eligible'!I20 -> 0.00094726871 | J24: ='Case Mgmt Service Utilizer'!J24/'All Eligible'!J20 -> 0.0066739159
A25: 2022 Distinct Utilizers
A26: SFY2023-Q1 | B26: ='Case Mgmt Service Utilizer'!B26/'All Eligible'!B22 -> 0.0016085791 | C26: ='Case Mgmt Service Utilizer'!C26/'All Eligible'!C22 -> 0.0032875426 | D26: ='Case Mgmt Service Utilizer'!D26/'All Eligible'!D22 -> 0.0037334199 | E26: ='Case Mgmt Service Utilizer'!E26/'All Eligible'!E22 -> 0.0067127345 | F26: ='Case Mgmt Service Utilizer'!F26/'All Eligible'!F22 -> 0.0041255289 | G26: ='Case Mgmt Service Utilizer'!G26/'All Eligible'!G22 -> 0.006196257 | H26: ='Case Mgmt Service Utilizer'!H26/'All Eligible'!H22 -> 0.015001539 | I26: ='Case Mgmt Service Utilizer'!I26/'All Eligible'!I22 -> 0 | J26: ='Case Mgmt Service Utilizer'!J26/'All Eligible'!J22 -> 0.006430374
A27: 2023 Distinct Utilizers

Sheet CFT Service  Utilizer
A1: Child and Family Inter-Disciplinary Team Meeting
A2: Table 1: CFT Meeting - Distinct service utilizers per Region/Quarter
A3: Description: This table displays distinct number of members between the ages of 0 to 17, by quarter who utilized the indicated service between 7/1/2018 to 9/30/2022. Note: Total distinct utilizer count represents an unduplicated (distinct) count of utilizers for the given state fiscal year across all quarters and/or regions combined. Data as of 11/07/2022. Includes Procedure Code 'G9007'
B4: Region 1 | C4: Region 2 | D4: Region 3 | E4: Region 4 | F4: Region 5 | G4: Region 6 | H4: Region 7 | I4: Region 9 / Out of State | J4: Total
A5: Service Date SFY-Qtr | B5: Distinct Utilizers | C5: Distinct Utilizers | D5: Distinct Utilizers | E5: Distinct Utilizers | F5: Distinct Utilizers | G5: Distinct Utilizers | H5: Distinct Utilizers | I5: Distinct Utilizers | J5: Distinct Utilizers
A6: SFY2019-Q1 | B6: 9 | C6: 4 | D6: 9 | E6: 10 | F6: 10 | G6: 0 | H6: 11 | I6: 0 | J6: 53
A7: SFY2019-Q2 | B7: 6 | C7: 4 | D7: 6 | E7: 7 | F7: 5 | G7: 3 | H7: 10 | I7: 0 | J7: 41
A8: SFY2019-Q3 | B8: 9 | C8: 5 | D8: 5 | E8: 4 | F8: 4 | G8: 2 | H8: 6 | I8: 0 | J8: 35
A9: SFY2019-Q4 | B9: 5 | C9: 6 | D9: 4 | E9: 1 | F9: 9 | G9: 4 | H9: 3 | I9: 0 | J9: 31
A10: 2019 Distinct Utilizers | B10: 27 | C10: 16 | D10: 20 | E10: 22 | F10: 23 | G10: 7 | H10: 29 | I10: 0 | J10: 143
A11: SFY2020-Q1 | B11: 11 | C11: 4 | D11: 6 | E11: 4 | F11: 10 | G11: 1 | H11: 2 | I11: 0 | J11: 38
A12: SFY2020-Q2 | B12: 22 | C12: 3 | D12: 9 | E12: 14 | F12: 11 | G12: 4 | H12: 26 | I12: 0 | J12: 89
A13: SFY2020-Q3 | B13: 16 | C13: 6 | D13: 9 | E13: 17 | F13: 5 | G13: 8 | H13: 48 | I13: 0 | J13: 109
A14: SFY2020-Q4 | B14: 24 | C14: 13 | D14: 11 | E14: 13 | F14: 9 | G14: 10 | H14: 42 | I14: 0 | J14: 122
A15: 2020 Distinct Utilizers | B15: 59 | C15: 19 | D15: 30 | E15: 41 | F15: 33 | G15: 17 | H15: 113 | I15: 0 | J15: 312
A16: SFY2021-Q1 | B16: 30 | C16: 12 | D16: 19 | E16: 24 | F16: 17 | G16: 14 | H16: 38 | I16: 0 | J16: 154
A17: SFY2021-Q2 | B17: 51 | C17: 9 | D17: 20 | E17: 21 | F17: 13 | G17: 7 | H17: 45 | I17: 0 | J17: 166
... A27: 2023 Distinct Utilizers | B27: 4 | C27: 15 | D27: 19 | E27: 32 | F27: 26 | G27: 9 | H27: 41 | I27: 0 | J27: 145

Sheet CFT Member   Utilizer
A1: Child and Family Inter-Disciplinary Team Meeting
A2: Table 1: CFT Meeting - Member Utilization per Region/Quarter
A3: Description: This table displays distinct number of members between the ages of 0 to 17, by quarter who utilized the indicated service between 7/1/2018 to 9/30/2022. Note: Total distinct utilizer count represents an unduplicated (distinct) count of utilizers for the given state fiscal year across all quarters and/or regions combined. Data as of 11/07/2022. Includes Procedure Code 'G9007'
B4: Region 1 | C4: Region 2 | D4: Region 3 | E4: Region 4 | F4: Region 5 | G4: Region 6 | H4: Region 7 | I4: Region 9 / Out of State | J4: Total
A5: Service Date SFY-Qtr | B5: Member Utilization | C5: Member Utilization | D5: Member Utilization | E5: Member Utilization | F5: Member Utilization | G5: Member Utilization | H5: Member Utilization | I5: Member Utilization | J5: Member Utilization
A6: SFY2019-Q1 | B6: ='CFT Service Utilizer'!B6/'All Eligible'!B2 -> 0.00039303026 | C6: ='CFT Service Utilizer'!C6/'All Eligible'!C2 -> 0.00050897061 | D6: ='CFT Service Utilizer'!D6/'All Eligible'!D2 -> 0.00020907866 | E6: ='CFT Service Utilizer'!E6/'All Eligible'!E2 -> 0.00025310689 | F6: ='CFT Service Utilizer'!F6/'All Eligible'!F2 -> 0.00036670334 | G6: ='CFT Service Utilizer'!G6/'All Eligible'!G2 -> 0 | H6: ='CFT Service Utilizer'!H6/'All Eligible'!H2 -> 0.00030426244 | I6: ='CFT Service Utilizer'!I6/'All Eligible'!I2 -> 0 | J6: ='CFT Service Utilizer'!J6/'All Eligible'!J2 -> 0.00026494436
A7: SFY2019-Q2 | B7: ='CFT Service Utilizer'!B7/'All Eligible'!B3 -> 0.00025857611 | C7: ='CFT Service Utilizer'!C7/'All Eligible'!C3 -> 0.000505689 | D7: ='CFT Service Utilizer'!D7/'All Eligible'!D3 -> 0.00013813427 | E7: ='CFT Service Utilizer'!E7/'All Eligible'!E3 -> 0.00017539024 | F7: ='CFT Service Utilizer'!F7/'All Eligible'!F3 -> 0.00018140919 | G7: ='CFT Service Utilizer'!G7/'All Eligible'!G3 -> 0.0002018435 | H7: ='CFT Service Utilizer'!H7/'All Eligible'!H3 -> 0.0002739726 | I7: ='CFT Service Utilizer'!I7/'All Eligible'!I3 -> 0 | J7: ='CFT Service Utilizer'!J7/'All Eligible'!J3 -> 0.00020376113
A8: SFY2019-Q3 | B8: ='CFT Service Utilizer'!B8/'All Eligible'!B4 -> 0.00040178571 | C8: ='CFT Service Utilizer'!C8/'All Eligible'!C4 -> 0.00065019506 | D8: ='CFT Service Utilizer'!D8/'All Eligible'!D4 -> 0.00012040069 | E8: ='CFT Service Utilizer'!E8/'All Eligible'!E4 -> 0.00010426441 | F8: ='CFT Service Utilizer'!F8/'All Eligible'!F4 -> 0.00015021782 | G8: ='CFT Service Utilizer'!G8/'All Eligible'!G4 -> 0.00013901439 | H8: ='CFT Service Utilizer'!H8/'All Eligible'!H4 -> 0.00017047876 | I8: ='CFT Service Utilizer'!I8/'All Eligible'!I4 -> 0 | J8: ='CFT Service Utilizer'!J8/'All Eligible'!J4 -> 0.00018066568
A9: SFY2019-Q4 | B9: ='CFT Service Utilizer'!B9/'All Eligible'!B5 -> 0.00022027402 | C9: ='CFT Service Utilizer'!C9/'All Eligible'!C5 -> 0.00077369439 | D9: ='CFT Service Utilizer'!D9/'All Eligible'!D5 -> 9.5133901e-05 | E9: ='CFT Service Utilizer'!E9/'All Eligible'!E5 -> 2.5791143e-05 | F9: ='CFT Service Utilizer'!F9/'All Eligible'!F5 -> 0.00033301265 | G9: ='CFT Service Utilizer'!G9/'All Eligible'!G5 -> 0.000275558 | H9: ='CFT Service Utilizer'!H9/'All Eligible'!H5 -> 8.3894964e-05 | I9: ='CFT Service Utilizer'!I9/'All Eligible'!I5 -> 0 | J9: ='CFT Service Utilizer'!J9/'All Eligible'!J5 -> 0.00015813664
A10: 2019 Distinct Utilizers
A11: SFY2020-Q1 | B11: ='CFT Service Utilizer'!B11/'All Eligible'!B7 -> 0.00049258878 | C11: ='CFT Service Utilizer'!C11/'All Eligible'!C7 -> 0.00052076553 | D11: ='CFT Service Utilizer'!D11/'All Eligible'!D7 -> 0.0001464379 | E11: ='CFT Service Utilizer'!E11/'All Eligible'!E7 -> 0.00010489602 | F11: ='CFT Service Utilizer'!F11/'All Eligible'!F7 -> 0.00037741546 | G11: ='CFT Service Utilizer'!G11/'All Eligible'!G7 -> 7.0195142e-05 | H11: ='CFT Service Utilizer'!H11/'All Eligible'!H7 -> 5.6748858e-05 | I11: ='CFT Service Utilizer'!I11/'All Eligible'!I7 -> 0 | J11: ='CFT Service Utilizer'!J11/'All Eligible'!J7 -> 0.00019750828
A12: SFY2020-Q2 | B12: ='CFT Service Utilizer'!B12/'All Eligible'!B8 -> 0.00099832101 | C12: ='CFT Service Utilizer'!C12/'All Eligible'!C8 -> 0.00039442545 | D12: ='CFT Service Utilizer'!D12/'All Eligible'!D8 -> 0.0002216585 | E12: ='CFT Service Utilizer'!E12/'All Eligible'!E8 -> 0.00037265758 | F12: ='CFT Service Utilizer'!F12/'All Eligible'!F8 -> 0.00041794901 | G12: ='CFT Service Utilizer'!G12/'All Eligible'!G8 -> 0.00028042625 | H12: ='CFT Service Utilizer'!H12/'All Eligible'!H8 -> 0.00074196678 | I12: ='CFT Service Utilizer'!I12/'All Eligible'!I8 -> 0 | J12: ='CFT Service Utilizer'!J12/'All Eligible'!J8 -> 0.00046829535
A13: SFY2020-Q3 | B13: ='CFT Service Utilizer'!B13/'All Eligible'!B9 -> 0.00077635984 | C13: ='CFT Service Utilizer'!C13/'All Eligible'!C9 -> 0.00083787181 | D13: ='CFT Service Utilizer'!D13/'All Eligible'!D9 -> 0.00023774931 | E13: ='CFT Service Utilizer'!E13/'All Eligible'!E9 -> 0.00048353149 | F13: ='CFT Service Utilizer'!F13/'All Eligible'!F9 -> 0.00020322725 | G13: ='CFT Service Utilizer'!G13/'All Eligible'!G9 -> 0.00059705948 | H13: ='CFT Service Utilizer'!H13/'All Eligible'!H9 -> 0.001462924 | I13: ='CFT Service Utilizer'!I13/'All Eligible'!I9 -> 0 | J13: ='CFT Service Utilizer'!J13/'All Eligible'!J9 -> 0.00061220822
A14: SFY2020-Q4 | B14: ='CFT Service Utilizer'!B14/'All Eligible'!B10 -> 0.0011332515 | C14: ='CFT Service Utilizer'!C14/'All Eligible'!C10 -> 0.0017723245 | D14: ='CFT Service Utilizer'!D14/'All Eligible'!D10 -> 0.00028407624 | E14: ='CFT Service Utilizer'!E14/'All Eligible'!E10 -> 0.00036122148 | F14: ='CFT Service Utilizer'!F14/'All Eligible'!F10 -> 0.00035741233 | G14: ='CFT Service Utilizer'!G14/'All Eligible'!G10 -> 0.00072595281 | H14: ='CFT Service Utilizer'!H14/'All Eligible'!H10 -> 0.0012574097 | I14: ='CFT Service Utilizer'!I14/'All Eligible'!I10 -> 0 | J14: ='CFT Service Utilizer'!J14/'All Eligible'!J10 -> 0.00067048071
A15: 2020 Distinct Utilizers
A16: SFY2021-Q1 | B16: ='CFT Service Utilizer'!B16/'All Eligible'!B12 -> 0.0013768415 | C16: ='CFT Service Utilizer'!C16/'All Eligible'!C12 -> 0.0015891935 | D16: ='CFT Service Utilizer'!D16/'All Eligible'!D12 -> 0.00047948317 | E16: ='CFT Service Utilizer'!E16/'All Eligible'!E12 -> 0.00065086511 | F16: ='CFT Service Utilizer'!F16/'All Eligible'!F12 -> 0.00065738592 | G16: ='CFT Service Utilizer'!G16/'All Eligible'!G12 -> 0.0009879331 | H16: ='CFT Service Utilizer'!H16/'All Eligible'!H12 -> 0.0011037207 | I16: ='CFT Service Utilizer'!I16/'All Eligible'!I12 -> 0 | J16: ='CFT Service Utilizer'!J16/'All Eligible'!J12 -> 0.00082538321
A17: SFY2021-Q2 | B17: ='CFT Service Utilizer'!B17/'All Eligible'!B13 -> 0.0022810627 | C17: ='CFT Service Utilizer'!C17/'All Eligible'!C13 -> 0.00116189 | D17: ='CFT Service Utilizer'!D17/'All Eligible'!D13 -> 0.00049408335 | E17: ='CFT Service Utilizer'!E17/'All Eligible'!E13 -> 0.00055695531 | F17: ='CFT Service Utilizer'!F17/'All Eligible'!F13 -> 0.00049084387 | G17: ='CFT Service Utilizer'!G17/'All Eligible'!G13 -> 0.00048439554 | H17: ='CFT Service Utilizer'!H17/'All Eligible'!H13 -> 0.0012797543 | I17: ='CFT Service Utilizer'!I17/'All Eligible'!I13 -> 0 | J17: ='CFT Service Utilizer'!J17/'All Eligible'!J13 -> 0.00087363363
A18: SFY2021-Q3 | B18: ='CFT Service Utilizer'!B18/'All Eligible'!B14 -> 0.00092129508 | C18: ='CFT Service Utilizer'!C18/'All Eligible'!C14 -> 0.0011491318 | D18: ='CFT Service Utilizer'!D18/'All Eligible'!D14 -> 0.00034101427 | E18: ='CFT Service Utilizer'!E18/'All Eligible'!E14 -> 0.00065374859 | F18: ='CFT Service Utilizer'!F18/'All Eligible'!F14 -> 0.0010043148 | G18: ='CFT Service Utilizer'!G18/'All Eligible'!G14 -> 0.0006129955 | H18: ='CFT Service Utilizer'!H18/'All Eligible'!H14 -> 0.00097776288 | I18: ='CFT Service Utilizer'!I18/'All Eligible'!I14 -> 0 | J18: ='CFT Service Utilizer'!J18/'All Eligible'!J14 -> 0.00072628046
A19: SFY2021-Q4 | B19: ='CFT Service Utilizer'!B19/'All Eligible'!B15 -> 0.0010368962 | C19: ='CFT Service Utilizer'!C19/'All Eligible'!C15 -> 0.0022579027 | D19: ='CFT Service Utilizer'!D19/'All Eligible'!D15 -> 0.00036086318 | E19: ='CFT Service Utilizer'!E19/'All Eligible'!E15 -> 0.00054368932 | F19: ='CFT Service Utilizer'!F19/'All Eligible'!F15 -> 0.00091976013 | G19: ='CFT Service Utilizer'!G19/'All Eligible'!G15 -> 0.001010101 | H19: ='CFT Service Utilizer'!H19/'All Eligible'!H15 -> 0.0011239035 | I19: ='CFT Service Utilizer'!I19/'All Eligible'!I15 -> 0 | J19: ='CFT Service Utilizer'!J19/'All Eligible'!J15 -> 0.00081492074
A20: 2021 Distinct Utilizers
A21: SFY2022-Q1 | B21: ='CFT Service Utilizer'!B21/'All Eligible'!B17 -> 0.00068769879 | C21: ='CFT Service Utilizer'!C21/'All Eligible'!C17 -> 0.001363411 | D21: ='CFT Service Utilizer'!D21/'All Eligible'!D17 -> 0.00026285605 | E21: ='CFT Service Utilizer'!E21/'All Eligible'!E17 -> 0.00041029849 | F21: ='CFT Service Utilizer'!F21/'All Eligible'!F17 -> 0.00098651759 | G21: ='CFT Service Utilizer'!G21/'All Eligible'!G17 -> 0.0010626287 | H21: ='CFT Service Utilizer'!H21/'All Eligible'!H17 -> 0.001269344 | I21: ='CFT Service Utilizer'!I21/'All Eligible'!I17 -> 0 | J21: ='CFT Service Utilizer'!J21/'All Eligible'!J17 -> 0.00073405345
A22: SFY2022-Q2 | B22: ='CFT Service Utilizer'!B22/'All Eligible'!B18 -> 0.00059029388 | C22: ='CFT Service Utilizer'!C22/'All Eligible'!C18 -> 0.00097644331 | D22: ='CFT Service Utilizer'!D22/'All Eligible'!D18 -> 0.00018980735 | E22: ='CFT Service Utilizer'!E22/'All Eligible'!E18 -> 0.00093791985 | F22: ='CFT Service Utilizer'!F22/'All Eligible'!F18 -> 0.00064993681 | G22: ='CFT Service Utilizer'!G22/'All Eligible'!G18 -> 0.00085106383 | H22: ='CFT Service Utilizer'!H22/'All Eligible'!H18 -> 0.00063839974 | I22: ='CFT Service Utilizer'!I22/'All Eligible'!I18 -> 0 | J22: ='CFT Service Utilizer'!J22/'All Eligible'!J18 -> 0.00061925162
A23: SFY2022-Q3 | B23: ='CFT Service Utilizer'!B23/'All Eligible'!B19 -> 0.00016732201 | C23: ='CFT Service Utilizer'!C23/'All Eligible'!C19 -> 0.0009618853 | D23: ='CFT Service Utilizer'!D23/'All Eligible'!D19 -> 0.00023429629 | E23: ='CFT Service Utilizer'!E23/'All Eligible'!E19 -> 0.00070327021 | F23: ='CFT Service Utilizer'!F23/'All Eligible'!F19 -> 0.00060801144 | G23: ='CFT Service Utilizer'!G23/'All Eligible'!G19 -> 0.00058162078 | H23: ='CFT Service Utilizer'!H23/'All Eligible'!H19 -> 0.00081482455 | I23: ='CFT Service Utilizer'!I23/'All Eligible'!I19 -> 0 | J23: ='CFT Service Utilizer'!J23/'All Eligible'!J19 -> 0.0005336339
A24: SFY2022-Q4 | B24: ='CFT Service Utilizer'!B24/'All Eligible'!B20 -> 0.00020897768 | C24: ='CFT Service Utilizer'!C24/'All Eligible'!C20 -> 0.0005988024 | D24: ='CFT Service Utilizer'!D24/'All Eligible'!D20 -> 0.00021039344 | E24: ='CFT Service Utilizer'!E24/'All Eligible'!E20 -> 0.00044935966 | F24: ='CFT Service Utilizer'!F24/'All Eligible'!F20 -> 0.00088920505 | G24: ='CFT Service Utilizer'!G24/'All Eligible'!G20 -> 0.00076775432 | H24: ='CFT Service Utilizer'!H24/'All Eligible'!H20 -> 0.00093603744 | I24: ='CFT Service Utilizer'!I24/'All Eligible'!I20 -> 0 | J24: ='CFT Service Utilizer'!J24/'All Eligible'!J20 -> 0.00054867769
A25: 2022 Distinct Utilizers
A26: SFY2023-Q1 | B26: ='CFT Service Utilizer'!B26/'All Eligible'!B22 -> 0.00016498247 | C26: ='CFT Service Utilizer'!C26/'All Eligible'!C22 -> 0.0017611835 | D26: ='CFT Service Utilizer'!D26/'All Eligible'!D22 -> 0.00044058993 | E26: ='CFT Service Utilizer'!E26/'All Eligible'!E22 -> 0.00078973346 | F26: ='CFT Service Utilizer'!F26/'All Eligible'!F22 -> 0.0009167842 | G26: ='CFT Service Utilizer'!G26/'All Eligible'!G22 -> 0.00056904401 | H26: ='CFT Service Utilizer'!H26/'All Eligible'!H22 -> 0.0010513899 | I26: ='CFT Service Utilizer'!I26/'All Eligible'!I22 -> 0 | J26: ='CFT Service Utilizer'!J26/'All Eligible'!J22 -> 0.000718893
A27: 2023 Distinct Utilizers

Sheet CI Service Utilizer
A1: Crisis Intervention
A2: Table 1: Crisis Intervention - Distinct service utilizers per Region/Quarter
A3: Description: This table displays distinct number of members between the ages of 0 to 17, by quarter who utilized the indicated service between 7/1/2018 to 9/30/2022. Note: Total distinct utilizer count represents an unduplicated (distinct) count of utilizers for the given state fiscal year across all quarters and/or regions combined. Data as of 11/07/2022. Includes Procedure Code ('H2011')
B4: Region 1 | C4: Region 2 | D4: Region 3 | E4: Region 4 | F4: Region 5 | G4: Region 6 | H4: Region 7 | I4: Region 9 / Out of State | J4: Total
A5: Service Date SFY-Qtr | B5: Distinct Utilizers | C5: Distinct Utilizers | D5: Distinct Utilizers | E5: Distinct Utilizers | F5: Distinct Utilizers | G5: Distinct Utilizers | H5: Distinct Utilizers | I5: Distinct Utilizers | J5: Distinct Utilizers
A6: SFY2019-Q1 | B6: 14 | C6: 5 | D6: 9 | E6: 27 | F6: 4 | G6: 7 | H6: 77 | I6: 0 | J6: 143
A7: SFY2019-Q2 | B7: 12 | C7: 6 | D7: 13 | E7: 22 | F7: 4 | G7: 11 | H7: 51 | I7: 1 | J7: 120
A8: SFY2019-Q3 | B8: 4 | C8: 5 | D8: 7 | E8: 13 | F8: 5 | G8: 7 | H8: 49 | I8: 0 | J8: 90
A9: SFY2019-Q4 | B9: 8 | C9: 4 | D9: 14 | E9: 8 | F9: 14 | G9: 3 | H9: 30 | I9: 0 | J9: 81
A10: 2019 Distinct Utilizers | B10: 31 | C10: 17 | D10: 41 | E10: 54 | F10: 25 | G10: 24 | H10: 179 | I10: 1 | J10: 371
A11: SFY2020-Q1 | B11: 16 | C11: 10 | D11: 10 | E11: 14 | F11: 9 | G11: 4 | H11: 68 | I11: 0 | J11: 131
A12: SFY2020-Q2 | B12: 14 | C12: 15 | D12: 12 | E12: 23 | F12: 16 | G12: 4 | H12: 56 | I12: 0 | J12: 140
A13: SFY2020-Q3 | B13: 1 | C13: 10 | D13: 6 | E13: 13 | F13: 15 | G13: 2 | H13: 61 | I13: 0 | J13: 108
A14: SFY2020-Q4 | B14: 3 | C14: 7 | D14: 3 | E14: 7 | F14: 9 | G14: 6 | H14: 56 | I14: 0 | J14: 91
A15: 2020 Distinct Utilizers | B15: 31 | C15: 37 | D15: 30 | E15: 55 | F15: 46 | G15: 16 | H15: 221 | I15: 0 | J15: 435
A16: SFY2021-Q1 | B16: 2 | C16: 5 | D16: 1 | E16: 7 | F16: 6 | G16: 2 | H16: 50 | I16: 0 | J16: 73
A17: SFY2021-Q2 | B17: 2 | C17: 2 | D17: 6 | E17: 8 | F17: 8 | G17: 2 | H17: 54 | I17: 1 | J17: 83
... A27: 2023 Distinct Utilizers | B27: 1 | C27: 8 | D27: 5 | E27: 5 | F27: 5 | G27: 9 | H27: 48 | I27: 0 | J27: 81

Sheet CI Member Utilizer
A1: Crisis Intervention
A2: Table 1: Crisis Intervention - Member Utilization per Region/Quarter
A3: Description: This table displays distinct number of members between the ages of 0 to 17, by quarter who utilized the indicated service between 7/1/2018 to 9/30/2022. Note: Total distinct utilizer count represents an unduplicated (distinct) count of utilizers for the given state fiscal year across all quarters and/or regions combined. Data as of 11/07/2022. Includes Procedure Code ('H2011')
B4: Region 1 | C4: Region 2 | D4: Region 3 | E4: Region 4 | F4: Region 5 | G4: Region 6 | H4: Region 7 | I4: Region 9 / Out of State | J4: Total
A5: Service Date SFY-Qtr | B5: Member Utilization | C5: Member Utilization | D5: Member Utilization | E5: Member Utilization | F5: Member Utilization | G5: Member Utilization | H5: Member Utilization | I5: Member Utilization | J5: Member Utilization
A6: SFY2019-Q1 | B6: ='CI Service Utilizer'!B6/'All Eligible'!B2 -> 0.00061138041 | C6: ='CI Service Utilizer'!C6/'All Eligible'!C2 -> 0.00063621326 | D6: ='CI Service Utilizer'!D6/'All Eligible'!D2 -> 0.00020907866 | E6: ='CI Service Utilizer'!E6/'All Eligible'!E2 -> 0.0006833886 | F6: ='CI Service Utilizer'!F6/'All Eligible'!F2 -> 0.00014668133 | G6: ='CI Service Utilizer'!G6/'All Eligible'!G2 -> 0.00047622287 | H6: ='CI Service Utilizer'!H6/'All Eligible'!H2 -> 0.0021298371 | I6: ='CI Service Utilizer'!I6/'All Eligible'!I2 -> 0 | J6: ='CI Service Utilizer'!J6/'All Eligible'!J2 -> 0.00071484988
A7: SFY2019-Q2 | B7: ='CI Service Utilizer'!B7/'All Eligible'!B3 -> 0.00051715222 | C7: ='CI Service Utilizer'!C7/'All Eligible'!C3 -> 0.0007585335 | D7: ='CI Service Utilizer'!D7/'All Eligible'!D3 -> 0.00029929091 | E7: ='CI Service Utilizer'!E7/'All Eligible'!E3 -> 0.00055122648 | F7: ='CI Service Utilizer'!F7/'All Eligible'!F3 -> 0.00014512735 | G7: ='CI Service Utilizer'!G7/'All Eligible'!G3 -> 0.00074009285 | H7: ='CI Service Utilizer'!H7/'All Eligible'!H3 -> 0.0013972603 | I7: ='CI Service Utilizer'!I7/'All Eligible'!I3 -> 0.00012771392 | J7: ='CI Service Utilizer'!J7/'All Eligible'!J3 -> 0.00059637405
A8: SFY2019-Q3 | B8: ='CI Service Utilizer'!B8/'All Eligible'!B4 -> 0.00017857143 | C8: ='CI Service Utilizer'!C8/'All Eligible'!C4 -> 0.00065019506 | D8: ='CI Service Utilizer'!D8/'All Eligible'!D4 -> 0.00016856097 | E8: ='CI Service Utilizer'!E8/'All Eligible'!E4 -> 0.00033885935 | F8: ='CI Service Utilizer'!F8/'All Eligible'!F4 -> 0.00018777227 | G8: ='CI Service Utilizer'!G8/'All Eligible'!G4 -> 0.00048655036 | H8: ='CI Service Utilizer'!H8/'All Eligible'!H4 -> 0.0013922432 | I8: ='CI Service Utilizer'!I8/'All Eligible'!I4 -> 0 | J8: ='CI Service Utilizer'!J8/'All Eligible'!J4 -> 0.00046456888
A9: SFY2019-Q4 | B9: ='CI Service Utilizer'!B9/'All Eligible'!B5 -> 0.00035243843 | C9: ='CI Service Utilizer'!C9/'All Eligible'!C5 -> 0.00051579626 | D9: ='CI Service Utilizer'!D9/'All Eligible'!D5 -> 0.00033296865 | E9: ='CI Service Utilizer'!E9/'All Eligible'!E5 -> 0.00020632915 | F9: ='CI Service Utilizer'!F9/'All Eligible'!F5 -> 0.00051801968 | G9: ='CI Service Utilizer'!G9/'All Eligible'!G5 -> 0.0002066685 | H9: ='CI Service Utilizer'!H9/'All Eligible'!H5 -> 0.00083894964 | I9: ='CI Service Utilizer'!I9/'All Eligible'!I5 -> 0 | J9: ='CI Service Utilizer'!J9/'All Eligible'!J5 -> 0.00041319574
A10: 2019 Distinct Utilizers
A11: SFY2020-Q1 | B11: ='CI Service Utilizer'!B11/'All Eligible'!B7 -> 0.00071649277 | C11: ='CI Service Utilizer'!C11/'All Eligible'!C7 -> 0.0013019138 | D11: ='CI Service Utilizer'!D11/'All Eligible'!D7 -> 0.00024406316 | E11: ='CI Service Utilizer'!E11/'All Eligible'!E7 -> 0.00036713608 | F11: ='CI Service Utilizer'!F11/'All Eligible'!F7 -> 0.00033967391 | G11: ='CI Service Utilizer'!G11/'All Eligible'!G7 -> 0.00028078057 | H11: ='CI Service Utilizer'!H11/'All Eligible'!H7 -> 0.0019294612 | I11: ='CI Service Utilizer'!I11/'All Eligible'!I7 -> 0 | J11: ='CI Service Utilizer'!J11/'All Eligible'!J7 -> 0.0006808838
A12: SFY2020-Q2 | B12: ='CI Service Utilizer'!B12/'All Eligible'!B8 -> 0.00063529519 | C12: ='CI Service Utilizer'!C12/'All Eligible'!C8 -> 0.0019721273 | D12: ='CI Service Utilizer'!D12/'All Eligible'!D8 -> 0.00029554466 | E12: ='CI Service Utilizer'!E12/'All Eligible'!E8 -> 0.00061222317 | F12: ='CI Service Utilizer'!F12/'All Eligible'!F8 -> 0.00060792583 | G12: ='CI Service Utilizer'!G12/'All Eligible'!G8 -> 0.00028042625 | H12: ='CI Service Utilizer'!H12/'All Eligible'!H8 -> 0.0015980823 | I12: ='CI Service Utilizer'!I12/'All Eligible'!I8 -> 0 | J12: ='CI Service Utilizer'!J12/'All Eligible'!J8 -> 0.00073664437
A13: SFY2020-Q3 | B13: ='CI Service Utilizer'!B13/'All Eligible'!B9 -> 4.852249e-05 | C13: ='CI Service Utilizer'!C13/'All Eligible'!C9 -> 0.001396453 | D13: ='CI Service Utilizer'!D13/'All Eligible'!D9 -> 0.00015849954 | E13: ='CI Service Utilizer'!E13/'All Eligible'!E9 -> 0.00036975937 | F13: ='CI Service Utilizer'!F13/'All Eligible'!F9 -> 0.00060968175 | G13: ='CI Service Utilizer'!G13/'All Eligible'!G9 -> 0.00014926487 | H13: ='CI Service Utilizer'!H13/'All Eligible'!H9 -> 0.0018591326 | I13: ='CI Service Utilizer'!I13/'All Eligible'!I9 -> 0 | J13: ='CI Service Utilizer'!J13/'All Eligible'!J9 -> 0.00060659163
A14: SFY2020-Q4 | B14: ='CI Service Utilizer'!B14/'All Eligible'!B10 -> 0.00014165644 | C14: ='CI Service Utilizer'!C14/'All Eligible'!C10 -> 0.00095432856 | D14: ='CI Service Utilizer'!D14/'All Eligible'!D10 -> 7.7475337e-05 | E14: ='CI Service Utilizer'!E14/'All Eligible'!E10 -> 0.00019450388 | F14: ='CI Service Utilizer'!F14/'All Eligible'!F10 -> 0.00035741233 | G14: ='CI Service Utilizer'!G14/'All Eligible'!G10 -> 0.00043557169 | H14: ='CI Service Utilizer'!H14/'All Eligible'!H10 -> 0.0016765463 | I14: ='CI Service Utilizer'!I14/'All Eligible'!I10 -> 0 | J14: ='CI Service Utilizer'!J14/'All Eligible'!J10 -> 0.00050011266
A15: 2020 Distinct Utilizers
A16: SFY2021-Q1 | B16: ='CI Service Utilizer'!B16/'All Eligible'!B12 -> 9.1789435e-05 | C16: ='CI Service Utilizer'!C16/'All Eligible'!C12 -> 0.00066216395 | D16: ='CI Service Utilizer'!D16/'All Eligible'!D12 -> 2.5235956e-05 | E16: ='CI Service Utilizer'!E16/'All Eligible'!E12 -> 0.00018983566 | F16: ='CI Service Utilizer'!F16/'All Eligible'!F12 -> 0.00023201856 | G16: ='CI Service Utilizer'!G16/'All Eligible'!G12 -> 0.0001411333 | H16: ='CI Service Utilizer'!H16/'All Eligible'!H12 -> 0.0014522641 | I16: ='CI Service Utilizer'!I16/'All Eligible'!I12 -> 0 | J16: ='CI Service Utilizer'!J16/'All Eligible'!J12 -> 0.00039125308
A17: SFY2021-Q2 | B17: ='CI Service Utilizer'!B17/'All Eligible'!B13 -> 8.9453439e-05 | C17: ='CI Service Utilizer'!C17/'All Eligible'!C13 -> 0.00025819778 | D17: ='CI Service Utilizer'!D17/'All Eligible'!D13 -> 0.00014822501 | E17: ='CI Service Utilizer'!E17/'All Eligible'!E13 -> 0.00021217345 | F17: ='CI Service Utilizer'!F17/'All Eligible'!F13 -> 0.00030205777 | G17: ='CI Service Utilizer'!G17/'All Eligible'!G13 -> 0.00013839873 | H17: ='CI Service Utilizer'!H17/'All Eligible'!H13 -> 0.0015357051 | I17: ='CI Service Utilizer'!I17/'All Eligible'!I13 -> 0.00017780939 | J17: ='CI Service Utilizer'!J17/'All Eligible'!J13 -> 0.00043681682
A18: SFY2021-Q3 | B18: ='CI Service Utilizer'!B18/'All Eligible'!B14 -> 0.00026322717 | C18: ='CI Service Utilizer'!C18/'All Eligible'!C14 -> 0.0011491318 | D18: ='CI Service Utilizer'!D18/'All Eligible'!D14 -> 0.00014614897 | E18: ='CI Service Utilizer'!E18/'All Eligible'!E14 -> 0.00023534949 | F18: ='CI Service Utilizer'!F18/'All Eligible'!F14 -> 0.00037196846 | G18: ='CI Service Utilizer'!G18/'All Eligible'!G14 -> 0.00013622122 | H18: ='CI Service Utilizer'!H18/'All Eligible'!H14 -> 0.0015644206 | I18: ='CI Service Utilizer'!I18/'All Eligible'!I14 -> 0 | J18: ='CI Service Utilizer'!J18/'All Eligible'!J14 -> 0.00050839632
A19: SFY2021-Q4 | B19: ='CI Service Utilizer'!B19/'All Eligible'!B15 -> 4.3204009e-05 | C19: ='CI Service Utilizer'!C19/'All Eligible'!C15 -> 0.00050175615 | D19: ='CI Service Utilizer'!D19/'All Eligible'!D15 -> 0.00014434527 | E19: ='CI Service Utilizer'!E19/'All Eligible'!E15 -> 0.00010355987 | F19: ='CI Service Utilizer'!F19/'All Eligible'!F15 -> 0.00047827527 | G19: ='CI Service Utilizer'!G19/'All Eligible'!G15 -> 0.00033670034 | H19: ='CI Service Utilizer'!H19/'All Eligible'!H15 -> 0.0024945175 | I19: ='CI Service Utilizer'!I19/'All Eligible'!I15 -> 0 | J19: ='CI Service Utilizer'!J19/'All Eligible'!J15 -> 0.00063553567
A20: 2021 Distinct Utilizers
A21: SFY2022-Q1 | B21: ='CI Service Utilizer'!B21/'All Eligible'!B17 -> 8.5962348e-05 | C21: ='CI Service Utilizer'!C21/'All Eligible'!C17 -> 0.00024789291 | D21: ='CI Service Utilizer'!D21/'All Eligible'!D17 -> 0.00031064806 | E21: ='CI Service Utilizer'!E21/'All Eligible'!E17 -> 7.6930967e-05 | F21: ='CI Service Utilizer'!F21/'All Eligible'!F17 -> 0.00021922613 | G21: ='CI Service Utilizer'!G21/'All Eligible'!G17 -> 0.00033207146 | H21: ='CI Service Utilizer'!H21/'All Eligible'!H17 -> 0.0015664245 | I21: ='CI Service Utilizer'!I21/'All Eligible'!I17 -> 0 | J21: ='CI Service Utilizer'!J21/'All Eligible'!J17 -> 0.00045368581
A22: SFY2022-Q2 | B22: ='CI Service Utilizer'!B22/'All Eligible'!B18 -> 0.00016865539 | C22: ='CI Service Utilizer'!C22/'All Eligible'!C18 -> 0.00073233248 | D22: ='CI Service Utilizer'!D22/'All Eligible'!D18 -> 0.00014235551 | E22: ='CI Service Utilizer'!E22/'All Eligible'!E18 -> 0.00015209511 | F22: ='CI Service Utilizer'!F22/'All Eligible'!F18 -> 0.00032496841 | G22: ='CI Service Utilizer'!G22/'All Eligible'!G18 -> 0.00026186579 | H22: ='CI Service Utilizer'!H22/'All Eligible'!H18 -> 0.0014629994 | I22: ='CI Service Utilizer'!I22/'All Eligible'!I18 -> 0 | J22: ='CI Service Utilizer'!J22/'All Eligible'!J18 -> 0.00045682496
A23: SFY2022-Q3 | B23: ='CI Service Utilizer'!B23/'All Eligible'!B19 -> 0.00016732201 | C23: ='CI Service Utilizer'!C23/'All Eligible'!C19 -> 0.0013225923 | D23: ='CI Service Utilizer'!D23/'All Eligible'!D19 -> 0.00014057777 | E23: ='CI Service Utilizer'!E23/'All Eligible'!E19 -> 0.00012558397 | F23: ='CI Service Utilizer'!F23/'All Eligible'!F19 -> 0.00014306152 | G23: ='CI Service Utilizer'!G23/'All Eligible'!G19 -> 0.00045237172 | H23: ='CI Service Utilizer'!H23/'All Eligible'!H19 -> 0.0015245104 | I23: ='CI Service Utilizer'!I23/'All Eligible'!I19 -> 0 | J23: ='CI Service Utilizer'!J23/'All Eligible'!J19 -> 0.00047378711
A24: SFY2022-Q4 | B24: ='CI Service Utilizer'!B24/'All Eligible'!B20 -> 0.00020897768 | C24: ='CI Service Utilizer'!C24/'All Eligible'!C20 -> 0 | D24: ='CI Service Utilizer'!D24/'All Eligible'!D20 -> 4.6754097e-05 | E24: ='CI Service Utilizer'!E24/'All Eligible'!E20 -> 0.00014978655 | F24: ='CI Service Utilizer'!F24/'All Eligible'!F20 -> 0.00028454562 | G24: ='CI Service Utilizer'!G24/'All Eligible'!G20 -> 0.00019193858 | H24: ='CI Service Utilizer'!H24/'All Eligible'!H20 -> 0.0014820593 | I24: ='CI Service Utilizer'!I24/'All Eligible'!I20 -> 0 | J24: ='CI Service Utilizer'!J24/'All Eligible'!J20 -> 0.0004040263
A25: 2022 Distinct Utilizers
A26: SFY2023-Q1 | B26: ='CI Service Utilizer'!B26/'All Eligible'!B22 -> 4.1245618e-05 | C26: ='CI Service Utilizer'!C26/'All Eligible'!C22 -> 0.00093929787 | D26: ='CI Service Utilizer'!D26/'All Eligible'!D22 -> 0.00011594472 | E26: ='CI Service Utilizer'!E26/'All Eligible'!E22 -> 0.00012339585 | F26: ='CI Service Utilizer'!F26/'All Eligible'!F22 -> 0.00017630465 | G26: ='CI Service Utilizer'!G26/'All Eligible'!G22 -> 0.00056904401 | H26: ='CI Service Utilizer'!H26/'All Eligible'!H22 -> 0.0012308955 | I26: ='CI Service Utilizer'!I26/'All Eligible'!I22 -> 0 | J26: ='CI Service Utilizer'!J26/'All Eligible'!J22 -> 0.00040158851
A27: 2023 Distinct Utilizers

Sheet Crisis Psyco Service Utilities
A1: Crisis Psychotherapy
A2: Table 1: Crisis Psychotherapy - Distinct service utilizers per Region/Quarter
A3: Description: This table displays distinct number of members between the ages of 0 to 17, by quarter who utilized the indicated service between 7/1/2018 to 9/30/2022. Note: Total distinct utilizer count represents an unduplicated (distinct) count of utilizers for the given state fiscal year across all quarters and/or regions combined. Data as of 11/07/2022. Includes Procedure Includes ('90839','90840')
B4: Region 1 | C4: Region 2 | D4: Region 3 | E4: Region 4 | F4: Region 5 | G4: Region 6 | H4: Region 7 | I4: Region 9 / Out of State | J4: Total
A5: Service Date SFY-Qtr | B5: Distinct Utilizers | C5: Distinct Utilizers | D5: Distinct Utilizers | E5: Distinct Utilizers | F5: Distinct Utilizers | G5: Distinct Utilizers | H5: Distinct Utilizers | I5: Distinct Utilizers | J5: Distinct Utilizers
A6: SFY2019-Q1 | B6: 0 | C6: 0 | D6: 0 | E6: 0 | F6: 0 | G6: 0 | H6: 0 | I6: 0 | J6: 0
A7: SFY2019-Q2 | B7: 0 | C7: 0 | D7: 0 | E7: 0 | F7: 0 | G7: 0 | H7: 0 | I7: 0 | J7: 0
A8: SFY2019-Q3 | B8: 0 | C8: 0 | D8: 0 | E8: 0 | F8: 0 | G8: 0 | H8: 0 | I8: 0 | J8: 0
A9: SFY2019-Q4 | B9: 0 | C9: 0 | D9: 0 | E9: 0 | F9: 0 | G9: 0 | H9: 0 | I9: 0 | J9: 0
A10: 2019 Distinct Utilizers | B10: 0 | C10: 0 | D10: 0 | E10: 0 | F10: 0 | G10: 0 | H10: 0 | I10: 0 | J10: 0
A11: SFY2020-Q1 | B11: 0 | C11: 0 | D11: 0 | E11: 0 | F11: 0 | G11: 0 | H11: 0 | I11: 0 | J11: 0
A12: SFY2020-Q2 | B12: 0 | C12: 0 | D12: 0 | E12: 0 | F12: 0 | G12: 0 | H12: 0 | I12: 0 | J12: 0
A13: SFY2020-Q3 | B13: 22 | C13: 3 | D13: 5 | E13: 6 | F13: 5 | G13: 2 | H13: 18 | I13: 0 | J13: 61
A14: SFY2020-Q4 | B14: 31 | C14: 1 | D14: 6 | E14: 20 | F14: 6 | G14: 8 | H14: 16 | I14: 0 | J14: 88
A15: 2020 Distinct Utilizers | B15: 49 | C15: 4 | D15: 11 | E15: 26 | F15: 11 | G15: 10 | H15: 32 | I15: 0 | J15: 143
A16: SFY2021-Q1 | B16: 17 | C16: 0 | D16: 9 | E16: 26 | F16: 10 | G16: 4 | H16: 14 | I16: 2 | J16: 82
A17: SFY2021-Q2 | B17: 24 | C17: 2 | D17: 12 | E17: 24 | F17: 14 | G17: 9 | H17: 30 | I17: 1 | J17: 116
... A27: 2023 Distinct Utilizers | B27: 8 | C27: 4 | D27: 18 | E27: 22 | F27: 12 | G27: 6 | H27: 45 | I27: 0 | J27: 115

Sheet Crisis Psyco Member Utilities
A1: Crisis Psychotherapy
A2: Table 1: Crisis Psychotherapy - Member Utilization per Region/Quarter
A3: Description: This table displays distinct number of members between the ages of 0 to 17, by quarter who utilized the indicated service between 7/1/2018 to 9/30/2022. Note: Total distinct utilizer count represents an unduplicated (distinct) count of utilizers for the given state fiscal year across all quarters and/or regions combined. Data as of 11/07/2022 Includes Procedure Includes ('90839','90840')
B4: Region 1 | C4: Region 2 | D4: Region 3 | E4: Region 4 | F4: Region 5 | G4: Region 6 | H4: Region 7 | I4: Region 9 / Out of State | J4: Total
A5: Service Date SFY-Qtr | B5: Member Utilization | C5: Member Utilization | D5: Member Utilization | E5: Member Utilization | F5: Member Utilization | G5: Member Utilization | H5: Member Utilization | I5: Member Utilization | J5: Member Utilization
A6: SFY2019-Q1 | B6: ='Crisis Psyco Service Utilities'!B6/'All Eligible'!B2 -> 0 | C6: ='Crisis Psyco Service Utilities'!C6/'All Eligible'!C2 -> 0 | D6: ='Crisis Psyco Service Utilities'!D6/'All Eligible'!D2 -> 0 | E6: ='Crisis Psyco Service Utilities'!E6/'All Eligible'!E2 -> 0 | F6: ='Crisis Psyco Service Utilities'!F6/'All Eligible'!F2 -> 0 | G6: ='Crisis Psyco Service Utilities'!G6/'All Eligible'!G2 -> 0 | H6: ='Crisis Psyco Service Utilities'!H6/'All Eligible'!H2 -> 0 | I6: ='Crisis Psyco Service Utilities'!I6/'All Eligible'!I2 -> 0 | J6: ='Crisis Psyco Service Utilities'!J6/'All Eligible'!J2 -> 0
A7: SFY2019-Q2 | B7: ='Crisis Psyco Service Utilities'!B7/'All Eligible'!B3 -> 0 | C7: ='Crisis Psyco Service Utilities'!C7/'All Eligible'!C3 -> 0 | D7: ='Crisis Psyco Service Utilities'!D7/'All Eligible'!D3 -> 0 | E7: ='Crisis Psyco Service Utilities'!E7/'All Eligible'!E3 -> 0 | F7: ='Crisis Psyco Service Utilities'!F7/'All Eligible'!F3 -> 0 | G7: ='Crisis Psyco Service Utilities'!G7/'All Eligible'!G3 -> 0 | H7: ='Crisis Psyco Service Utilities'!H7/'All Eligible'!H3 -> 0 | I7: ='Crisis Psyco Service Utilities'!I7/'All Eligible'!I3 -> 0 | J7: ='Crisis Psyco Service Utilities'!J7/'All Eligible'!J3 -> 0
A8: SFY2019-Q3 | B8: ='Crisis Psyco Service Utilities'!B8/'All Eligible'!B4 -> 0 | C8: ='Crisis Psyco Service Utilities'!C8/'All Eligible'!C4 -> 0 | D8: ='Crisis Psyco Service Utilities'!D8/'All Eligible'!D4 -> 0 | E8: ='Crisis Psyco Service Utilities'!E8/'All Eligible'!E4 -> 0 | F8: ='Crisis Psyco Service Utilities'!F8/'All Eligible'!F4 -> 0 | G8: ='Crisis Psyco Service Utilities'!G8/'All Eligible'!G4 -> 0 | H8: ='Crisis Psyco Service Utilities'!H8/'All Eligible'!H4 -> 0 | I8: ='Crisis Psyco Service Utilities'!I8/'All Eligible'!I4 -> 0 | J8: ='Crisis Psyco Service Utilities'!J8/'All Eligible'!J4 -> 0
A9: SFY2019-Q4 | B9: ='Crisis Psyco Service Utilities'!B9/'All Eligible'!B5 -> 0 | C9: ='Crisis Psyco Service Utilities'!C9/'All Eligible'!C5 -> 0 | D9: ='Crisis Psyco Service Utilities'!D9/'All Eligible'!D5 -> 0 | E9: ='Crisis Psyco Service Utilities'!E9/'All Eligible'!E5 -> 0 | F9: ='Crisis Psyco Service Utilities'!F9/'All Eligible'!F5 -> 0 | G9: ='Crisis Psyco Service Utilities'!G9/'All Eligible'!G5 -> 0 | H9: ='Crisis Psyco Service Utilities'!H9/'All Eligible'!H5 -> 0 | I9: ='Crisis Psyco Service Utilities'!I9/'All Eligible'!I5 -> 0 | J9: ='Crisis Psyco Service Utilities'!J9/'All Eligible'!J5 -> 0
A10: 2019 Distinct Utilizers
A11: SFY2020-Q1 | B11: ='Crisis Psyco Service Utilities'!B11/'All Eligible'!B7 -> 0 | C11: ='Crisis Psyco Service Utilities'!C11/'All Eligible'!C7 -> 0 | D11: ='Crisis Psyco Service Utilities'!D11/'All Eligible'!D7 -> 0 | E11: ='Crisis Psyco Service Utilities'!E11/'All Eligible'!E7 -> 0 | F11: ='Crisis Psyco Service Utilities'!F11/'All Eligible'!F7 -> 0 | G11: ='Crisis Psyco Service Utilities'!G11/'All Eligible'!G7 -> 0 | H11: ='Crisis Psyco Service Utilities'!H11/'All Eligible'!H7 -> 0 | I11: ='Crisis Psyco Service Utilities'!I11/'All Eligible'!I7 -> 0 | J11: ='Crisis Psyco Service Utilities'!J11/'All Eligible'!J7 -> 0
A12: SFY2020-Q2 | B12: ='Crisis Psyco Service Utilities'!B12/'All Eligible'!B8 -> 0 | C12: ='Crisis Psyco Service Utilities'!C12/'All Eligible'!C8 -> 0 | D12: ='Crisis Psyco Service Utilities'!D12/'All Eligible'!D8 -> 0 | E12: ='Crisis Psyco Service Utilities'!E12/'All Eligible'!E8 -> 0 | F12: ='Crisis Psyco Service Utilities'!F12/'All Eligible'!F8 -> 0 | G12: ='Crisis Psyco Service Utilities'!G12/'All Eligible'!G8 -> 0 | H12: ='Crisis Psyco Service Utilities'!H12/'All Eligible'!H8 -> 0 | I12: ='Crisis Psyco Service Utilities'!I12/'All Eligible'!I8 -> 0 | J12: ='Crisis Psyco Service Utilities'!J12/'All Eligible'!J8 -> 0
A13: SFY2020-Q3 | B13: ='Crisis Psyco Service Utilities'!B13/'All Eligible'!B9 -> 0.0010674948 | C13: ='Crisis Psyco Service Utilities'!C13/'All Eligible'!C9 -> 0.0004189359 | D13: ='Crisis Psyco Service Utilities'!D13/'All Eligible'!D9 -> 0.00013208295 | E13: ='Crisis Psyco Service Utilities'!E13/'All Eligible'!E9 -> 0.00017065817 | F13: ='Crisis Psyco Service Utilities'!F13/'All Eligible'!F9 -> 0.00020322725 | G13: ='Crisis Psyco Service Utilities'!G13/'All Eligible'!G9 -> 0.00014926487 | H13: ='Crisis Psyco Service Utilities'!H13/'All Eligible'!H9 -> 0.00054859651 | I13: ='Crisis Psyco Service Utilities'!I13/'All Eligible'!I9 -> 0 | J13: ='Crisis Psyco Service Utilities'!J13/'All Eligible'!J9 -> 0.00034261194
A14: SFY2020-Q4 | B14: ='Crisis Psyco Service Utilities'!B14/'All Eligible'!B10 -> 0.0014637832 | C14: ='Crisis Psyco Service Utilities'!C14/'All Eligible'!C10 -> 0.00013633265 | D14: ='Crisis Psyco Service Utilities'!D14/'All Eligible'!D10 -> 0.00015495067 | E14: ='Crisis Psyco Service Utilities'!E14/'All Eligible'!E10 -> 0.00055572536 | F14: ='Crisis Psyco Service Utilities'!F14/'All Eligible'!F10 -> 0.00023827489 | G14: ='Crisis Psyco Service Utilities'!G14/'All Eligible'!G10 -> 0.00058076225 | H14: ='Crisis Psyco Service Utilities'!H14/'All Eligible'!H10 -> 0.00047901323 | I14: ='Crisis Psyco Service Utilities'!I14/'All Eligible'!I10 -> 0 | J14: ='Crisis Psyco Service Utilities'!J14/'All Eligible'!J10 -> 0.00048362543
A15: 2020 Distinct Utilizers
A16: SFY2021-Q1 | B16: ='Crisis Psyco Service Utilities'!B16/'All Eligible'!B12 -> 0.0007802102 | C16: ='Crisis Psyco Service Utilities'!C16/'All Eligible'!C12 -> 0 | D16: ='Crisis Psyco Service Utilities'!D16/'All Eligible'!D12 -> 0.00022712361 | E16: ='Crisis Psyco Service Utilities'!E16/'All Eligible'!E12 -> 0.00070510387 | F16: ='Crisis Psyco Service Utilities'!F16/'All Eligible'!F12 -> 0.0003866976 | G16: ='Crisis Psyco Service Utilities'!G16/'All Eligible'!G12 -> 0.0002822666 | H16: ='Crisis Psyco Service Utilities'!H16/'All Eligible'!H12 -> 0.00040663394 | I16: ='Crisis Psyco Service Utilities'!I16/'All Eligible'!I12 -> 0.00031847134 | J16: ='Crisis Psyco Service Utilities'!J16/'All Eligible'!J12 -> 0.00043948976
A17: SFY2021-Q2 | B17: ='Crisis Psyco Service Utilities'!B17/'All Eligible'!B13 -> 0.0010734413 | C17: ='Crisis Psyco Service Utilities'!C17/'All Eligible'!C13 -> 0.00025819778 | D17: ='Crisis Psyco Service Utilities'!D17/'All Eligible'!D13 -> 0.00029645001 | E17: ='Crisis Psyco Service Utilities'!E17/'All Eligible'!E13 -> 0.00063652036 | F17: ='Crisis Psyco Service Utilities'!F17/'All Eligible'!F13 -> 0.00052860109 | G17: ='Crisis Psyco Service Utilities'!G17/'All Eligible'!G13 -> 0.00062279427 | H17: ='Crisis Psyco Service Utilities'!H17/'All Eligible'!H13 -> 0.00085316952 | I17: ='Crisis Psyco Service Utilities'!I17/'All Eligible'!I13 -> 0.00017780939 | J17: ='Crisis Psyco Service Utilities'!J17/'All Eligible'!J13 -> 0.00061049097
A18: SFY2021-Q3 | B18: ='Crisis Psyco Service Utilities'!B18/'All Eligible'!B14 -> 0.00092129508 | C18: ='Crisis Psyco Service Utilities'!C18/'All Eligible'!C14 -> 0.00012768131 | D18: ='Crisis Psyco Service Utilities'!D18/'All Eligible'!D14 -> 0.0003897306 | E18: ='Crisis Psyco Service Utilities'!E18/'All Eligible'!E14 -> 0.00052299888 | F18: ='Crisis Psyco Service Utilities'!F18/'All Eligible'!F14 -> 0.00074393691 | G18: ='Crisis Psyco Service Utilities'!G18/'All Eligible'!G14 -> 0.00054488489 | H18: ='Crisis Psyco Service Utilities'!H18/'All Eligible'!H14 -> 0.00086601855 | I18: ='Crisis Psyco Service Utilities'!I18/'All Eligible'!I14 -> 0 | J18: ='Crisis Psyco Service Utilities'!J18/'All Eligible'!J14 -> 0.00060696295
A19: SFY2021-Q4 | B19: ='Crisis Psyco Service Utilities'!B19/'All Eligible'!B15 -> 0.0013825283 | C19: ='Crisis Psyco Service Utilities'!C19/'All Eligible'!C15 -> 0.00012543904 | D19: ='Crisis Psyco Service Utilities'!D19/'All Eligible'!D15 -> 0.00024057546 | E19: ='Crisis Psyco Service Utilities'!E19/'All Eligible'!E15 -> 0.00056957929 | F19: ='Crisis Psyco Service Utilities'!F19/'All Eligible'!F15 -> 0.00080938891 | G19: ='Crisis Psyco Service Utilities'!G19/'All Eligible'!G15 -> 0.00067340067 | H19: ='Crisis Psyco Service Utilities'!H19/'All Eligible'!H15 -> 0.0010142544 | I19: ='Crisis Psyco Service Utilities'!I19/'All Eligible'!I15 -> 0 | J19: ='Crisis Psyco Service Utilities'!J19/'All Eligible'!J15 -> 0.00068678855
A20: 2021 Distinct Utilizers
A21: SFY2022-Q1 | B21: ='Crisis Psyco Service Utilities'!B21/'All Eligible'!B17 -> 0.00094558583 | C21: ='Crisis Psyco Service Utilities'!C21/'All Eligible'!C17 -> 0.00012394646 | D21: ='Crisis Psyco Service Utilities'!D21/'All Eligible'!D17 -> 0.00019116804 | E21: ='Crisis Psyco Service Utilities'!E21/'All Eligible'!E17 -> 0.00041029849 | F21: ='Crisis Psyco Service Utilities'!F21/'All Eligible'!F17 -> 0.00087690453 | G21: ='Crisis Psyco Service Utilities'!G21/'All Eligible'!G17 -> 0.00039848575 | H21: ='Crisis Psyco Service Utilities'!H21/'All Eligible'!H17 -> 0.00075620493 | I21: ='Crisis Psyco Service Utilities'!I21/'All Eligible'!I17 -> 0 | J21: ='Crisis Psyco Service Utilities'!J21/'All Eligible'!J17 -> 0.00053524731
A22: SFY2022-Q2 | B22: ='Crisis Psyco Service Utilities'!B22/'All Eligible'!B18 -> 0.00092760467 | C22: ='Crisis Psyco Service Utilities'!C22/'All Eligible'!C18 -> 0.00012205541 | D22: ='Crisis Psyco Service Utilities'!D22/'All Eligible'!D18 -> 0.00045079245 | E22: ='Crisis Psyco Service Utilities'!E22/'All Eligible'!E18 -> 0.00076047555 | F22: ='Crisis Psyco Service Utilities'!F22/'All Eligible'!F18 -> 0.00093879762 | G22: ='Crisis Psyco Service Utilities'!G22/'All Eligible'!G18 -> 0.0001309329 | H22: ='Crisis Psyco Service Utilities'!H22/'All Eligible'!H18 -> 0.00093099963 | I22: ='Crisis Psyco Service Utilities'!I22/'All Eligible'!I18 -> 0 | J22: ='Crisis Psyco Service Utilities'!J22/'All Eligible'!J18 -> 0.00068523745
A23: SFY2022-Q3 | B23: ='Crisis Psyco Service Utilities'!B23/'All Eligible'!B19 -> 0.0010457626 | C23: ='Crisis Psyco Service Utilities'!C23/'All Eligible'!C19 -> 0.00084164963 | D23: ='Crisis Psyco Service Utilities'!D23/'All Eligible'!D19 -> 0.00032801481 | E23: ='Crisis Psyco Service Utilities'!E23/'All Eligible'!E19 -> 0.00095443814 | F23: ='Crisis Psyco Service Utilities'!F23/'All Eligible'!F19 -> 0.00050071531 | G23: ='Crisis Psyco Service Utilities'!G23/'All Eligible'!G19 -> 0.00077549438 | H23: ='Crisis Psyco Service Utilities'!H23/'All Eligible'!H19 -> 0.0013142331 | I23: ='Crisis Psyco Service Utilities'!I23/'All Eligible'!I19 -> 0 | J23: ='Crisis Psyco Service Utilities'!J23/'All Eligible'!J19 -> 0.00079795723
A24: SFY2022-Q4 | B24: ='Crisis Psyco Service Utilities'!B24/'All Eligible'!B20 -> 0.00083591072 | C24: ='Crisis Psyco Service Utilities'!C24/'All Eligible'!C20 -> 0.00071856287 | D24: ='Crisis Psyco Service Utilities'!D24/'All Eligible'!D20 -> 0.00044416392 | E24: ='Crisis Psyco Service Utilities'!E24/'All Eligible'!E20 -> 0.00067403949 | F24: ='Crisis Psyco Service Utilities'!F24/'All Eligible'!F20 -> 0.00049795483 | G24: ='Crisis Psyco Service Utilities'!G24/'All Eligible'!G20 -> 0.00044785669 | H24: ='Crisis Psyco Service Utilities'!H24/'All Eligible'!H20 -> 0.0012480499 | I24: ='Crisis Psyco Service Utilities'!I24/'All Eligible'!I20 -> 0 | J24: ='Crisis Psyco Service Utilities'!J24/'All Eligible'!J20 -> 0.00070330503
A25: 2022 Distinct Utilizers
A26: SFY2023-Q1 | B26: ='Crisis Psyco Service Utilities'!B26/'All Eligible'!B22 -> 0.00032996494 | C26: ='Crisis Psyco Service Utilities'!C26/'All Eligible'!C22 -> 0.00046964894 | D26: ='Crisis Psyco Service Utilities'!D26/'All Eligible'!D22 -> 0.00041740098 | E26: ='Crisis Psyco Service Utilities'!E26/'All Eligible'!E22 -> 0.00054294176 | F26: ='Crisis Psyco Service Utilities'!F26/'All Eligible'!F22 -> 0.00042313117 | G26: ='Crisis Psyco Service Utilities'!G26/'All Eligible'!G22 -> 0.00037936267 | H26: ='Crisis Psyco Service Utilities'!H26/'All Eligible'!H22 -> 0.0011539645 | I26: ='Crisis Psyco Service Utilities'!I26/'All Eligible'!I22 -> 0 | J26: ='Crisis Psyco Service Utilities'!J26/'All Eligible'!J22 -> 0.00057015652
A27: 2023 Distinct Utilizers

Sheet Crisis Resp Service Utilizer
A1: Crisis Response
A2: Table 1: Crisis Response - Distinct service utilizers per Region/Quarter
A3: Description: This table displays distinct number of members between the ages of 0 to 17, by quarter who utilized the indicated service between 7/1/2018 to 9/30/2022. Note: Total distinct utilizer count represents an unduplicated (distinct) count of utilizers for the given state fiscal year across all quarters and/or regions combined. Data as of 11/07/2022. Includes Procedure Code ( 'H0030')
B4: Region 1 | C4: Region 2 | D4: Region 3 | E4: Region 4 | F4: Region 5 | G4: Region 6 | H4: Region 7 | I4: Region 9 / Out of State | J4: Total
A5: Service Date SFY-Qtr | B5: Distinct Utilizers | C5: Distinct Utilizers | D5: Distinct Utilizers | E5: Distinct Utilizers | F5: Distinct Utilizers | G5: Distinct Utilizers | H5: Distinct Utilizers | I5: Distinct Utilizers | J5: Distinct Utilizers
A6: SFY2019-Q1 | B6: 0 | C6: 0 | D6: 0 | E6: 0 | F6: 0 | G6: 0 | H6: 0 | I6: 0 | J6: 0
A7: SFY2019-Q2 | B7: 1 | C7: 4 | D7: 1 | E7: 6 | F7: 3 | G7: 2 | H7: 1 | I7: 0 | J7: 18
A8: SFY2019-Q3 | B8: 6 | C8: 2 | D8: 1 | E8: 9 | F8: 2 | G8: 4 | H8: 6 | I8: 0 | J8: 30
A9: SFY2019-Q4 | B9: 21 | C9: 2 | D9: 4 | E9: 6 | F9: 3 | G9: 4 | H9: 8 | I9: 0 | J9: 48
A10: 2019 Distinct Utilizers | B10: 26 | C10: 8 | D10: 6 | E10: 19 | F10: 8 | G10: 10 | H10: 12 | J10: 88
A11: SFY2020-Q1 | B11: 8 | C11: 0 | D11: 2 | E11: 4 | F11: 2 | G11: 3 | H11: 3 | I11: 0 | J11: 22
A12: SFY2020-Q2 | B12: 14 | C12: 5 | D12: 2 | E12: 10 | F12: 0 | G12: 4 | H12: 18 | I12: 0 | J12: 53
A13: SFY2020-Q3 | B13: 19 | C13: 4 | D13: 5 | E13: 18 | F13: 6 | G13: 4 | H13: 12 | I13: 0 | J13: 67
A14: SFY2020-Q4 | B14: 22 | C14: 2 | D14: 6 | E14: 14 | F14: 9 | G14: 3 | H14: 10 | I14: 0 | J14: 66
A15: 2020 Distinct Utilizers | B15: 51 | C15: 10 | D15: 15 | E15: 45 | F15: 17 | G15: 14 | H15: 36 | I15: 0 | J15: 187
A16: SFY2021-Q1 | B16: 11 | C16: 0 | D16: 8 | E16: 9 | F16: 6 | G16: 2 | H16: 10 | I16: 0 | J16: 46
A17: SFY2021-Q2 | B17: 11 | C17: 1 | D17: 10 | E17: 6 | F17: 5 | G17: 1 | H17: 7 | I17: 0 | J17: 41
A18: SFY2021-Q3 | B18: 14 | C18: 0 | D18: 7 | E18: 12 | F18: 8 | G18: 4 | H18: 6 | I18: 0 | J18: 51
A19: SFY2021-Q4 | B19: 13 | C19: 0 | D19: 11 | E19: 10 | F19: 11 | G19: 2 | H19: 12 | I19: 0 | J19: 59
A20: 2021 Distinct Utilizers | B20: 43 | C20: 1 | D20: 30 | E20: 36 | F20: 28 | G20: 7 | H20: 34 | I20: 0 | J20: 178
A21: SFY2022-Q1 | B21: 11 | C21: 2 | D21: 4 | E21: 4 | F21: 4 | G21: 0 | H21: 4 | I21: 0 | J21: 29
A22: SFY2022-Q2 | B22: 6 | C22: 2 | D22: 3 | E22: 5 | F22: 3 | G22: 2 | H22: 5 | I22: 0 | J22: 26
... A27: 2023 Distinct Utilizers | B27: 4 | C27: 1 | D27: 2 | E27: 4 | F27: 1 | G27: 2 | H27: 9 | I27: 0 | J27: 23

Sheet Crisis Resp Member Utilizer
A1: Crisis Response
A2: Table 1: Crisis Response - Member Utilization per Region/Quarter
A3: Description: This table displays distinct number of members between the ages of 0 to 17, by quarter who utilized the indicated service between 7/1/2018 to 9/30/2022. Note: Total distinct utilizer count represents an unduplicated (distinct) count of utilizers for the given state fiscal year across all quarters and/or regions combined. Data as of 11/07/2022. Includes Procedure Code ( 'H0030')
B4: Region 1 | C4: Region 2 | D4: Region 3 | E4: Region 4 | F4: Region 5 | G4: Region 6 | H4: Region 7 | I4: Region 9 / Out of State | J4: Total
A5: Service Date SFY-Qtr | B5: Member Utilization | C5: Member Utilization | D5: Member Utilization | E5: Member Utilization | F5: Member Utilization | G5: Member Utilization | H5: Member Utilization | I5: Member Utilization | J5: Member Utilization
A6: SFY2019-Q1 | B6: ='Crisis Resp Service Utilizer'!B6/'All Eligible'!B2 -> 0 | C6: ='Crisis Resp Service Utilizer'!C6/'All Eligible'!C2 -> 0 | D6: ='Crisis Resp Service Utilizer'!D6/'All Eligible'!D2 -> 0 | E6: ='Crisis Resp Service Utilizer'!E6/'All Eligible'!E2 -> 0 | F6: ='Crisis Resp Service Utilizer'!F6/'All Eligible'!F2 -> 0 | G6: ='Crisis Resp Service Utilizer'!G6/'All Eligible'!G2 -> 0 | H6: ='Crisis Resp Service Utilizer'!H6/'All Eligible'!H2 -> 0 | I6: ='Crisis Resp Service Utilizer'!I6/'All Eligible'!I2 -> 0 | J6: ='Crisis Resp Service Utilizer'!J6/'All Eligible'!J2 -> 0
A7: SFY2019-Q2 | B7: ='Crisis Resp Service Utilizer'!B7/'All Eligible'!B3 -> 4.3096018e-05 | C7: ='Crisis Resp Service Utilizer'!C7/'All Eligible'!C3 -> 0.000505689 | D7: ='Crisis Resp Service Utilizer'!D7/'All Eligible'!D3 -> 2.3022378e-05 | E7: ='Crisis Resp Service Utilizer'!E7/'All Eligible'!E3 -> 0.00015033449 | F7: ='Crisis Resp Service Utilizer'!F7/'All Eligible'!F3 -> 0.00010884551 | G7: ='Crisis Resp Service Utilizer'!G7/'All Eligible'!G3 -> 0.00013456234 | H7: ='Crisis Resp Service Utilizer'!H7/'All Eligible'!H3 -> 2.739726e-05 | I7: ='Crisis Resp Service Utilizer'!I7/'All Eligible'!I3 -> 0 | J7: ='Crisis Resp Service Utilizer'!J7/'All Eligible'!J3 -> 8.9456107e-05
A8: SFY2019-Q3 | B8: ='Crisis Resp Service Utilizer'!B8/'All Eligible'!B4 -> 0.00026785714 | C8: ='Crisis Resp Service Utilizer'!C8/'All Eligible'!C4 -> 0.00026007802 | D8: ='Crisis Resp Service Utilizer'!D8/'All Eligible'!D4 -> 2.4080139e-05 | E8: ='Crisis Resp Service Utilizer'!E8/'All Eligible'!E4 -> 0.00023459493 | F8: ='Crisis Resp Service Utilizer'!F8/'All Eligible'!F4 -> 7.5108908e-05 | G8: ='Crisis Resp Service Utilizer'!G8/'All Eligible'!G4 -> 0.00027802878 | H8: ='Crisis Resp Service Utilizer'!H8/'All Eligible'!H4 -> 0.00017047876 | I8: ='Crisis Resp Service Utilizer'!I8/'All Eligible'!I4 -> 0 | J8: ='Crisis Resp Service Utilizer'!J8/'All Eligible'!J4 -> 0.00015485629
A9: SFY2019-Q4 | B9: ='Crisis Resp Service Utilizer'!B9/'All Eligible'!B5 -> 0.00092515089 | C9: ='Crisis Resp Service Utilizer'!C9/'All Eligible'!C5 -> 0.00025789813 | D9: ='Crisis Resp Service Utilizer'!D9/'All Eligible'!D5 -> 9.5133901e-05 | E9: ='Crisis Resp Service Utilizer'!E9/'All Eligible'!E5 -> 0.00015474686 | F9: ='Crisis Resp Service Utilizer'!F9/'All Eligible'!F5 -> 0.00011100422 | G9: ='Crisis Resp Service Utilizer'!G9/'All Eligible'!G5 -> 0.000275558 | H9: ='Crisis Resp Service Utilizer'!H9/'All Eligible'!H5 -> 0.0002237199 | I9: ='Crisis Resp Service Utilizer'!I9/'All Eligible'!I5 -> 0 | J9: ='Crisis Resp Service Utilizer'!J9/'All Eligible'!J5 -> 0.00024485673
A10: 2019 Distinct Utilizers
A11: SFY2020-Q1 | B11: ='Crisis Resp Service Utilizer'!B11/'All Eligible'!B7 -> 0.00035824638 | C11: ='Crisis Resp Service Utilizer'!C11/'All Eligible'!C7 -> 0 | D11: ='Crisis Resp Service Utilizer'!D11/'All Eligible'!D7 -> 4.8812633e-05 | E11: ='Crisis Resp Service Utilizer'!E11/'All Eligible'!E7 -> 0.00010489602 | F11: ='Crisis Resp Service Utilizer'!F11/'All Eligible'!F7 -> 7.5483092e-05 | G11: ='Crisis Resp Service Utilizer'!G11/'All Eligible'!G7 -> 0.00021058543 | H11: ='Crisis Resp Service Utilizer'!H11/'All Eligible'!H7 -> 8.5123287e-05 | I11: ='Crisis Resp Service Utilizer'!I11/'All Eligible'!I7 -> 0 | J11: ='Crisis Resp Service Utilizer'!J11/'All Eligible'!J7 -> 0.0001143469
A12: SFY2020-Q2 | B12: ='Crisis Resp Service Utilizer'!B12/'All Eligible'!B8 -> 0.00063529519 | C12: ='Crisis Resp Service Utilizer'!C12/'All Eligible'!C8 -> 0.00065737576 | D12: ='Crisis Resp Service Utilizer'!D12/'All Eligible'!D8 -> 4.9257444e-05 | E12: ='Crisis Resp Service Utilizer'!E12/'All Eligible'!E8 -> 0.00026618399 | F12: ='Crisis Resp Service Utilizer'!F12/'All Eligible'!F8 -> 0 | G12: ='Crisis Resp Service Utilizer'!G12/'All Eligible'!G8 -> 0.00028042625 | H12: ='Crisis Resp Service Utilizer'!H12/'All Eligible'!H8 -> 0.00051366931 | I12: ='Crisis Resp Service Utilizer'!I12/'All Eligible'!I8 -> 0 | J12: ='Crisis Resp Service Utilizer'!J12/'All Eligible'!J8 -> 0.00027887251
A13: SFY2020-Q3 | B13: ='Crisis Resp Service Utilizer'!B13/'All Eligible'!B9 -> 0.00092192731 | C13: ='Crisis Resp Service Utilizer'!C13/'All Eligible'!C9 -> 0.0005585812 | D13: ='Crisis Resp Service Utilizer'!D13/'All Eligible'!D9 -> 0.00013208295 | E13: ='Crisis Resp Service Utilizer'!E13/'All Eligible'!E9 -> 0.00051197452 | F13: ='Crisis Resp Service Utilizer'!F13/'All Eligible'!F9 -> 0.0002438727 | G13: ='Crisis Resp Service Utilizer'!G13/'All Eligible'!G9 -> 0.00029852974 | H13: ='Crisis Resp Service Utilizer'!H13/'All Eligible'!H9 -> 0.000365731 | I13: ='Crisis Resp Service Utilizer'!I13/'All Eligible'!I9 -> 0 | J13: ='Crisis Resp Service Utilizer'!J13/'All Eligible'!J9 -> 0.00037631147
A14: SFY2020-Q4 | B14: ='Crisis Resp Service Utilizer'!B14/'All Eligible'!B10 -> 0.0010388139 | C14: ='Crisis Resp Service Utilizer'!C14/'All Eligible'!C10 -> 0.0002726653 | D14: ='Crisis Resp Service Utilizer'!D14/'All Eligible'!D10 -> 0.00015495067 | E14: ='Crisis Resp Service Utilizer'!E14/'All Eligible'!E10 -> 0.00038900775 | F14: ='Crisis Resp Service Utilizer'!F14/'All Eligible'!F10 -> 0.00035741233 | G14: ='Crisis Resp Service Utilizer'!G14/'All Eligible'!G10 -> 0.00021778584 | H14: ='Crisis Resp Service Utilizer'!H14/'All Eligible'!H10 -> 0.00029938327 | I14: ='Crisis Resp Service Utilizer'!I14/'All Eligible'!I10 -> 0 | J14: ='Crisis Resp Service Utilizer'!J14/'All Eligible'!J10 -> 0.00036271907
A15: 2020 Distinct Utilizers
A16: SFY2021-Q1 | B16: ='Crisis Resp Service Utilizer'!B16/'All Eligible'!B12 -> 0.00050484189 | C16: ='Crisis Resp Service Utilizer'!C16/'All Eligible'!C12 -> 0 | D16: ='Crisis Resp Service Utilizer'!D16/'All Eligible'!D12 -> 0.00020188765 | E16: ='Crisis Resp Service Utilizer'!E16/'All Eligible'!E12 -> 0.00024407442 | F16: ='Crisis Resp Service Utilizer'!F16/'All Eligible'!F12 -> 0.00023201856 | G16: ='Crisis Resp Service Utilizer'!G16/'All Eligible'!G12 -> 0.0001411333 | H16: ='Crisis Resp Service Utilizer'!H16/'All Eligible'!H12 -> 0.00029045282 | I16: ='Crisis Resp Service Utilizer'!I16/'All Eligible'!I12 -> 0 | J16: ='Crisis Resp Service Utilizer'!J16/'All Eligible'!J12 -> 0.00024654304
A17: SFY2021-Q2 | B17: ='Crisis Resp Service Utilizer'!B17/'All Eligible'!B13 -> 0.00049199392 | C17: ='Crisis Resp Service Utilizer'!C17/'All Eligible'!C13 -> 0.00012909889 | D17: ='Crisis Resp Service Utilizer'!D17/'All Eligible'!D13 -> 0.00024704168 | E17: ='Crisis Resp Service Utilizer'!E17/'All Eligible'!E13 -> 0.00015913009 | F17: ='Crisis Resp Service Utilizer'!F17/'All Eligible'!F13 -> 0.00018878611 | G17: ='Crisis Resp Service Utilizer'!G17/'All Eligible'!G13 -> 6.9199363e-05 | H17: ='Crisis Resp Service Utilizer'!H17/'All Eligible'!H13 -> 0.00019907289 | I17: ='Crisis Resp Service Utilizer'!I17/'All Eligible'!I13 -> 0 | J17: ='Crisis Resp Service Utilizer'!J17/'All Eligible'!J13 -> 0.00021577698
A18: SFY2021-Q3 | B18: ='Crisis Resp Service Utilizer'!B18/'All Eligible'!B14 -> 0.00061419672 | C18: ='Crisis Resp Service Utilizer'!C18/'All Eligible'!C14 -> 0 | D18: ='Crisis Resp Service Utilizer'!D18/'All Eligible'!D14 -> 0.00017050714 | E18: ='Crisis Resp Service Utilizer'!E18/'All Eligible'!E14 -> 0.00031379933 | F18: ='Crisis Resp Service Utilizer'!F18/'All Eligible'!F14 -> 0.00029757477 | G18: ='Crisis Resp Service Utilizer'!G18/'All Eligible'!G14 -> 0.00027244245 | H18: ='Crisis Resp Service Utilizer'!H18/'All Eligible'!H14 -> 0.00016761649 | I18: ='Crisis Resp Service Utilizer'!I18/'All Eligible'!I14 -> 0 | J18: ='Crisis Resp Service Utilizer'!J18/'All Eligible'!J14 -> 0.0002645736
A19: SFY2021-Q4 | B19: ='Crisis Resp Service Utilizer'!B19/'All Eligible'!B15 -> 0.00056165212 | C19: ='Crisis Resp Service Utilizer'!C19/'All Eligible'!C15 -> 0 | D19: ='Crisis Resp Service Utilizer'!D19/'All Eligible'!D15 -> 0.000264633 | E19: ='Crisis Resp Service Utilizer'!E19/'All Eligible'!E15 -> 0.00025889968 | F19: ='Crisis Resp Service Utilizer'!F19/'All Eligible'!F15 -> 0.00040469446 | G19: ='Crisis Resp Service Utilizer'!G19/'All Eligible'!G15 -> 0.00013468013 | H19: ='Crisis Resp Service Utilizer'!H19/'All Eligible'!H15 -> 0.00032894737 | I19: ='Crisis Resp Service Utilizer'!I19/'All Eligible'!I15 -> 0 | J19: ='Crisis Resp Service Utilizer'!J19/'All Eligible'!J15 -> 0.00030239197
A20: 2021 Distinct Utilizers
A21: SFY2022-Q1 | B21: ='Crisis Resp Service Utilizer'!B21/'All Eligible'!B17 -> 0.00047279292 | C21: ='Crisis Resp Service Utilizer'!C21/'All Eligible'!C17 -> 0.00024789291 | D21: ='Crisis Resp Service Utilizer'!D21/'All Eligible'!D17 -> 9.5584018e-05 | E21: ='Crisis Resp Service Utilizer'!E21/'All Eligible'!E17 -> 0.00010257462 | F21: ='Crisis Resp Service Utilizer'!F21/'All Eligible'!F17 -> 0.00014615075 | G21: ='Crisis Resp Service Utilizer'!G21/'All Eligible'!G17 -> 0 | H21: ='Crisis Resp Service Utilizer'!H21/'All Eligible'!H17 -> 0.00010802928 | I21: ='Crisis Resp Service Utilizer'!I21/'All Eligible'!I17 -> 0 | J21: ='Crisis Resp Service Utilizer'!J21/'All Eligible'!J17 -> 0.00014783021
A22: SFY2022-Q2 | B22: ='Crisis Resp Service Utilizer'!B22/'All Eligible'!B18 -> 0.00025298309 | C22: ='Crisis Resp Service Utilizer'!C22/'All Eligible'!C18 -> 0.00024411083 | D22: ='Crisis Resp Service Utilizer'!D22/'All Eligible'!D18 -> 7.1177755e-05 | E22: ='Crisis Resp Service Utilizer'!E22/'All Eligible'!E18 -> 0.00012674593 | F22: ='Crisis Resp Service Utilizer'!F22/'All Eligible'!F18 -> 0.0001083228 | G22: ='Crisis Resp Service Utilizer'!G22/'All Eligible'!G18 -> 0.0001309329 | H22: ='Crisis Resp Service Utilizer'!H22/'All Eligible'!H18 -> 0.00013299995 | I22: ='Crisis Resp Service Utilizer'!I22/'All Eligible'!I18 -> 0 | J22: ='Crisis Resp Service Utilizer'!J22/'All Eligible'!J18 -> 0.00013197166
A23: SFY2022-Q3 | B23: ='Crisis Resp Service Utilizer'!B23/'All Eligible'!B19 -> 0.00037647453 | C23: ='Crisis Resp Service Utilizer'!C23/'All Eligible'!C19 -> 0.00060117831 | D23: ='Crisis Resp Service Utilizer'!D23/'All Eligible'!D19 -> 2.3429629e-05 | E23: ='Crisis Resp Service Utilizer'!E23/'All Eligible'!E19 -> 0.00010046717 | F23: ='Crisis Resp Service Utilizer'!F23/'All Eligible'!F19 -> 3.5765379e-05 | G23: ='Crisis Resp Service Utilizer'!G23/'All Eligible'!G19 -> 6.4624531e-05 | H23: ='Crisis Resp Service Utilizer'!H23/'All Eligible'!H19 -> 0.00023656197 | I23: ='Crisis Resp Service Utilizer'!I23/'All Eligible'!I19 -> 0.00023174971 | J23: ='Crisis Resp Service Utilizer'!J23/'All Eligible'!J19 -> 0.00015460421
A24: SFY2022-Q4 | B24: ='Crisis Resp Service Utilizer'!B24/'All Eligible'!B20 -> 0.00029256875 | C24: ='Crisis Resp Service Utilizer'!C24/'All Eligible'!C20 -> 0.00023952096 | D24: ='Crisis Resp Service Utilizer'!D24/'All Eligible'!D20 -> 0.00011688524 | E24: ='Crisis Resp Service Utilizer'!E24/'All Eligible'!E20 -> 0.00014978655 | F24: ='Crisis Resp Service Utilizer'!F24/'All Eligible'!F20 -> 0.00010670461 | G24: ='Crisis Resp Service Utilizer'!G24/'All Eligible'!G20 -> 0.00012795905 | H24: ='Crisis Resp Service Utilizer'!H24/'All Eligible'!H20 -> 0.00018200728 | I24: ='Crisis Resp Service Utilizer'!I24/'All Eligible'!I20 -> 0 | J24: ='Crisis Resp Service Utilizer'!J24/'All Eligible'!J20 -> 0.00015961533
A25: 2022 Distinct Utilizers
A26: SFY2023-Q1 | B26: ='Crisis Resp Service Utilizer'!B26/'All Eligible'!B22 -> 0.00016498247 | C26: ='Crisis Resp Service Utilizer'!C26/'All Eligible'!C22 -> 0.00011741223 | D26: ='Crisis Resp Service Utilizer'!D26/'All Eligible'!D22 -> 4.6377887e-05 | E26: ='Crisis Resp Service Utilizer'!E26/'All Eligible'!E22 -> 9.8716683e-05 | F26: ='Crisis Resp Service Utilizer'!F26/'All Eligible'!F22 -> 3.5260931e-05 | G26: ='Crisis Resp Service Utilizer'!G26/'All Eligible'!G22 -> 0.00012645422 | H26: ='Crisis Resp Service Utilizer'!H26/'All Eligible'!H22 -> 0.0002307929 | I26: ='Crisis Resp Service Utilizer'!I26/'All Eligible'!I22 -> 0 | J26: ='Crisis Resp Service Utilizer'!J26/'All Eligible'!J22 -> 0.0001140313
A27: 2023 Distinct Utilizers

Sheet Crisis Svcs Service Utilizer
A1: Crisis Services
A2: Table 1: Crisis Services - Distinct service utilizers per Region/Quarter
A3: Description: This table displays distinct number of members between the ages of 0 to 17, by quarter who utilized the indicated service between 7/1/2018 to 9/30/2022. Note: Total distinct utilizer count represents an unduplicated (distinct) count of utilizers for the given state fiscal year across all quarters and/or regions combined. Data as of 11/07/2022. Includes Procedure Codes ('H2011', 'H0030','90839','90840')
B4: Region 1 | C4: Region 2 | D4: Region 3 | E4: Region 4 | F4: Region 5 | G4: Region 6 | H4: Region 7 | I4: Region 9 / Out of State | J4: Total
A5: Service Date SFY-Qtr | B5: Distinct Utilizers | C5: Distinct Utilizers | D5: Distinct Utilizers | E5: Distinct Utilizers | F5: Distinct Utilizers | G5: Distinct Utilizers | H5: Distinct Utilizers | I5: Distinct Utilizers | J5: Distinct Utilizers
A6: SFY2019-Q1 | B6: 14 | C6: 5 | D6: 9 | E6: 27 | F6: 4 | G6: 7 | H6: 77 | I6: 0 | J6: 143
A7: SFY2019-Q2 | B7: 13 | C7: 10 | D7: 14 | E7: 28 | F7: 7 | G7: 13 | H7: 52 | I7: 1 | J7: 138
A8: SFY2019-Q3 | B8: 10 | C8: 6 | D8: 8 | E8: 22 | F8: 7 | G8: 11 | H8: 54 | I8: 0 | J8: 118
A9: SFY2019-Q4 | B9: 28 | C9: 5 | D9: 18 | E9: 14 | F9: 17 | G9: 7 | H9: 35 | I9: 0 | J9: 124
A10: 2019 Distinct Utilizers | B10: 56 | C10: 23 | D10: 47 | E10: 73 | F10: 33 | G10: 34 | H10: 188 | I10: 1 | J10: 453
A11: SFY2020-Q1 | B11: 24 | C11: 10 | D11: 12 | E11: 18 | F11: 10 | G11: 7 | H11: 71 | I11: 0 | J11: 152
A12: SFY2020-Q2 | B12: 26 | C12: 18 | D12: 14 | E12: 32 | F12: 16 | G12: 7 | H12: 73 | I12: 0 | J12: 186
A13: SFY2020-Q3 | B13: 38 | C13: 16 | D13: 16 | E13: 36 | F13: 25 | G13: 8 | H13: 90 | I13: 0 | J13: 228
A14: SFY2020-Q4 | B14: 53 | C14: 9 | D14: 15 | E14: 40 | F14: 20 | G14: 17 | H14: 80 | I14: 0 | J14: 234
A15: 2020 Distinct Utilizers | B15: 111 | C15: 45 | D15: 56 | E15: 118 | F15: 67 | G15: 39 | H15: 284 | I15: 0 | J15: 717
A16: SFY2021-Q1 | B16: 29 | C16: 5 | D16: 18 | E16: 40 | F16: 22 | G16: 8 | H16: 72 | I16: 2 | J16: 196
A17: SFY2021-Q2 | B17: 34 | C17: 4 | D17: 27 | E17: 37 | F17: 26 | G17: 12 | H17: 88 | I17: 2 | J17: 230
... A27: 2023 Distinct Utilizers | B27: 11 | C27: 12 | D27: 24 | E27: 29 | F27: 18 | G27: 16 | H27: 97 | I27: 0 | J27: 207

Sheet Crisis Svcs Member Utilizer
A1: Crisis Services
A2: Table 1: Crisis Services - Member Utilization per Region/Quarter
A3: Description: This table displays distinct number of members between the ages of 0 to 17, by quarter who utilized the indicated service between 7/1/2018 to 9/30/2022. Note: Total distinct utilizer count represents an unduplicated (distinct) count of utilizers for the given state fiscal year across all quarters and/or regions combined. Data as of 11/07/2022. Includes Procedure Codes ('H2011', 'H0030','90839','90840')
B4: Region 1 | C4: Region 2 | D4: Region 3 | E4: Region 4 | F4: Region 5 | G4: Region 6 | H4: Region 7 | I4: Region 9 / Out of State | J4: Total
A5: Service Date SFY-Qtr | B5: Member Utilization | C5: Member Utilization | D5: Member Utilization | E5: Member Utilization | F5: Member Utilization | G5: Member Utilization | H5: Member Utilization | I5: Member Utilization | J5: Member Utilization
A6: SFY2019-Q1 | B6: ='Crisis Svcs Service Utilizer'!B6/'All Eligible'!B2 -> 0.00061138041 | C6: ='Crisis Svcs Service Utilizer'!C6/'All Eligible'!C2 -> 0.00063621326 | D6: ='Crisis Svcs Service Utilizer'!D6/'All Eligible'!D2 -> 0.00020907866 | E6: ='Crisis Svcs Service Utilizer'!E6/'All Eligible'!E2 -> 0.0006833886 | F6: ='Crisis Svcs Service Utilizer'!F6/'All Eligible'!F2 -> 0.00014668133 | G6: ='Crisis Svcs Service Utilizer'!G6/'All Eligible'!G2 -> 0.00047622287 | H6: ='Crisis Svcs Service Utilizer'!H6/'All Eligible'!H2 -> 0.0021298371 | I6: ='Crisis Svcs Service Utilizer'!I6/'All Eligible'!I2 -> 0 | J6: ='Crisis Svcs Service Utilizer'!J6/'All Eligible'!J2 -> 0.00071484988
A7: SFY2019-Q2 | B7: ='Crisis Svcs Service Utilizer'!B7/'All Eligible'!B3 -> 0.00056024823 | C7: ='Crisis Svcs Service Utilizer'!C7/'All Eligible'!C3 -> 0.0012642225 | D7: ='Crisis Svcs Service Utilizer'!D7/'All Eligible'!D3 -> 0.00032231329 | E7: ='Crisis Svcs Service Utilizer'!E7/'All Eligible'!E3 -> 0.00070156097 | F7: ='Crisis Svcs Service Utilizer'!F7/'All Eligible'!F3 -> 0.00025397286 | G7: ='Crisis Svcs Service Utilizer'!G7/'All Eligible'!G3 -> 0.00087465518 | H7: ='Crisis Svcs Service Utilizer'!H7/'All Eligible'!H3 -> 0.0014246575 | I7: ='Crisis Svcs Service Utilizer'!I7/'All Eligible'!I3 -> 0.00012771392 | J7: ='Crisis Svcs Service Utilizer'!J7/'All Eligible'!J3 -> 0.00068583015
A8: SFY2019-Q3 | B8: ='Crisis Svcs Service Utilizer'!B8/'All Eligible'!B4 -> 0.00044642857 | C8: ='Crisis Svcs Service Utilizer'!C8/'All Eligible'!C4 -> 0.00078023407 | D8: ='Crisis Svcs Service Utilizer'!D8/'All Eligible'!D4 -> 0.00019264111 | E8: ='Crisis Svcs Service Utilizer'!E8/'All Eligible'!E4 -> 0.00057345428 | F8: ='Crisis Svcs Service Utilizer'!F8/'All Eligible'!F4 -> 0.00026288118 | G8: ='Crisis Svcs Service Utilizer'!G8/'All Eligible'!G4 -> 0.00076457913 | H8: ='Crisis Svcs Service Utilizer'!H8/'All Eligible'!H4 -> 0.0015343089 | I8: ='Crisis Svcs Service Utilizer'!I8/'All Eligible'!I4 -> 0 | J8: ='Crisis Svcs Service Utilizer'!J8/'All Eligible'!J4 -> 0.00060910142
A9: SFY2019-Q4 | B9: ='Crisis Svcs Service Utilizer'!B9/'All Eligible'!B5 -> 0.0012335345 | C9: ='Crisis Svcs Service Utilizer'!C9/'All Eligible'!C5 -> 0.00064474533 | D9: ='Crisis Svcs Service Utilizer'!D9/'All Eligible'!D5 -> 0.00042810255 | E9: ='Crisis Svcs Service Utilizer'!E9/'All Eligible'!E5 -> 0.00036107601 | F9: ='Crisis Svcs Service Utilizer'!F9/'All Eligible'!F5 -> 0.0006290239 | G9: ='Crisis Svcs Service Utilizer'!G9/'All Eligible'!G5 -> 0.00048222651 | H9: ='Crisis Svcs Service Utilizer'!H9/'All Eligible'!H5 -> 0.00097877457 | I9: ='Crisis Svcs Service Utilizer'!I9/'All Eligible'!I5 -> 0 | J9: ='Crisis Svcs Service Utilizer'!J9/'All Eligible'!J5 -> 0.00063254656
A10: 2019 Distinct Utilizers
A11: SFY2020-Q1 | B11: ='Crisis Svcs Service Utilizer'!B11/'All Eligible'!B7 -> 0.0010747392 | C11: ='Crisis Svcs Service Utilizer'!C11/'All Eligible'!C7 -> 0.0013019138 | D11: ='Crisis Svcs Service Utilizer'!D11/'All Eligible'!D7 -> 0.0002928758 | E11: ='Crisis Svcs Service Utilizer'!E11/'All Eligible'!E7 -> 0.0004720321 | F11: ='Crisis Svcs Service Utilizer'!F11/'All Eligible'!F7 -> 0.00037741546 | G11: ='Crisis Svcs Service Utilizer'!G11/'All Eligible'!G7 -> 0.000491366 | H11: ='Crisis Svcs Service Utilizer'!H11/'All Eligible'!H7 -> 0.0020145845 | I11: ='Crisis Svcs Service Utilizer'!I11/'All Eligible'!I7 -> 0 | J11: ='Crisis Svcs Service Utilizer'!J11/'All Eligible'!J7 -> 0.00079003311
A12: SFY2020-Q2 | B12: ='Crisis Svcs Service Utilizer'!B12/'All Eligible'!B8 -> 0.0011798339 | C12: ='Crisis Svcs Service Utilizer'!C12/'All Eligible'!C8 -> 0.0023665527 | D12: ='Crisis Svcs Service Utilizer'!D12/'All Eligible'!D8 -> 0.00034480211 | E12: ='Crisis Svcs Service Utilizer'!E12/'All Eligible'!E8 -> 0.00085178876 | F12: ='Crisis Svcs Service Utilizer'!F12/'All Eligible'!F8 -> 0.00060792583 | G12: ='Crisis Svcs Service Utilizer'!G12/'All Eligible'!G8 -> 0.00049074593 | H12: ='Crisis Svcs Service Utilizer'!H12/'All Eligible'!H8 -> 0.0020832144 | I12: ='Crisis Svcs Service Utilizer'!I12/'All Eligible'!I8 -> 0 | J12: ='Crisis Svcs Service Utilizer'!J12/'All Eligible'!J8 -> 0.00097868467
A13: SFY2020-Q3 | B13: ='Crisis Svcs Service Utilizer'!B13/'All Eligible'!B9 -> 0.0018438546 | C13: ='Crisis Svcs Service Utilizer'!C13/'All Eligible'!C9 -> 0.0022343248 | D13: ='Crisis Svcs Service Utilizer'!D13/'All Eligible'!D9 -> 0.00042266543 | E13: ='Crisis Svcs Service Utilizer'!E13/'All Eligible'!E9 -> 0.001023949 | F13: ='Crisis Svcs Service Utilizer'!F13/'All Eligible'!F9 -> 0.0010161362 | G13: ='Crisis Svcs Service Utilizer'!G13/'All Eligible'!G9 -> 0.00059705948 | H13: ='Crisis Svcs Service Utilizer'!H13/'All Eligible'!H9 -> 0.0027429825 | I13: ='Crisis Svcs Service Utilizer'!I13/'All Eligible'!I9 -> 0 | J13: ='Crisis Svcs Service Utilizer'!J13/'All Eligible'!J9 -> 0.0012805823
A14: SFY2020-Q4 | B14: ='Crisis Svcs Service Utilizer'!B14/'All Eligible'!B10 -> 0.002502597 | C14: ='Crisis Svcs Service Utilizer'!C14/'All Eligible'!C10 -> 0.0012269939 | D14: ='Crisis Svcs Service Utilizer'!D14/'All Eligible'!D10 -> 0.00038737669 | E14: ='Crisis Svcs Service Utilizer'!E14/'All Eligible'!E10 -> 0.0011114507 | F14: ='Crisis Svcs Service Utilizer'!F14/'All Eligible'!F10 -> 0.00079424963 | G14: ='Crisis Svcs Service Utilizer'!G14/'All Eligible'!G10 -> 0.0012341198 | H14: ='Crisis Svcs Service Utilizer'!H14/'All Eligible'!H10 -> 0.0023950662 | I14: ='Crisis Svcs Service Utilizer'!I14/'All Eligible'!I10 -> 0 | J14: ='Crisis Svcs Service Utilizer'!J14/'All Eligible'!J10 -> 0.001286004
A15: 2020 Distinct Utilizers
A16: SFY2021-Q1 | B16: ='Crisis Svcs Service Utilizer'!B16/'All Eligible'!B12 -> 0.0013309468 | C16: ='Crisis Svcs Service Utilizer'!C16/'All Eligible'!C12 -> 0.00066216395 | D16: ='Crisis Svcs Service Utilizer'!D16/'All Eligible'!D12 -> 0.00045424721 | E16: ='Crisis Svcs Service Utilizer'!E16/'All Eligible'!E12 -> 0.0010847752 | F16: ='Crisis Svcs Service Utilizer'!F16/'All Eligible'!F12 -> 0.00085073473 | G16: ='Crisis Svcs Service Utilizer'!G16/'All Eligible'!G12 -> 0.0005645332 | H16: ='Crisis Svcs Service Utilizer'!H16/'All Eligible'!H12 -> 0.0020912603 | I16: ='Crisis Svcs Service Utilizer'!I16/'All Eligible'!I12 -> 0.00031847134 | J16: ='Crisis Svcs Service Utilizer'!J16/'All Eligible'!J12 -> 0.0010504877
A17: SFY2021-Q2 | B17: ='Crisis Svcs Service Utilizer'!B17/'All Eligible'!B13 -> 0.0015207085 | C17: ='Crisis Svcs Service Utilizer'!C17/'All Eligible'!C13 -> 0.00051639556 | D17: ='Crisis Svcs Service Utilizer'!D17/'All Eligible'!D13 -> 0.00066701253 | E17: ='Crisis Svcs Service Utilizer'!E17/'All Eligible'!E13 -> 0.00098130221 | F17: ='Crisis Svcs Service Utilizer'!F17/'All Eligible'!F13 -> 0.00098168775 | G17: ='Crisis Svcs Service Utilizer'!G17/'All Eligible'!G13 -> 0.00083039236 | H17: ='Crisis Svcs Service Utilizer'!H17/'All Eligible'!H13 -> 0.0025026306 | I17: ='Crisis Svcs Service Utilizer'!I17/'All Eligible'!I13 -> 0.00035561878 | J17: ='Crisis Svcs Service Utilizer'!J17/'All Eligible'!J13 -> 0.0012104562
A18: SFY2021-Q3 | B18: ='Crisis Svcs Service Utilizer'!B18/'All Eligible'!B14 -> 0.0016232342 | C18: ='Crisis Svcs Service Utilizer'!C18/'All Eligible'!C14 -> 0.0012768131 | D18: ='Crisis Svcs Service Utilizer'!D18/'All Eligible'!D14 -> 0.00065767039 | E18: ='Crisis Svcs Service Utilizer'!E18/'All Eligible'!E14 -> 0.00096754792 | F18: ='Crisis Svcs Service Utilizer'!F18/'All Eligible'!F14 -> 0.0013390864 | G18: ='Crisis Svcs Service Utilizer'!G18/'All Eligible'!G14 -> 0.00088543795 | H18: ='Crisis Svcs Service Utilizer'!H18/'All Eligible'!H14 -> 0.0025421835 | I18: ='Crisis Svcs Service Utilizer'!I18/'All Eligible'!I14 -> 0 | J18: ='Crisis Svcs Service Utilizer'!J18/'All Eligible'!J14 -> 0.0013021171
A19: SFY2021-Q4 | B19: ='Crisis Svcs Service Utilizer'!B19/'All Eligible'!B15 -> 0.0017713644 | C19: ='Crisis Svcs Service Utilizer'!C19/'All Eligible'!C15 -> 0.00062719518 | D19: ='Crisis Svcs Service Utilizer'!D19/'All Eligible'!D15 -> 0.00062549619 | E19: ='Crisis Svcs Service Utilizer'!E19/'All Eligible'!E15 -> 0.000802589 | F19: ='Crisis Svcs Service Utilizer'!F19/'All Eligible'!F15 -> 0.0015819874 | G19: ='Crisis Svcs Service Utilizer'!G19/'All Eligible'!G15 -> 0.00094276094 | H19: ='Crisis Svcs Service Utilizer'!H19/'All Eligible'!H15 -> 0.0037280702 | I19: ='Crisis Svcs Service Utilizer'!I19/'All Eligible'!I15 -> 0 | J19: ='Crisis Svcs Service Utilizer'!J19/'All Eligible'!J15 -> 0.0015170851
A20: 2021 Distinct Utilizers
A21: SFY2022-Q1 | B21: ='Crisis Svcs Service Utilizer'!B21/'All Eligible'!B17 -> 0.0013753976 | C21: ='Crisis Svcs Service Utilizer'!C21/'All Eligible'!C17 -> 0.00049578582 | D21: ='Crisis Svcs Service Utilizer'!D21/'All Eligible'!D17 -> 0.00059740011 | E21: ='Crisis Svcs Service Utilizer'!E21/'All Eligible'!E17 -> 0.00058980408 | F21: ='Crisis Svcs Service Utilizer'!F21/'All Eligible'!F17 -> 0.0012422814 | G21: ='Crisis Svcs Service Utilizer'!G21/'All Eligible'!G17 -> 0.00066414292 | H21: ='Crisis Svcs Service Utilizer'!H21/'All Eligible'!H17 -> 0.0024036514 | I21: ='Crisis Svcs Service Utilizer'!I21/'All Eligible'!I17 -> 0 | J21: ='Crisis Svcs Service Utilizer'!J21/'All Eligible'!J17 -> 0.0011061778
A22: SFY2022-Q2 | B22: ='Crisis Svcs Service Utilizer'!B22/'All Eligible'!B18 -> 0.0013492432 | C22: ='Crisis Svcs Service Utilizer'!C22/'All Eligible'!C18 -> 0.0010984987 | D22: ='Crisis Svcs Service Utilizer'!D22/'All Eligible'!D18 -> 0.00066432571 | E22: ='Crisis Svcs Service Utilizer'!E22/'All Eligible'!E18 -> 0.0010393166 | F22: ='Crisis Svcs Service Utilizer'!F22/'All Eligible'!F18 -> 0.0013359812 | G22: ='Crisis Svcs Service Utilizer'!G22/'All Eligible'!G18 -> 0.00052373159 | H22: ='Crisis Svcs Service Utilizer'!H22/'All Eligible'!H18 -> 0.002447199 | I22: ='Crisis Svcs Service Utilizer'!I22/'All Eligible'!I18 -> 0 | J22: ='Crisis Svcs Service Utilizer'!J22/'All Eligible'!J18 -> 0.0012537307
A23: SFY2022-Q3 | B23: ='Crisis Svcs Service Utilizer'!B23/'All Eligible'!B19 -> 0.0014640676 | C23: ='Crisis Svcs Service Utilizer'!C23/'All Eligible'!C19 -> 0.0024047132 | D23: ='Crisis Svcs Service Utilizer'!D23/'All Eligible'!D19 -> 0.00049202221 | E23: ='Crisis Svcs Service Utilizer'!E23/'All Eligible'!E19 -> 0.0011804893 | F23: ='Crisis Svcs Service Utilizer'!F23/'All Eligible'!F19 -> 0.0006795422 | G23: ='Crisis Svcs Service Utilizer'!G23/'All Eligible'!G19 -> 0.0012278661 | H23: ='Crisis Svcs Service Utilizer'!H23/'All Eligible'!H19 -> 0.0029701669 | I23: ='Crisis Svcs Service Utilizer'!I23/'All Eligible'!I19 -> 0.00023174971 | J23: ='Crisis Svcs Service Utilizer'!J23/'All Eligible'!J19 -> 0.001371489
A24: SFY2022-Q4 | B24: ='Crisis Svcs Service Utilizer'!B24/'All Eligible'!B20 -> 0.0012956616 | C24: ='Crisis Svcs Service Utilizer'!C24/'All Eligible'!C20 -> 0.00083832335 | D24: ='Crisis Svcs Service Utilizer'!D24/'All Eligible'!D20 -> 0.00060780326 | E24: ='Crisis Svcs Service Utilizer'!E24/'All Eligible'!E20 -> 0.00094864818 | F24: ='Crisis Svcs Service Utilizer'!F24/'All Eligible'!F20 -> 0.00088920505 | G24: ='Crisis Svcs Service Utilizer'!G24/'All Eligible'!G20 -> 0.00070377479 | H24: ='Crisis Svcs Service Utilizer'!H24/'All Eligible'!H20 -> 0.0028601144 | I24: ='Crisis Svcs Service Utilizer'!I24/'All Eligible'!I20 -> 0 | J24: ='Crisis Svcs Service Utilizer'!J24/'All Eligible'!J20 -> 0.0012370188
A25: 2022 Distinct Utilizers
A26: SFY2023-Q1 | B26: ='Crisis Svcs Service Utilizer'!B26/'All Eligible'!B22 -> 0.00045370179 | C26: ='Crisis Svcs Service Utilizer'!C26/'All Eligible'!C22 -> 0.0014089468 | D26: ='Crisis Svcs Service Utilizer'!D26/'All Eligible'!D22 -> 0.00055653464 | E26: ='Crisis Svcs Service Utilizer'!E26/'All Eligible'!E22 -> 0.00071569595 | F26: ='Crisis Svcs Service Utilizer'!F26/'All Eligible'!F22 -> 0.00063469676 | G26: ='Crisis Svcs Service Utilizer'!G26/'All Eligible'!G22 -> 0.0010116338 | H26: ='Crisis Svcs Service Utilizer'!H26/'All Eligible'!H22 -> 0.0024874346 | I26: ='Crisis Svcs Service Utilizer'!I26/'All Eligible'!I22 -> 0 | J26: ='Crisis Svcs Service Utilizer'!J26/'All Eligible'!J22 -> 0.0010262817
A27: 2023 Distinct Utilizers

Sheet Day Treat Service Utilizer
A1: Behavioral Health Day Treatment
A2: Table 1: Day Treatment - Distinct service utilizers per Region/Quarter
A3: Description: This table displays distinct number of members between the ages of 0 to 17, by quarter who utilized the indicated service between 7/1/2018 to 9/30/2022. Note: Total distinct utilizer count represents an unduplicated (distinct) count of utilizers for the given state fiscal year across all quarters and/or regions combined. Data as of 11/07/2022. Includes Procedure code ('H2012')
B4: Region 1 | C4: Region 2 | D4: Region 3 | E4: Region 4 | F4: Region 5 | G4: Region 6 | H4: Region 7 | I4: Region 9 / Out of State | J4: Total
A5: Service Date SFY-Qtr | B5: Distinct Utilizers | C5: Distinct Utilizers | D5: Distinct Utilizers | E5: Distinct Utilizers | F5: Distinct Utilizers | G5: Distinct Utilizers | H5: Distinct Utilizers | I5: Distinct Utilizers | J5: Distinct Utilizers
A6: SFY2019-Q1 | B6: 0 | C6: 0 | D6: 0 | E6: 0 | F6: 0 | G6: 0 | H6: 0 | I6: 0 | J6: 0
A7: SFY2019-Q2 | B7: 0 | C7: 0 | D7: 0 | E7: 0 | F7: 0 | G7: 0 | H7: 0 | I7: 0 | J7: 0
A8: SFY2019-Q3 | B8: 0 | C8: 0 | D8: 0 | E8: 0 | F8: 0 | G8: 0 | H8: 0 | I8: 0 | J8: 0
A9: SFY2019-Q4 | B9: 0 | C9: 0 | D9: 0 | E9: 0 | F9: 0 | G9: 0 | H9: 0 | I9: 0 | J9: 0
A10: 2019 Distinct Utilizers | B10: 0 | C10: 0 | D10: 0 | E10: 0 | F10: 0 | G10: 0 | H10: 0 | I10: 0 | J10: 0
A11: SFY2020-Q1 | B11: 0 | C11: 0 | D11: 0 | E11: 0 | F11: 0 | G11: 0 | H11: 0 | I11: 0 | J11: 0
A12: SFY2020-Q2 | B12: 0 | C12: 0 | D12: 1 | E12: 1 | F12: 1 | G12: 0 | H12: 7 | I12: 0 | J12: 10
A13: SFY2020-Q3 | B13: 1 | C13: 0 | D13: 1 | E13: 5 | F13: 3 | G13: 0 | H13: 14 | I13: 0 | J13: 24
A14: SFY2020-Q4 | B14: 0 | C14: 0 | D14: 2 | E14: 6 | F14: 7 | G14: 2 | H14: 14 | I14: 1 | J14: 31
A15: 2020 Distinct Utilizers | B15: 1 | C15: 0 | D15: 2 | E15: 7 | F15: 8 | G15: 2 | H15: 21 | I15: 1 | J15: 41
A16: SFY2021-Q1 | B16: 0 | C16: 0 | D16: 0 | E16: 4 | F16: 10 | G16: 4 | H16: 8 | I16: 0 | J16: 26
A17: SFY2021-Q2 | B17: 0 | C17: 0 | D17: 0 | E17: 1 | F17: 11 | G17: 2 | H17: 6 | I17: 0 | J17: 19
... A27: 2023 Distinct Utilizers | B27: 0 | C27: 0 | D27: 1 | E27: 1 | F27: 12 | G27: 1 | H27: 9 | I27: 0 | J27: 24

Sheet Day Treat  Member Utilizer
A1: Behavioral Health Day Treatment
A2: Table 1: Day Treatment - Member Utilization per Region/Quarter
A3: Description: This table displays distinct number of members between the ages of 0 to 17, by quarter who utilized the indicated service between 7/1/2018 to 9/30/2022. Note: Total distinct utilizer count represents an unduplicated (distinct) count of utilizers for the given state fiscal year across all quarters and/or regions combined. Data as of 11/07/2022. Includes Procedure code ('H2012')
B4: Region 1 | C4: Region 2 | D4: Region 3 | E4: Region 4 | F4: Region 5 | G4: Region 6 | H4: Region 7 | I4: Region 9 / Out of State | J4: Total
A5: Service Date SFY-Qtr | B5: Member Utilization | C5: Member Utilization | D5: Member Utilization | E5: Member Utilization | F5: Member Utilization | G5: Member Utilization | H5: Member Utilization | I5: Member Utilization | J5: Member Utilization
A6: SFY2019-Q1 | B6: ='Day Treat Service Utilizer'!B6/'All Eligible'!B2 -> 0 | C6: ='Day Treat Service Utilizer'!C6/'All Eligible'!C2 -> 0 | D6: ='Day Treat Service Utilizer'!D6/'All Eligible'!D2 -> 0 | E6: ='Day Treat Service Utilizer'!E6/'All Eligible'!E2 -> 0 | F6: ='Day Treat Service Utilizer'!F6/'All Eligible'!F2 -> 0 | G6: ='Day Treat Service Utilizer'!G6/'All Eligible'!G2 -> 0 | H6: ='Day Treat Service Utilizer'!H6/'All Eligible'!H2 -> 0 | I6: ='Day Treat Service Utilizer'!I6/'All Eligible'!I2 -> 0 | J6: ='Day Treat Service Utilizer'!J6/'All Eligible'!J2 -> 0
A7: SFY2019-Q2 | B7: ='Day Treat Service Utilizer'!B7/'All Eligible'!B3 -> 0 | C7: ='Day Treat Service Utilizer'!C7/'All Eligible'!C3 -> 0 | D7: ='Day Treat Service Utilizer'!D7/'All Eligible'!D3 -> 0 | E7: ='Day Treat Service Utilizer'!E7/'All Eligible'!E3 -> 0 | F7: ='Day Treat Service Utilizer'!F7/'All Eligible'!F3 -> 0 | G7: ='Day Treat Service Utilizer'!G7/'All Eligible'!G3 -> 0 | H7: ='Day Treat Service Utilizer'!H7/'All Eligible'!H3 -> 0 | I7: ='Day Treat Service Utilizer'!I7/'All Eligible'!I3 -> 0 | J7: ='Day Treat Service Utilizer'!J7/'All Eligible'!J3 -> 0
A8: SFY2019-Q3 | B8: ='Day Treat Service Utilizer'!B8/'All Eligible'!B4 -> 0 | C8: ='Day Treat Service Utilizer'!C8/'All Eligible'!C4 -> 0 | D8: ='Day Treat Service Utilizer'!D8/'All Eligible'!D4 -> 0 | E8: ='Day Treat Service Utilizer'!E8/'All Eligible'!E4 -> 0 | F8: ='Day Treat Service Utilizer'!F8/'All Eligible'!F4 -> 0 | G8: ='Day Treat Service Utilizer'!G8/'All Eligible'!G4 -> 0 | H8: ='Day Treat Service Utilizer'!H8/'All Eligible'!H4 -> 0 | I8: ='Day Treat Service Utilizer'!I8/'All Eligible'!I4 -> 0 | J8: ='Day Treat Service Utilizer'!J8/'All Eligible'!J4 -> 0
A9: SFY2019-Q4 | B9: ='Day Treat Service Utilizer'!B9/'All Eligible'!B5 -> 0 | C9: ='Day Treat Service Utilizer'!C9/'All Eligible'!C5 -> 0 | D9: ='Day Treat Service Utilizer'!D9/'All Eligible'!D5 -> 0 | E9: ='Day Treat Service Utilizer'!E9/'All Eligible'!E5 -> 0 | F9: ='Day Treat Service Utilizer'!F9/'All Eligible'!F5 -> 0 | G9: ='Day Treat Service Utilizer'!G9/'All Eligible'!G5 -> 0 | H9: ='Day Treat Service Utilizer'!H9/'All Eligible'!H5 -> 0 | I9: ='Day Treat Service Utilizer'!I9/'All Eligible'!I5 -> 0 | J9: ='Day Treat Service Utilizer'!J9/'All Eligible'!J5 -> 0
A10: 2019 Distinct Utilizers
A11: SFY2020-Q1 | B11: ='Day Treat Service Utilizer'!B11/'All Eligible'!B7 -> 0 | C11: ='Day Treat Service Utilizer'!C11/'All Eligible'!C7 -> 0 | D11: ='Day Treat Service Utilizer'!D11/'All Eligible'!D7 -> 0 | E11: ='Day Treat Service Utilizer'!E11/'All Eligible'!E7 -> 0 | F11: ='Day Treat Service Utilizer'!F11/'All Eligible'!F7 -> 0 | G11: ='Day Treat Service Utilizer'!G11/'All Eligible'!G7 -> 0 | H11: ='Day Treat Service Utilizer'!H11/'All Eligible'!H7 -> 0 | I11: ='Day Treat Service Utilizer'!I11/'All Eligible'!I7 -> 0 | J11: ='Day Treat Service Utilizer'!J11/'All Eligible'!J7 -> 0
A12: SFY2020-Q2 | B12: ='Day Treat Service Utilizer'!B12/'All Eligible'!B8 -> 0 | C12: ='Day Treat Service Utilizer'!C12/'All Eligible'!C8 -> 0 | D12: ='Day Treat Service Utilizer'!D12/'All Eligible'!D8 -> 2.4628722e-05 | E12: ='Day Treat Service Utilizer'!E12/'All Eligible'!E8 -> 2.6618399e-05 | F12: ='Day Treat Service Utilizer'!F12/'All Eligible'!F8 -> 3.7995365e-05 | G12: ='Day Treat Service Utilizer'!G12/'All Eligible'!G8 -> 0 | H12: ='Day Treat Service Utilizer'!H12/'All Eligible'!H8 -> 0.00019976029 | I12: ='Day Treat Service Utilizer'!I12/'All Eligible'!I8 -> 0 | J12: ='Day Treat Service Utilizer'!J12/'All Eligible'!J8 -> 5.2617455e-05
A13: SFY2020-Q3 | B13: ='Day Treat Service Utilizer'!B13/'All Eligible'!B9 -> 4.852249e-05 | C13: ='Day Treat Service Utilizer'!C13/'All Eligible'!C9 -> 0 | D13: ='Day Treat Service Utilizer'!D13/'All Eligible'!D9 -> 2.641659e-05 | E13: ='Day Treat Service Utilizer'!E13/'All Eligible'!E9 -> 0.00014221514 | F13: ='Day Treat Service Utilizer'!F13/'All Eligible'!F9 -> 0.00012193635 | G13: ='Day Treat Service Utilizer'!G13/'All Eligible'!G9 -> 0 | H13: ='Day Treat Service Utilizer'!H13/'All Eligible'!H9 -> 0.00042668617 | I13: ='Day Treat Service Utilizer'!I13/'All Eligible'!I9 -> 0 | J13: ='Day Treat Service Utilizer'!J13/'All Eligible'!J9 -> 0.00013479814
A14: SFY2020-Q4 | B14: ='Day Treat Service Utilizer'!B14/'All Eligible'!B10 -> 0 | C14: ='Day Treat Service Utilizer'!C14/'All Eligible'!C10 -> 0 | D14: ='Day Treat Service Utilizer'!D14/'All Eligible'!D10 -> 5.1650225e-05 | E14: ='Day Treat Service Utilizer'!E14/'All Eligible'!E10 -> 0.00016671761 | F14: ='Day Treat Service Utilizer'!F14/'All Eligible'!F10 -> 0.00027798737 | G14: ='Day Treat Service Utilizer'!G14/'All Eligible'!G10 -> 0.00014519056 | H14: ='Day Treat Service Utilizer'!H14/'All Eligible'!H10 -> 0.00041913658 | I14: ='Day Treat Service Utilizer'!I14/'All Eligible'!I10 -> 0.00015681355 | J14: ='Day Treat Service Utilizer'!J14/'All Eligible'!J10 -> 0.00017036805
A15: 2020 Distinct Utilizers
A16: SFY2021-Q1 | B16: ='Day Treat Service Utilizer'!B16/'All Eligible'!B12 -> 0 | C16: ='Day Treat Service Utilizer'!C16/'All Eligible'!C12 -> 0 | D16: ='Day Treat Service Utilizer'!D16/'All Eligible'!D12 -> 0 | E16: ='Day Treat Service Utilizer'!E16/'All Eligible'!E12 -> 0.00010847752 | F16: ='Day Treat Service Utilizer'!F16/'All Eligible'!F12 -> 0.0003866976 | G16: ='Day Treat Service Utilizer'!G16/'All Eligible'!G12 -> 0.0002822666 | H16: ='Day Treat Service Utilizer'!H16/'All Eligible'!H12 -> 0.00023236225 | I16: ='Day Treat Service Utilizer'!I16/'All Eligible'!I12 -> 0 | J16: ='Day Treat Service Utilizer'!J16/'All Eligible'!J12 -> 0.00013935041
A17: SFY2021-Q2 | B17: ='Day Treat Service Utilizer'!B17/'All Eligible'!B13 -> 0 | C17: ='Day Treat Service Utilizer'!C17/'All Eligible'!C13 -> 0 | D17: ='Day Treat Service Utilizer'!D17/'All Eligible'!D13 -> 0 | E17: ='Day Treat Service Utilizer'!E17/'All Eligible'!E13 -> 2.6521681e-05 | F17: ='Day Treat Service Utilizer'!F17/'All Eligible'!F13 -> 0.00041532943 | G17: ='Day Treat Service Utilizer'!G17/'All Eligible'!G13 -> 0.00013839873 | H17: ='Day Treat Service Utilizer'!H17/'All Eligible'!H13 -> 0.0001706339 | I17: ='Day Treat Service Utilizer'!I17/'All Eligible'!I13 -> 0 | J17: ='Day Treat Service Utilizer'!J17/'All Eligible'!J13 -> 9.9994211e-05
A18: SFY2021-Q3 | B18: ='Day Treat Service Utilizer'!B18/'All Eligible'!B14 -> 0 | C18: ='Day Treat Service Utilizer'!C18/'All Eligible'!C14 -> 0 | D18: ='Day Treat Service Utilizer'!D18/'All Eligible'!D14 -> 0 | E18: ='Day Treat Service Utilizer'!E18/'All Eligible'!E14 -> 2.6149944e-05 | F18: ='Day Treat Service Utilizer'!F18/'All Eligible'!F14 -> 0.0004091653 | G18: ='Day Treat Service Utilizer'!G18/'All Eligible'!G14 -> 0 | H18: ='Day Treat Service Utilizer'!H18/'All Eligible'!H14 -> 0.00025142474 | I18: ='Day Treat Service Utilizer'!I18/'All Eligible'!I14 -> 0 | J18: ='Day Treat Service Utilizer'!J18/'All Eligible'!J14 -> 0.00010894207
A19: SFY2021-Q4 | B19: ='Day Treat Service Utilizer'!B19/'All Eligible'!B15 -> 0 | C19: ='Day Treat Service Utilizer'!C19/'All Eligible'!C15 -> 0 | D19: ='Day Treat Service Utilizer'!D19/'All Eligible'!D15 -> 2.4057546e-05 | E19: ='Day Treat Service Utilizer'!E19/'All Eligible'!E15 -> 0.00012944984 | F19: ='Day Treat Service Utilizer'!F19/'All Eligible'!F15 -> 0.00058864648 | G19: ='Day Treat Service Utilizer'!G19/'All Eligible'!G15 -> 0.00013468013 | H19: ='Day Treat Service Utilizer'!H19/'All Eligible'!H15 -> 0.00030153509 | I19: ='Day Treat Service Utilizer'!I19/'All Eligible'!I15 -> 0.00018903592 | J19: ='Day Treat Service Utilizer'!J19/'All Eligible'!J15 -> 0.00017425978
A20: 2021 Distinct Utilizers
A21: SFY2022-Q1 | B21: ='Day Treat Service Utilizer'!B21/'All Eligible'!B17 -> 0 | C21: ='Day Treat Service Utilizer'!C21/'All Eligible'!C17 -> 0 | D21: ='Day Treat Service Utilizer'!D21/'All Eligible'!D17 -> 0 | E21: ='Day Treat Service Utilizer'!E21/'All Eligible'!E17 -> 0.00010257462 | F21: ='Day Treat Service Utilizer'!F21/'All Eligible'!F17 -> 0.00054806533 | G21: ='Day Treat Service Utilizer'!G21/'All Eligible'!G17 -> 0.00013282858 | H21: ='Day Treat Service Utilizer'!H21/'All Eligible'!H17 -> 0.00037810247 | I21: ='Day Treat Service Utilizer'!I21/'All Eligible'!I17 -> 0.00022026432 | J21: ='Day Treat Service Utilizer'!J21/'All Eligible'!J17 -> 0.00017841577
A22: SFY2022-Q2 | B22: ='Day Treat Service Utilizer'!B22/'All Eligible'!B18 -> 0 | C22: ='Day Treat Service Utilizer'!C22/'All Eligible'!C18 -> 0 | D22: ='Day Treat Service Utilizer'!D22/'All Eligible'!D18 -> 4.7451836e-05 | E22: ='Day Treat Service Utilizer'!E22/'All Eligible'!E18 -> 7.6047555e-05 | F22: ='Day Treat Service Utilizer'!F22/'All Eligible'!F18 -> 0.00043329121 | G22: ='Day Treat Service Utilizer'!G22/'All Eligible'!G18 -> 0.0001309329 | H22: ='Day Treat Service Utilizer'!H22/'All Eligible'!H18 -> 0.00037239985 | I22: ='Day Treat Service Utilizer'!I22/'All Eligible'!I18 -> 0 | J22: ='Day Treat Service Utilizer'!J22/'All Eligible'!J18 -> 0.00016750249
A23: SFY2022-Q3 | B23: ='Day Treat Service Utilizer'!B23/'All Eligible'!B19 -> 0 | C23: ='Day Treat Service Utilizer'!C23/'All Eligible'!C19 -> 0 | D23: ='Day Treat Service Utilizer'!D23/'All Eligible'!D19 -> 4.6859258e-05 | E23: ='Day Treat Service Utilizer'!E23/'All Eligible'!E19 -> 0 | F23: ='Day Treat Service Utilizer'!F23/'All Eligible'!F19 -> 0.00064377682 | G23: ='Day Treat Service Utilizer'!G23/'All Eligible'!G19 -> 0.00012924906 | H23: ='Day Treat Service Utilizer'!H23/'All Eligible'!H19 -> 0.00028913129 | I23: ='Day Treat Service Utilizer'!I23/'All Eligible'!I19 -> 0.00023174971 | J23: ='Day Treat Service Utilizer'!J23/'All Eligible'!J19 -> 0.00016457868
A24: SFY2022-Q4 | B24: ='Day Treat Service Utilizer'!B24/'All Eligible'!B20 -> 0 | C24: ='Day Treat Service Utilizer'!C24/'All Eligible'!C20 -> 0 | D24: ='Day Treat Service Utilizer'!D24/'All Eligible'!D20 -> 0 | E24: ='Day Treat Service Utilizer'!E24/'All Eligible'!E20 -> 2.4964426e-05 | F24: ='Day Treat Service Utilizer'!F24/'All Eligible'!F20 -> 0.00046238663 | G24: ='Day Treat Service Utilizer'!G24/'All Eligible'!G20 -> 6.3979527e-05 | H24: ='Day Treat Service Utilizer'!H24/'All Eligible'!H20 -> 0.00031201248 | I24: ='Day Treat Service Utilizer'!I24/'All Eligible'!I20 -> 0 | J24: ='Day Treat Service Utilizer'!J24/'All Eligible'!J20 -> 0.00012968745
A25: 2022 Distinct Utilizers
A26: SFY2023-Q1 | B26: ='Day Treat Service Utilizer'!B26/'All Eligible'!B22 -> 0 | C26: ='Day Treat Service Utilizer'!C26/'All Eligible'!C22 -> 0 | D26: ='Day Treat Service Utilizer'!D26/'All Eligible'!D22 -> 2.3188944e-05 | E26: ='Day Treat Service Utilizer'!E26/'All Eligible'!E22 -> 2.4679171e-05 | F26: ='Day Treat Service Utilizer'!F26/'All Eligible'!F22 -> 0.00042313117 | G26: ='Day Treat Service Utilizer'!G26/'All Eligible'!G22 -> 6.3227112e-05 | H26: ='Day Treat Service Utilizer'!H26/'All Eligible'!H22 -> 0.0002307929 | I26: ='Day Treat Service Utilizer'!I26/'All Eligible'!I22 -> 0 | J26: ='Day Treat Service Utilizer'!J26/'All Eligible'!J22 -> 0.00011898919
A27: 2023 Distinct Utilizers

Sheet FPE Service Utilizer
A1: Family Psychoeducation
A2: Table 1: Family Psychoeducation - Distinct service utilizers per Region/Quarter
A3: Description: This table displays distinct number of members between the ages of 0 to 17, by quarter who utilized the indicated service between 7/1/2018 to 9/30/2022. Note: Total distinct utilizer count represents an unduplicated (distinct) count of utilizers for the given state fiscal year across all quarters and/or regions combined. Data as of 11/07/2022. Includes Procedure code ('H2027')
B4: Region 1 | C4: Region 2 | D4: Region 3 | E4: Region 4 | F4: Region 5 | G4: Region 6 | H4: Region 7 | I4: Region 9 / Out of State | J4: Total
A5: Service Date SFY-Qtr | B5: Distinct Utilizers | C5: Distinct Utilizers | D5: Distinct Utilizers | E5: Distinct Utilizers | F5: Distinct Utilizers | G5: Distinct Utilizers | H5: Distinct Utilizers | I5: Distinct Utilizers | J5: Distinct Utilizers
A6: SFY2019-Q1 | B6: 0 | C6: 0 | D6: 0 | E6: 0 | F6: 0 | G6: 0 | H6: 0 | I6: 0 | J6: 0
A7: SFY2019-Q2 | B7: 14 | C7: 0 | D7: 0 | E7: 0 | F7: 2 | G7: 3 | H7: 12 | I7: 1 | J7: 32
A8: SFY2019-Q3 | B8: 30 | C8: 7 | D8: 0 | E8: 9 | F8: 22 | G8: 1 | H8: 14 | I8: 1 | J8: 84
A9: SFY2019-Q4 | B9: 41 | C9: 4 | D9: 0 | E9: 3 | F9: 21 | G9: 0 | H9: 4 | I9: 0 | J9: 73
A10: 2019 Distinct Utilizers | B10: 57 | C10: 10 | D10: 0 | E10: 12 | F10: 45 | G10: 4 | H10: 28 | I10: 1 | J10: 157
A11: SFY2020-Q1 | B11: 52 | C11: 0 | D11: 0 | E11: 4 | F11: 16 | G11: 0 | H11: 4 | I11: 0 | J11: 76
A12: SFY2020-Q2 | B12: 33 | C12: 1 | D12: 0 | E12: 1 | F12: 23 | G12: 0 | H12: 0 | I12: 1 | J12: 59
A13: SFY2020-Q3 | B13: 32 | C13: 1 | D13: 1 | E13: 15 | F13: 18 | G13: 0 | H13: 11 | I13: 0 | J13: 78
A14: SFY2020-Q4 | B14: 13 | C14: 0 | D14: 1 | E14: 6 | F14: 17 | G14: 0 | H14: 9 | I14: 0 | J14: 46
A15: 2020 Distinct Utilizers | B15: 73 | C15: 2 | D15: 1 | E15: 24 | F15: 72 | G15: 0 | H15: 24 | I15: 1 | J15: 197
A16: SFY2021-Q1 | B16: 17 | C16: 0 | D16: 4 | E16: 5 | F16: 29 | G16: 0 | H16: 3 | I16: 0 | J16: 58
A17: SFY2021-Q2 | B17: 33 | C17: 0 | D17: 2 | E17: 6 | F17: 29 | G17: 0 | H17: 2 | I17: 0 | J17: 72
... A27: 2023 Distinct Utilizers | B27: 11 | C27: 0 | D27: 8 | E27: 8 | F27: 20 | G27: 0 | H27: 2 | I27: 0 | J27: 49

Sheet FPE Member Utilizer
A1: Family Psychoeducation
A2: Table 1: Family Psychoeducation - Member Utilization per Region/Quarter
A3: Description: This table displays distinct number of members between the ages of 0 to 17, by quarter who utilized the indicated service between 7/1/2018 to 9/30/2022. Note: Total distinct utilizer count represents an unduplicated (distinct) count of utilizers for the given state fiscal year across all quarters and/or regions combined. Data as of 11/07/2022.Includes Procedure code ('H2027')
B4: Region 1 | C4: Region 2 | D4: Region 3 | E4: Region 4 | F4: Region 5 | G4: Region 6 | H4: Region 7 | I4: Region 9 / Out of State | J4: Total
A5: Service Date SFY-Qtr | B5: Member Utilization | C5: Member Utilization | D5: Member Utilization | E5: Member Utilization | F5: Member Utilization | G5: Member Utilization | H5: Member Utilization | I5: Member Utilization | J5: Member Utilization
A6: SFY2019-Q1 | B6: ='FPE Service Utilizer'!B6/'All Eligible'!B2 -> 0 | C6: ='FPE Service Utilizer'!C6/'All Eligible'!C2 -> 0 | D6: ='FPE Service Utilizer'!D6/'All Eligible'!D2 -> 0 | E6: ='FPE Service Utilizer'!E6/'All Eligible'!E2 -> 0 | F6: ='FPE Service Utilizer'!F6/'All Eligible'!F2 -> 0 | G6: ='FPE Service Utilizer'!G6/'All Eligible'!G2 -> 0 | H6: ='FPE Service Utilizer'!H6/'All Eligible'!H2 -> 0 | I6: ='FPE Service Utilizer'!I6/'All Eligible'!I2 -> 0 | J6: ='FPE Service Utilizer'!J6/'All Eligible'!J2 -> 0
A7: SFY2019-Q2 | B7: ='FPE Service Utilizer'!B7/'All Eligible'!B3 -> 0.00060334425 | C7: ='FPE Service Utilizer'!C7/'All Eligible'!C3 -> 0 | D7: ='FPE Service Utilizer'!D7/'All Eligible'!D3 -> 0 | E7: ='FPE Service Utilizer'!E7/'All Eligible'!E3 -> 0 | F7: ='FPE Service Utilizer'!F7/'All Eligible'!F3 -> 7.2563675e-05 | G7: ='FPE Service Utilizer'!G7/'All Eligible'!G3 -> 0.0002018435 | H7: ='FPE Service Utilizer'!H7/'All Eligible'!H3 -> 0.00032876712 | I7: ='FPE Service Utilizer'!I7/'All Eligible'!I3 -> 0.00012771392 | J7: ='FPE Service Utilizer'!J7/'All Eligible'!J3 -> 0.00015903308
A8: SFY2019-Q3 | B8: ='FPE Service Utilizer'!B8/'All Eligible'!B4 -> 0.0013392857 | C8: ='FPE Service Utilizer'!C8/'All Eligible'!C4 -> 0.00091027308 | D8: ='FPE Service Utilizer'!D8/'All Eligible'!D4 -> 0 | E8: ='FPE Service Utilizer'!E8/'All Eligible'!E4 -> 0.00023459493 | F8: ='FPE Service Utilizer'!F8/'All Eligible'!F4 -> 0.00082619799 | G8: ='FPE Service Utilizer'!G8/'All Eligible'!G4 -> 6.9507194e-05 | H8: ='FPE Service Utilizer'!H8/'All Eligible'!H4 -> 0.00039778378 | I8: ='FPE Service Utilizer'!I8/'All Eligible'!I4 -> 0.00013269639 | J8: ='FPE Service Utilizer'!J8/'All Eligible'!J4 -> 0.00043359762
A9: SFY2019-Q4 | B9: ='FPE Service Utilizer'!B9/'All Eligible'!B5 -> 0.001806247 | C9: ='FPE Service Utilizer'!C9/'All Eligible'!C5 -> 0.00051579626 | D9: ='FPE Service Utilizer'!D9/'All Eligible'!D5 -> 0 | E9: ='FPE Service Utilizer'!E9/'All Eligible'!E5 -> 7.737343e-05 | F9: ='FPE Service Utilizer'!F9/'All Eligible'!F5 -> 0.00077702953 | G9: ='FPE Service Utilizer'!G9/'All Eligible'!G5 -> 0 | H9: ='FPE Service Utilizer'!H9/'All Eligible'!H5 -> 0.00011185995 | I9: ='FPE Service Utilizer'!I9/'All Eligible'!I5 -> 0 | J9: ='FPE Service Utilizer'!J9/'All Eligible'!J5 -> 0.00037238628
A10: 2019 Distinct Utilizers
A11: SFY2020-Q1 | B11: ='FPE Service Utilizer'!B11/'All Eligible'!B7 -> 0.0023286015 | C11: ='FPE Service Utilizer'!C11/'All Eligible'!C7 -> 0 | D11: ='FPE Service Utilizer'!D11/'All Eligible'!D7 -> 0 | E11: ='FPE Service Utilizer'!E11/'All Eligible'!E7 -> 0.00010489602 | F11: ='FPE Service Utilizer'!F11/'All Eligible'!F7 -> 0.00060386473 | G11: ='FPE Service Utilizer'!G11/'All Eligible'!G7 -> 0 | H11: ='FPE Service Utilizer'!H11/'All Eligible'!H7 -> 0.00011349772 | I11: ='FPE Service Utilizer'!I11/'All Eligible'!I7 -> 0 | J11: ='FPE Service Utilizer'!J11/'All Eligible'!J7 -> 0.00039501655
A12: SFY2020-Q2 | B12: ='FPE Service Utilizer'!B12/'All Eligible'!B8 -> 0.0014974815 | C12: ='FPE Service Utilizer'!C12/'All Eligible'!C8 -> 0.00013147515 | D12: ='FPE Service Utilizer'!D12/'All Eligible'!D8 -> 0 | E12: ='FPE Service Utilizer'!E12/'All Eligible'!E8 -> 2.6618399e-05 | F12: ='FPE Service Utilizer'!F12/'All Eligible'!F8 -> 0.00087389339 | G12: ='FPE Service Utilizer'!G12/'All Eligible'!G8 -> 0 | H12: ='FPE Service Utilizer'!H12/'All Eligible'!H8 -> 0 | I12: ='FPE Service Utilizer'!I12/'All Eligible'!I8 -> 0.00015124017 | J12: ='FPE Service Utilizer'!J12/'All Eligible'!J8 -> 0.00031044299
A13: SFY2020-Q3 | B13: ='FPE Service Utilizer'!B13/'All Eligible'!B9 -> 0.0015527197 | C13: ='FPE Service Utilizer'!C13/'All Eligible'!C9 -> 0.0001396453 | D13: ='FPE Service Utilizer'!D13/'All Eligible'!D9 -> 2.641659e-05 | E13: ='FPE Service Utilizer'!E13/'All Eligible'!E9 -> 0.00042664543 | F13: ='FPE Service Utilizer'!F13/'All Eligible'!F9 -> 0.0007316181 | G13: ='FPE Service Utilizer'!G13/'All Eligible'!G9 -> 0 | H13: ='FPE Service Utilizer'!H13/'All Eligible'!H9 -> 0.00033525342 | I13: ='FPE Service Utilizer'!I13/'All Eligible'!I9 -> 0 | J13: ='FPE Service Utilizer'!J13/'All Eligible'!J9 -> 0.00043809395
A14: SFY2020-Q4 | B14: ='FPE Service Utilizer'!B14/'All Eligible'!B10 -> 0.00061384456 | C14: ='FPE Service Utilizer'!C14/'All Eligible'!C10 -> 0 | D14: ='FPE Service Utilizer'!D14/'All Eligible'!D10 -> 2.5825112e-05 | E14: ='FPE Service Utilizer'!E14/'All Eligible'!E10 -> 0.00016671761 | F14: ='FPE Service Utilizer'!F14/'All Eligible'!F10 -> 0.00067511219 | G14: ='FPE Service Utilizer'!G14/'All Eligible'!G10 -> 0 | H14: ='FPE Service Utilizer'!H14/'All Eligible'!H10 -> 0.00026944494 | I14: ='FPE Service Utilizer'!I14/'All Eligible'!I10 -> 0 | J14: ='FPE Service Utilizer'!J14/'All Eligible'!J10 -> 0.0002528042
A15: 2020 Distinct Utilizers
A16: SFY2021-Q1 | B16: ='FPE Service Utilizer'!B16/'All Eligible'!B12 -> 0.0007802102 | C16: ='FPE Service Utilizer'!C16/'All Eligible'!C12 -> 0 | D16: ='FPE Service Utilizer'!D16/'All Eligible'!D12 -> 0.00010094382 | E16: ='FPE Service Utilizer'!E16/'All Eligible'!E12 -> 0.0001355969 | F16: ='FPE Service Utilizer'!F16/'All Eligible'!F12 -> 0.001121423 | G16: ='FPE Service Utilizer'!G16/'All Eligible'!G12 -> 0 | H16: ='FPE Service Utilizer'!H16/'All Eligible'!H12 -> 8.7135845e-05 | I16: ='FPE Service Utilizer'!I16/'All Eligible'!I12 -> 0 | J16: ='FPE Service Utilizer'!J16/'All Eligible'!J12 -> 0.00031085861
A17: SFY2021-Q2 | B17: ='FPE Service Utilizer'!B17/'All Eligible'!B13 -> 0.0014759818 | C17: ='FPE Service Utilizer'!C17/'All Eligible'!C13 -> 0 | D17: ='FPE Service Utilizer'!D17/'All Eligible'!D13 -> 4.9408335e-05 | E17: ='FPE Service Utilizer'!E17/'All Eligible'!E13 -> 0.00015913009 | F17: ='FPE Service Utilizer'!F17/'All Eligible'!F13 -> 0.0010949594 | G17: ='FPE Service Utilizer'!G17/'All Eligible'!G13 -> 0 | H17: ='FPE Service Utilizer'!H17/'All Eligible'!H13 -> 5.6877968e-05 | I17: ='FPE Service Utilizer'!I17/'All Eligible'!I13 -> 0 | J17: ='FPE Service Utilizer'!J17/'All Eligible'!J13 -> 0.00037892543
A18: SFY2021-Q3 | B18: ='FPE Service Utilizer'!B18/'All Eligible'!B14 -> 0.001798719 | C18: ='FPE Service Utilizer'!C18/'All Eligible'!C14 -> 0 | D18: ='FPE Service Utilizer'!D18/'All Eligible'!D14 -> 0 | E18: ='FPE Service Utilizer'!E18/'All Eligible'!E14 -> 0.00026149944 | F18: ='FPE Service Utilizer'!F18/'All Eligible'!F14 -> 0.0020086297 | G18: ='FPE Service Utilizer'!G18/'All Eligible'!G14 -> 6.8110612e-05 | H18: ='FPE Service Utilizer'!H18/'All Eligible'!H14 -> 0 | I18: ='FPE Service Utilizer'!I18/'All Eligible'!I14 -> 0 | J18: ='FPE Service Utilizer'!J18/'All Eligible'!J14 -> 0.00054989806
A19: SFY2021-Q4 | B19: ='FPE Service Utilizer'!B19/'All Eligible'!B15 -> 0.0009072842 | C19: ='FPE Service Utilizer'!C19/'All Eligible'!C15 -> 0 | D19: ='FPE Service Utilizer'!D19/'All Eligible'!D15 -> 9.6230183e-05 | E19: ='FPE Service Utilizer'!E19/'All Eligible'!E15 -> 0.00028478964 | F19: ='FPE Service Utilizer'!F19/'All Eligible'!F15 -> 0.0014716162 | G19: ='FPE Service Utilizer'!G19/'All Eligible'!G15 -> 0 | H19: ='FPE Service Utilizer'!H19/'All Eligible'!H15 -> 5.4824561e-05 | I19: ='FPE Service Utilizer'!I19/'All Eligible'!I15 -> 0 | J19: ='FPE Service Utilizer'!J19/'All Eligible'!J15 -> 0.00039977244
A20: 2021 Distinct Utilizers
A21: SFY2022-Q1 | B21: ='FPE Service Utilizer'!B21/'All Eligible'!B17 -> 0.00038683057 | C21: ='FPE Service Utilizer'!C21/'All Eligible'!C17 -> 0 | D21: ='FPE Service Utilizer'!D21/'All Eligible'!D17 -> 2.3896005e-05 | E21: ='FPE Service Utilizer'!E21/'All Eligible'!E17 -> 0.00017950559 | F21: ='FPE Service Utilizer'!F21/'All Eligible'!F17 -> 0.0015345829 | G21: ='FPE Service Utilizer'!G21/'All Eligible'!G17 -> 6.6414292e-05 | H21: ='FPE Service Utilizer'!H21/'All Eligible'!H17 -> 0.00018905123 | I21: ='FPE Service Utilizer'!I21/'All Eligible'!I17 -> 0 | J21: ='FPE Service Utilizer'!J21/'All Eligible'!J17 -> 0.00034153876
A22: SFY2022-Q2 | B22: ='FPE Service Utilizer'!B22/'All Eligible'!B18 -> 0.00012649155 | C22: ='FPE Service Utilizer'!C22/'All Eligible'!C18 -> 0 | D22: ='FPE Service Utilizer'!D22/'All Eligible'!D18 -> 4.7451836e-05 | E22: ='FPE Service Utilizer'!E22/'All Eligible'!E18 -> 0.00020279348 | F22: ='FPE Service Utilizer'!F22/'All Eligible'!F18 -> 0.0012998736 | G22: ='FPE Service Utilizer'!G22/'All Eligible'!G18 -> 0 | H22: ='FPE Service Utilizer'!H22/'All Eligible'!H18 -> 0.00015959994 | I22: ='FPE Service Utilizer'!I22/'All Eligible'!I18 -> 0 | J22: ='FPE Service Utilizer'!J22/'All Eligible'!J18 -> 0.00027917081
A23: SFY2022-Q3 | B23: ='FPE Service Utilizer'!B23/'All Eligible'!B19 -> 0.00025098302 | C23: ='FPE Service Utilizer'!C23/'All Eligible'!C19 -> 0 | D23: ='FPE Service Utilizer'!D23/'All Eligible'!D19 -> 7.0288887e-05 | E23: ='FPE Service Utilizer'!E23/'All Eligible'!E19 -> 0.00010046717 | F23: ='FPE Service Utilizer'!F23/'All Eligible'!F19 -> 0.0012517883 | G23: ='FPE Service Utilizer'!G23/'All Eligible'!G19 -> 6.4624531e-05 | H23: ='FPE Service Utilizer'!H23/'All Eligible'!H19 -> 0.00010513865 | I23: ='FPE Service Utilizer'!I23/'All Eligible'!I19 -> 0 | J23: ='FPE Service Utilizer'!J23/'All Eligible'!J19 -> 0.00026432333
A24: SFY2022-Q4 | B24: ='FPE Service Utilizer'!B24/'All Eligible'!B20 -> 0.00050154643 | C24: ='FPE Service Utilizer'!C24/'All Eligible'!C20 -> 0 | D24: ='FPE Service Utilizer'!D24/'All Eligible'!D20 -> 0.00018701639 | E24: ='FPE Service Utilizer'!E24/'All Eligible'!E20 -> 0.00022467983 | F24: ='FPE Service Utilizer'!F24/'All Eligible'!F20 -> 0.00085363685 | G24: ='FPE Service Utilizer'!G24/'All Eligible'!G20 -> 0 | H24: ='FPE Service Utilizer'!H24/'All Eligible'!H20 -> 2.600104e-05 | I24: ='FPE Service Utilizer'!I24/'All Eligible'!I20 -> 0 | J24: ='FPE Service Utilizer'!J24/'All Eligible'!J20 -> 0.00026935086
A25: 2022 Distinct Utilizers
A26: SFY2023-Q1 | B26: ='FPE Service Utilizer'!B26/'All Eligible'!B22 -> 0.00045370179 | C26: ='FPE Service Utilizer'!C26/'All Eligible'!C22 -> 0 | D26: ='FPE Service Utilizer'!D26/'All Eligible'!D22 -> 0.00018551155 | E26: ='FPE Service Utilizer'!E26/'All Eligible'!E22 -> 0.00019743337 | F26: ='FPE Service Utilizer'!F26/'All Eligible'!F22 -> 0.00070521862 | G26: ='FPE Service Utilizer'!G26/'All Eligible'!G22 -> 0 | H26: ='FPE Service Utilizer'!H26/'All Eligible'!H22 -> 5.1287312e-05 | I26: ='FPE Service Utilizer'!I26/'All Eligible'!I22 -> 0 | J26: ='FPE Service Utilizer'!J26/'All Eligible'!J22 -> 0.00024293626
A27: 2023 Distinct Utilizers

Sheet FS Service Utilizer
A1: Family Support
A2: Table 1: Family Support - Distinct service utilizers per Region/Quarter
A3: Description: This table displays distinct number of members between the ages of 0 to 17, by quarter who utilized the indicated service between 7/1/2018 to 9/30/2022. Note: Total distinct utilizer count represents an unduplicated (distinct) count of utilizers for the given state fiscal year across all quarters and/or regions combined. Data as of 11/07/2022.Includes Procedure code ('H0046')
B4: Region 1 | C4: Region 2 | D4: Region 3 | E4: Region 4 | F4: Region 5 | G4: Region 6 | H4: Region 7 | I4: Region 9 / Out of State | J4: Total
A5: Service Date SFY-Qtr | B5: Distinct Utilizers | C5: Distinct Utilizers | D5: Distinct Utilizers | E5: Distinct Utilizers | F5: Distinct Utilizers | G5: Distinct Utilizers | H5: Distinct Utilizers | I5: Distinct Utilizers | J5: Distinct Utilizers
A6: SFY2019-Q1 | B6: 83 | C6: 23 | D6: 85 | E6: 86 | F6: 49 | G6: 8 | H6: 342 | I6: 0 | J6: 675
A7: SFY2019-Q2 | B7: 60 | C7: 19 | D7: 76 | E7: 74 | F7: 45 | G7: 15 | H7: 365 | I7: 1 | J7: 653
A8: SFY2019-Q3 | B8: 42 | C8: 7 | D8: 73 | E8: 75 | F8: 37 | G8: 22 | H8: 361 | I8: 0 | J8: 617
A9: SFY2019-Q4 | B9: 45 | C9: 3 | D9: 71 | E9: 69 | F9: 33 | G9: 22 | H9: 348 | I9: 1 | J9: 592
A10: 2019 Distinct Utilizers | B10: 104 | C10: 29 | D10: 143 | E10: 142 | F10: 76 | G10: 28 | H10: 566 | I10: 2 | J10: 1086
A11: SFY2020-Q1 | B11: 36 | C11: 5 | D11: 67 | E11: 65 | F11: 39 | G11: 19 | H11: 334 | I11: 2 | J11: 566
A12: SFY2020-Q2 | B12: 21 | C12: 10 | D12: 44 | E12: 52 | F12: 42 | G12: 21 | H12: 280 | I12: 0 | J12: 467
A13: SFY2020-Q3 | B13: 14 | C13: 0 | D13: 57 | E13: 37 | F13: 36 | G13: 24 | H13: 271 | I13: 0 | J13: 438
A14: SFY2020-Q4 | B14: 18 | C14: 0 | D14: 55 | E14: 35 | F14: 26 | G14: 25 | H14: 225 | I14: 0 | J14: 384
A15: 2020 Distinct Utilizers | B15: 41 | C15: 10 | D15: 100 | E15: 92 | F15: 64 | G15: 37 | H15: 427 | I15: 2 | J15: 768
A16: SFY2021-Q1 | B16: 15 | C16: 0 | D16: 44 | E16: 28 | F16: 22 | G16: 16 | H16: 201 | I16: 0 | J16: 326
A17: SFY2021-Q2 | B17: 8 | C17: 0 | D17: 43 | E17: 30 | F17: 18 | G17: 9 | H17: 190 | I17: 0 | J17: 295
... A27: 2023 Distinct Utilizers | B27: 0 | C27: 2 | D27: 32 | E27: 8 | F27: 7 | G27: 7 | H27: 190 | I27: 0 | J27: 246

Sheet FS Member Utilizer
A1: Family Support
A2: Table 1: Family Support - Member Utilization per Region/Quarter
A3: Description: This table displays distinct number of members between the ages of 0 to 17, by quarter who utilized the indicated service between 7/1/2018 to 9/30/2022. Note: Total distinct utilizer count represents an unduplicated (distinct) count of utilizers for the given state fiscal year across all quarters and/or regions combined. Data as of 11/07/2022.Includes Procedure code ('H0046')
B4: Region 1 | C4: Region 2 | D4: Region 3 | E4: Region 4 | F4: Region 5 | G4: Region 6 | H4: Region 7 | I4: Region 9 / Out of State | J4: Total
A5: Service Date SFY-Qtr | B5: Member Utilization | C5: Member Utilization | D5: Member Utilization | E5: Member Utilization | F5: Member Utilization | G5: Member Utilization | H5: Member Utilization | I5: Member Utilization | J5: Member Utilization
A6: SFY2019-Q1 | B6: ='FS Service Utilizer'!B6/'All Eligible'!B2 -> 0.0036246124 | C6: ='FS Service Utilizer'!C6/'All Eligible'!C2 -> 0.002926581 | D6: ='FS Service Utilizer'!D6/'All Eligible'!D2 -> 0.0019746318 | E6: ='FS Service Utilizer'!E6/'All Eligible'!E2 -> 0.0021767192 | F6: ='FS Service Utilizer'!F6/'All Eligible'!F2 -> 0.0017968464 | G6: ='FS Service Utilizer'!G6/'All Eligible'!G2 -> 0.00054425471 | H6: ='FS Service Utilizer'!H6/'All Eligible'!H2 -> 0.0094597959 | I6: ='FS Service Utilizer'!I6/'All Eligible'!I2 -> 0 | J6: ='FS Service Utilizer'!J6/'All Eligible'!J2 -> 0.0033742914
A7: SFY2019-Q2 | B7: ='FS Service Utilizer'!B7/'All Eligible'!B3 -> 0.0025857611 | C7: ='FS Service Utilizer'!C7/'All Eligible'!C3 -> 0.0024020228 | D7: ='FS Service Utilizer'!D7/'All Eligible'!D3 -> 0.0017497007 | E7: ='FS Service Utilizer'!E7/'All Eligible'!E3 -> 0.0018541254 | F7: ='FS Service Utilizer'!F7/'All Eligible'!F3 -> 0.0016326827 | G7: ='FS Service Utilizer'!G7/'All Eligible'!G3 -> 0.0010092175 | H7: ='FS Service Utilizer'!H7/'All Eligible'!H3 -> 0.01 | I7: ='FS Service Utilizer'!I7/'All Eligible'!I3 -> 0.00012771392 | J7: ='FS Service Utilizer'!J7/'All Eligible'!J3 -> 0.0032452688
A8: SFY2019-Q3 | B8: ='FS Service Utilizer'!B8/'All Eligible'!B4 -> 0.001875 | C8: ='FS Service Utilizer'!C8/'All Eligible'!C4 -> 0.00091027308 | D8: ='FS Service Utilizer'!D8/'All Eligible'!D4 -> 0.0017578501 | E8: ='FS Service Utilizer'!E8/'All Eligible'!E4 -> 0.0019549578 | F8: ='FS Service Utilizer'!F8/'All Eligible'!F4 -> 0.0013895148 | G8: ='FS Service Utilizer'!G8/'All Eligible'!G4 -> 0.0015291583 | H8: ='FS Service Utilizer'!H8/'All Eligible'!H4 -> 0.010257139 | I8: ='FS Service Utilizer'!I8/'All Eligible'!I4 -> 0 | J8: ='FS Service Utilizer'!J8/'All Eligible'!J4 -> 0.0031848778
A9: SFY2019-Q4 | B9: ='FS Service Utilizer'!B9/'All Eligible'!B5 -> 0.0019824662 | C9: ='FS Service Utilizer'!C9/'All Eligible'!C5 -> 0.0003868472 | D9: ='FS Service Utilizer'!D9/'All Eligible'!D5 -> 0.0016886267 | E9: ='FS Service Utilizer'!E9/'All Eligible'!E5 -> 0.0017795889 | F9: ='FS Service Utilizer'!F9/'All Eligible'!F5 -> 0.0012210464 | G9: ='FS Service Utilizer'!G9/'All Eligible'!G5 -> 0.001515569 | H9: ='FS Service Utilizer'!H9/'All Eligible'!H5 -> 0.0097318158 | I9: ='FS Service Utilizer'!I9/'All Eligible'!I5 -> 0.00013406623 | J9: ='FS Service Utilizer'!J9/'All Eligible'!J5 -> 0.0030198997
A10: 2019 Distinct Utilizers
A11: SFY2020-Q1 | B11: ='FS Service Utilizer'!B11/'All Eligible'!B7 -> 0.0016121087 | C11: ='FS Service Utilizer'!C11/'All Eligible'!C7 -> 0.00065095691 | D11: ='FS Service Utilizer'!D11/'All Eligible'!D7 -> 0.0016352232 | E11: ='FS Service Utilizer'!E11/'All Eligible'!E7 -> 0.0017045604 | F11: ='FS Service Utilizer'!F11/'All Eligible'!F7 -> 0.0014719203 | G11: ='FS Service Utilizer'!G11/'All Eligible'!G7 -> 0.0013337077 | H11: ='FS Service Utilizer'!H11/'All Eligible'!H7 -> 0.0094770593 | I11: ='FS Service Utilizer'!I11/'All Eligible'!I7 -> 0.00027419797 | J11: ='FS Service Utilizer'!J11/'All Eligible'!J7 -> 0.0029418338
A12: SFY2020-Q2 | B12: ='FS Service Utilizer'!B12/'All Eligible'!B8 -> 0.00095294278 | C12: ='FS Service Utilizer'!C12/'All Eligible'!C8 -> 0.0013147515 | D12: ='FS Service Utilizer'!D12/'All Eligible'!D8 -> 0.0010836638 | E12: ='FS Service Utilizer'!E12/'All Eligible'!E8 -> 0.0013841567 | F12: ='FS Service Utilizer'!F12/'All Eligible'!F8 -> 0.0015958053 | G12: ='FS Service Utilizer'!G12/'All Eligible'!G8 -> 0.0014722378 | H12: ='FS Service Utilizer'!H12/'All Eligible'!H8 -> 0.0079904115 | I12: ='FS Service Utilizer'!I12/'All Eligible'!I8 -> 0 | J12: ='FS Service Utilizer'!J12/'All Eligible'!J8 -> 0.0024572352
A13: SFY2020-Q3 | B13: ='FS Service Utilizer'!B13/'All Eligible'!B9 -> 0.00067931486 | C13: ='FS Service Utilizer'!C13/'All Eligible'!C9 -> 0 | D13: ='FS Service Utilizer'!D13/'All Eligible'!D9 -> 0.0015057456 | E13: ='FS Service Utilizer'!E13/'All Eligible'!E9 -> 0.0010523921 | F13: ='FS Service Utilizer'!F13/'All Eligible'!F9 -> 0.0014632362 | G13: ='FS Service Utilizer'!G13/'All Eligible'!G9 -> 0.0017911784 | H13: ='FS Service Utilizer'!H13/'All Eligible'!H9 -> 0.0082594252 | I13: ='FS Service Utilizer'!I13/'All Eligible'!I9 -> 0 | J13: ='FS Service Utilizer'!J13/'All Eligible'!J9 -> 0.0024600661
A14: SFY2020-Q4 | B14: ='FS Service Utilizer'!B14/'All Eligible'!B10 -> 0.00084993862 | C14: ='FS Service Utilizer'!C14/'All Eligible'!C10 -> 0 | D14: ='FS Service Utilizer'!D14/'All Eligible'!D10 -> 0.0014203812 | E14: ='FS Service Utilizer'!E14/'All Eligible'!E10 -> 0.00097251938 | F14: ='FS Service Utilizer'!F14/'All Eligible'!F10 -> 0.0010325245 | G14: ='FS Service Utilizer'!G14/'All Eligible'!G10 -> 0.001814882 | H14: ='FS Service Utilizer'!H14/'All Eligible'!H10 -> 0.0067361236 | I14: ='FS Service Utilizer'!I14/'All Eligible'!I10 -> 0 | J14: ='FS Service Utilizer'!J14/'All Eligible'!J10 -> 0.0021103655
A15: 2020 Distinct Utilizers
A16: SFY2021-Q1 | B16: ='FS Service Utilizer'!B16/'All Eligible'!B12 -> 0.00068842076 | C16: ='FS Service Utilizer'!C16/'All Eligible'!C12 -> 0 | D16: ='FS Service Utilizer'!D16/'All Eligible'!D12 -> 0.0011103821 | E16: ='FS Service Utilizer'!E16/'All Eligible'!E12 -> 0.00075934263 | F16: ='FS Service Utilizer'!F16/'All Eligible'!F12 -> 0.00085073473 | G16: ='FS Service Utilizer'!G16/'All Eligible'!G12 -> 0.0011290664 | H16: ='FS Service Utilizer'!H16/'All Eligible'!H12 -> 0.0058381016 | I16: ='FS Service Utilizer'!I16/'All Eligible'!I12 -> 0 | J16: ='FS Service Utilizer'!J16/'All Eligible'!J12 -> 0.0017472398
A17: SFY2021-Q2 | B17: ='FS Service Utilizer'!B17/'All Eligible'!B13 -> 0.00035781376 | C17: ='FS Service Utilizer'!C17/'All Eligible'!C13 -> 0 | D17: ='FS Service Utilizer'!D17/'All Eligible'!D13 -> 0.0010622792 | E17: ='FS Service Utilizer'!E17/'All Eligible'!E13 -> 0.00079565044 | F17: ='FS Service Utilizer'!F17/'All Eligible'!F13 -> 0.00067962998 | G17: ='FS Service Utilizer'!G17/'All Eligible'!G13 -> 0.00062279427 | H17: ='FS Service Utilizer'!H17/'All Eligible'!H13 -> 0.005403407 | I17: ='FS Service Utilizer'!I17/'All Eligible'!I13 -> 0 | J17: ='FS Service Utilizer'!J17/'All Eligible'!J13 -> 0.0015525417
A18: SFY2021-Q3 | B18: ='FS Service Utilizer'!B18/'All Eligible'!B14 -> 4.3871194e-05 | C18: ='FS Service Utilizer'!C18/'All Eligible'!C14 -> 0 | D18: ='FS Service Utilizer'!D18/'All Eligible'!D14 -> 0.00087689385 | E18: ='FS Service Utilizer'!E18/'All Eligible'!E14 -> 0.00062759865 | F18: ='FS Service Utilizer'!F18/'All Eligible'!F14 -> 0.0011159054 | G18: ='FS Service Utilizer'!G18/'All Eligible'!G14 -> 0.00068110612 | H18: ='FS Service Utilizer'!H18/'All Eligible'!H14 -> 0.0049446866 | I18: ='FS Service Utilizer'!I18/'All Eligible'!I14 -> 0 | J18: ='FS Service Utilizer'!J18/'All Eligible'!J14 -> 0.00143181
A19: SFY2021-Q4 | B19: ='FS Service Utilizer'!B19/'All Eligible'!B15 -> 0.00017281604 | C19: ='FS Service Utilizer'!C19/'All Eligible'!C15 -> 0 | D19: ='FS Service Utilizer'!D19/'All Eligible'!D15 -> 0.00079389901 | E19: ='FS Service Utilizer'!E19/'All Eligible'!E15 -> 0.00049190939 | F19: ='FS Service Utilizer'!F19/'All Eligible'!F15 -> 0.00084617932 | G19: ='FS Service Utilizer'!G19/'All Eligible'!G15 -> 0.001952862 | H19: ='FS Service Utilizer'!H19/'All Eligible'!H15 -> 0.0051535088 | I19: ='FS Service Utilizer'!I19/'All Eligible'!I15 -> 0 | J19: ='FS Service Utilizer'!J19/'All Eligible'!J15 -> 0.0015017093
A20: 2021 Distinct Utilizers
A21: SFY2022-Q1 | B21: ='FS Service Utilizer'!B21/'All Eligible'!B17 -> 0.0001719247 | C21: ='FS Service Utilizer'!C21/'All Eligible'!C17 -> 0 | D21: ='FS Service Utilizer'!D21/'All Eligible'!D17 -> 0.00059740011 | E21: ='FS Service Utilizer'!E21/'All Eligible'!E17 -> 0.0004615858 | F21: ='FS Service Utilizer'!F21/'All Eligible'!F17 -> 0.00076729146 | G21: ='FS Service Utilizer'!G21/'All Eligible'!G17 -> 0.0018596002 | H21: ='FS Service Utilizer'!H21/'All Eligible'!H17 -> 0.0048073028 | I21: ='FS Service Utilizer'!I21/'All Eligible'!I17 -> 0.00022026432 | J21: ='FS Service Utilizer'!J21/'All Eligible'!J17 -> 0.0013967406
A22: SFY2022-Q2 | B22: ='FS Service Utilizer'!B22/'All Eligible'!B18 -> 8.4327697e-05 | C22: ='FS Service Utilizer'!C22/'All Eligible'!C18 -> 0 | D22: ='FS Service Utilizer'!D22/'All Eligible'!D18 -> 0.00042706653 | E22: ='FS Service Utilizer'!E22/'All Eligible'!E18 -> 0.00045628533 | F22: ='FS Service Utilizer'!F22/'All Eligible'!F18 -> 0.0002527532 | G22: ='FS Service Utilizer'!G22/'All Eligible'!G18 -> 0.0014402619 | H22: ='FS Service Utilizer'!H22/'All Eligible'!H18 -> 0.0045485982 | I22: ='FS Service Utilizer'!I22/'All Eligible'!I18 -> 0 | J22: ='FS Service Utilizer'!J22/'All Eligible'!J18 -> 0.0012029724
A23: SFY2022-Q3 | B23: ='FS Service Utilizer'!B23/'All Eligible'!B19 -> 0.00029281352 | C23: ='FS Service Utilizer'!C23/'All Eligible'!C19 -> 0.00012023566 | D23: ='FS Service Utilizer'!D23/'All Eligible'!D19 -> 0.00049202221 | E23: ='FS Service Utilizer'!E23/'All Eligible'!E19 -> 0.00032651831 | F23: ='FS Service Utilizer'!F23/'All Eligible'!F19 -> 0.00028612303 | G23: ='FS Service Utilizer'!G23/'All Eligible'!G19 -> 0.001098617 | H23: ='FS Service Utilizer'!H23/'All Eligible'!H19 -> 0.0046523853 | I23: ='FS Service Utilizer'!I23/'All Eligible'!I19 -> 0.00023174971 | J23: ='FS Service Utilizer'!J23/'All Eligible'!J19 -> 0.0012168848
A24: SFY2022-Q4 | B24: ='FS Service Utilizer'!B24/'All Eligible'!B20 -> 0.00029256875 | C24: ='FS Service Utilizer'!C24/'All Eligible'!C20 -> 0.00023952096 | D24: ='FS Service Utilizer'!D24/'All Eligible'!D20 -> 0.00070131145 | E24: ='FS Service Utilizer'!E24/'All Eligible'!E20 -> 0.00029957311 | F24: ='FS Service Utilizer'!F24/'All Eligible'!F20 -> 0.00024897741 | G24: ='FS Service Utilizer'!G24/'All Eligible'!G20 -> 0.00089571337 | H24: ='FS Service Utilizer'!H24/'All Eligible'!H20 -> 0.0046801872 | I24: ='FS Service Utilizer'!I24/'All Eligible'!I20 -> 0 | J24: ='FS Service Utilizer'!J24/'All Eligible'!J20 -> 0.0012569707
A25: 2022 Distinct Utilizers
A26: SFY2023-Q1 | B26: ='FS Service Utilizer'!B26/'All Eligible'!B22 -> 0 | C26: ='FS Service Utilizer'!C26/'All Eligible'!C22 -> 0.00023482447 | D26: ='FS Service Utilizer'!D26/'All Eligible'!D22 -> 0.00074204619 | E26: ='FS Service Utilizer'!E26/'All Eligible'!E22 -> 0.00019743337 | F26: ='FS Service Utilizer'!F26/'All Eligible'!F22 -> 0.00024682652 | G26: ='FS Service Utilizer'!G26/'All Eligible'!G22 -> 0.00044258978 | H26: ='FS Service Utilizer'!H26/'All Eligible'!H22 -> 0.0048722946 | I26: ='FS Service Utilizer'!I26/'All Eligible'!I22 -> 0 | J26: ='FS Service Utilizer'!J26/'All Eligible'!J22 -> 0.0012196392
A27: 2023 Distinct Utilizers

Sheet IHCBS-FFT MDFT Service Utilizer
A1: IHCBS - FFT/MDFT/Other Evidence - based
A2: Table 1: IHCBS - FFT/MDFT/Other Evidence - based - Distinct service utilizers per Region/Quarter
A3: Description: This table displays distinct number of members between the ages of 0 to 17, by quarter who utilized the indicated service between 7/1/2018 to 9/30/2022. Note: Total distinct utilizer count represents an unduplicated (distinct) count of utilizers for the given state fiscal year across all quarters and/or regions combined. Data as of 11/07/2022. Includes Procedure code 'H0036'
B4: Region 1 | C4: Region 2 | D4: Region 3 | E4: Region 4 | F4: Region 5 | G4: Region 6 | H4: Region 7 | I4: Region 9 / Out of State | J4: Total
A5: Service Date SFY-Qtr | B5: Distinct Utilizers | C5: Distinct Utilizers | D5: Distinct Utilizers | E5: Distinct Utilizers | F5: Distinct Utilizers | G5: Distinct Utilizers | H5: Distinct Utilizers | I5: Distinct Utilizers | J5: Distinct Utilizers
A6: SFY2019-Q1 | B6: 0 | C6: 0 | D6: 0 | E6: 0 | F6: 0 | G6: 0 | H6: 0 | I6: 0 | J6: 0
A7: SFY2019-Q2 | B7: 0 | C7: 0 | D7: 0 | E7: 0 | F7: 0 | G7: 0 | H7: 0 | I7: 0 | J7: 0
A8: SFY2019-Q3 | B8: 0 | C8: 0 | D8: 0 | E8: 0 | F8: 0 | G8: 0 | H8: 0 | I8: 0 | J8: 0
A9: SFY2019-Q4 | B9: 0 | C9: 0 | D9: 0 | E9: 0 | F9: 0 | G9: 0 | H9: 0 | I9: 0 | J9: 0
A10: 2019 Distinct Utilizers | B10: 0 | C10: 0 | D10: 0 | E10: 0 | F10: 0 | G10: 0 | H10: 0 | I10: 0 | J10: 0
A11: SFY2020-Q1 | B11: 0 | C11: 0 | D11: 0 | E11: 0 | F11: 0 | G11: 0 | H11: 0 | I11: 0 | J11: 0
A12: SFY2020-Q2 | B12: 0 | C12: 0 | D12: 0 | E12: 0 | F12: 0 | G12: 0 | H12: 0 | I12: 0 | J12: 0
A13: SFY2020-Q3 | B13: 1 | C13: 0 | D13: 0 | E13: 1 | F13: 0 | G13: 0 | H13: 0 | I13: 0 | J13: 2
A14: SFY2020-Q4 | B14: 0 | C14: 0 | D14: 0 | E14: 1 | F14: 0 | G14: 0 | H14: 0 | I14: 0 | J14: 1
A15: 2020 Distinct Utilizers | B15: 1 | C15: 0 | D15: 0 | E15: 1 | F15: 0 | G15: 0 | H15: 0 | I15: 0 | J15: 2
A16: SFY2021-Q1 | B16: 0 | C16: 0 | D16: 0 | E16: 0 | F16: 0 | G16: 0 | H16: 0 | I16: 0 | J16: 0
A17: SFY2021-Q2 | B17: 0 | C17: 0 | D17: 1 | E17: 3 | F17: 0 | G17: 0 | H17: 0 | I17: 0 | J17: 4
... A27: 2023 Distinct Utilizers | B27: 0 | C27: 0 | D27: 4 | E27: 8 | F27: 1 | G27: 16 | H27: 5 | I27: 0 | J27: 34

Sheet IHCBS-FFT MDFT Member Utilizer
A1: IHCBS - FFT/MDFT/Other Evidence - based
A2: Table 1: IHCBS - FFT/MDFT/Other Evidence - based - Member Utilization per Region/Quarter
A3: Description: This table displays distinct number of members between the ages of 0 to 17, by quarter who utilized the indicated service between 7/1/2018 to 9/30/2022. Note: Total distinct utilizer count represents an unduplicated (distinct) count of utilizers for the given state fiscal year across all quarters and/or regions combined. Data as of 11/07/2022.Includes Procedure code 'H0036'
B4: Region 1 | C4: Region 2 | D4: Region 3 | E4: Region 4 | F4: Region 5 | G4: Region 6 | H4: Region 7 | I4: Region 9 / Out of State | J4: Total
A5: Service Date SFY-Qtr | B5: Member Utilization | C5: Member Utilization | D5: Member Utilization | E5: Member Utilization | F5: Member Utilization | G5: Member Utilization | H5: Member Utilization | I5: Member Utilization | J5: Member Utilization
A6: SFY2019-Q1 | B6: ='IHCBS-FFT MDFT Service Utilizer'!B6/'All Eligible'!B2 -> 0 | C6: ='IHCBS-FFT MDFT Service Utilizer'!C6/'All Eligible'!C2 -> 0 | D6: ='IHCBS-FFT MDFT Service Utilizer'!D6/'All Eligible'!D2 -> 0 | E6: ='IHCBS-FFT MDFT Service Utilizer'!E6/'All Eligible'!E2 -> 0 | F6: ='IHCBS-FFT MDFT Service Utilizer'!F6/'All Eligible'!F2 -> 0 | G6: ='IHCBS-FFT MDFT Service Utilizer'!G6/'All Eligible'!G2 -> 0 | H6: ='IHCBS-FFT MDFT Service Utilizer'!H6/'All Eligible'!H2 -> 0 | I6: ='IHCBS-FFT MDFT Service Utilizer'!I6/'All Eligible'!I2 -> 0 | J6: ='IHCBS-FFT MDFT Service Utilizer'!J6/'All Eligible'!J2 -> 0
A7: SFY2019-Q2 | B7: ='IHCBS-FFT MDFT Service Utilizer'!B7/'All Eligible'!B3 -> 0 | C7: ='IHCBS-FFT MDFT Service Utilizer'!C7/'All Eligible'!C3 -> 0 | D7: ='IHCBS-FFT MDFT Service Utilizer'!D7/'All Eligible'!D3 -> 0 | E7: ='IHCBS-FFT MDFT Service Utilizer'!E7/'All Eligible'!E3 -> 0 | F7: ='IHCBS-FFT MDFT Service Utilizer'!F7/'All Eligible'!F3 -> 0 | G7: ='IHCBS-FFT MDFT Service Utilizer'!G7/'All Eligible'!G3 -> 0 | H7: ='IHCBS-FFT MDFT Service Utilizer'!H7/'All Eligible'!H3 -> 0 | I7: ='IHCBS-FFT MDFT Service Utilizer'!I7/'All Eligible'!I3 -> 0 | J7: ='IHCBS-FFT MDFT Service Utilizer'!J7/'All Eligible'!J3 -> 0
A8: SFY2019-Q3 | B8: ='IHCBS-FFT MDFT Service Utilizer'!B8/'All Eligible'!B4 -> 0 | C8: ='IHCBS-FFT MDFT Service Utilizer'!C8/'All Eligible'!C4 -> 0 | D8: ='IHCBS-FFT MDFT Service Utilizer'!D8/'All Eligible'!D4 -> 0 | E8: ='IHCBS-FFT MDFT Service Utilizer'!E8/'All Eligible'!E4 -> 0 | F8: ='IHCBS-FFT MDFT Service Utilizer'!F8/'All Eligible'!F4 -> 0 | G8: ='IHCBS-FFT MDFT Service Utilizer'!G8/'All Eligible'!G4 -> 0 | H8: ='IHCBS-FFT MDFT Service Utilizer'!H8/'All Eligible'!H4 -> 0 | I8: ='IHCBS-FFT MDFT Service Utilizer'!I8/'All Eligible'!I4 -> 0 | J8: ='IHCBS-FFT MDFT Service Utilizer'!J8/'All Eligible'!J4 -> 0
A9: SFY2019-Q4 | B9: ='IHCBS-FFT MDFT Service Utilizer'!B9/'All Eligible'!B5 -> 0 | C9: ='IHCBS-FFT MDFT Service Utilizer'!C9/'All Eligible'!C5 -> 0 | D9: ='IHCBS-FFT MDFT Service Utilizer'!D9/'All Eligible'!D5 -> 0 | E9: ='IHCBS-FFT MDFT Service Utilizer'!E9/'All Eligible'!E5 -> 0 | F9: ='IHCBS-FFT MDFT Service Utilizer'!F9/'All Eligible'!F5 -> 0 | G9: ='IHCBS-FFT MDFT Service Utilizer'!G9/'All Eligible'!G5 -> 0 | H9: ='IHCBS-FFT MDFT Service Utilizer'!H9/'All Eligible'!H5 -> 0 | I9: ='IHCBS-FFT MDFT Service Utilizer'!I9/'All Eligible'!I5 -> 0 | J9: ='IHCBS-FFT MDFT Service Utilizer'!J9/'All Eligible'!J5 -> 0
A10: 2019 Distinct Utilizers
A11: SFY2020-Q1 | B11: ='IHCBS-FFT MDFT Service Utilizer'!B11/'All Eligible'!B7 -> 0 | C11: ='IHCBS-FFT MDFT Service Utilizer'!C11/'All Eligible'!C7 -> 0 | D11: ='IHCBS-FFT MDFT Service Utilizer'!D11/'All Eligible'!D7 -> 0 | E11: ='IHCBS-FFT MDFT Service Utilizer'!E11/'All Eligible'!E7 -> 0 | F11: ='IHCBS-FFT MDFT Service Utilizer'!F11/'All Eligible'!F7 -> 0 | G11: ='IHCBS-FFT MDFT Service Utilizer'!G11/'All Eligible'!G7 -> 0 | H11: ='IHCBS-FFT MDFT Service Utilizer'!H11/'All Eligible'!H7 -> 0 | I11: ='IHCBS-FFT MDFT Service Utilizer'!I11/'All Eligible'!I7 -> 0 | J11: ='IHCBS-FFT MDFT Service Utilizer'!J11/'All Eligible'!J7 -> 0
A12: SFY2020-Q2 | B12: ='IHCBS-FFT MDFT Service Utilizer'!B12/'All Eligible'!B8 -> 0 | C12: ='IHCBS-FFT MDFT Service Utilizer'!C12/'All Eligible'!C8 -> 0 | D12: ='IHCBS-FFT MDFT Service Utilizer'!D12/'All Eligible'!D8 -> 0 | E12: ='IHCBS-FFT MDFT Service Utilizer'!E12/'All Eligible'!E8 -> 0 | F12: ='IHCBS-FFT MDFT Service Utilizer'!F12/'All Eligible'!F8 -> 0 | G12: ='IHCBS-FFT MDFT Service Utilizer'!G12/'All Eligible'!G8 -> 0 | H12: ='IHCBS-FFT MDFT Service Utilizer'!H12/'All Eligible'!H8 -> 0 | I12: ='IHCBS-FFT MDFT Service Utilizer'!I12/'All Eligible'!I8 -> 0 | J12: ='IHCBS-FFT MDFT Service Utilizer'!J12/'All Eligible'!J8 -> 0
A13: SFY2020-Q3 | B13: ='IHCBS-FFT MDFT Service Utilizer'!B13/'All Eligible'!B9 -> 4.852249e-05 | C13: ='IHCBS-FFT MDFT Service Utilizer'!C13/'All Eligible'!C9 -> 0 | D13: ='IHCBS-FFT MDFT Service Utilizer'!D13/'All Eligible'!D9 -> 0 | E13: ='IHCBS-FFT MDFT Service Utilizer'!E13/'All Eligible'!E9 -> 2.8443029e-05 | F13: ='IHCBS-FFT MDFT Service Utilizer'!F13/'All Eligible'!F9 -> 0 | G13: ='IHCBS-FFT MDFT Service Utilizer'!G13/'All Eligible'!G9 -> 0 | H13: ='IHCBS-FFT MDFT Service Utilizer'!H13/'All Eligible'!H9 -> 0 | I13: ='IHCBS-FFT MDFT Service Utilizer'!I13/'All Eligible'!I9 -> 0 | J13: ='IHCBS-FFT MDFT Service Utilizer'!J13/'All Eligible'!J9 -> 1.1233178e-05
A14: SFY2020-Q4 | B14: ='IHCBS-FFT MDFT Service Utilizer'!B14/'All Eligible'!B10 -> 0 | C14: ='IHCBS-FFT MDFT Service Utilizer'!C14/'All Eligible'!C10 -> 0 | D14: ='IHCBS-FFT MDFT Service Utilizer'!D14/'All Eligible'!D10 -> 0 | E14: ='IHCBS-FFT MDFT Service Utilizer'!E14/'All Eligible'!E10 -> 2.7786268e-05 | F14: ='IHCBS-FFT MDFT Service Utilizer'!F14/'All Eligible'!F10 -> 0 | G14: ='IHCBS-FFT MDFT Service Utilizer'!G14/'All Eligible'!G10 -> 0 | H14: ='IHCBS-FFT MDFT Service Utilizer'!H14/'All Eligible'!H10 -> 0 | I14: ='IHCBS-FFT MDFT Service Utilizer'!I14/'All Eligible'!I10 -> 0 | J14: ='IHCBS-FFT MDFT Service Utilizer'!J14/'All Eligible'!J10 -> 5.4957435e-06
A15: 2020 Distinct Utilizers
A16: SFY2021-Q1 | B16: ='IHCBS-FFT MDFT Service Utilizer'!B16/'All Eligible'!B12 -> 0 | C16: ='IHCBS-FFT MDFT Service Utilizer'!C16/'All Eligible'!C12 -> 0 | D16: ='IHCBS-FFT MDFT Service Utilizer'!D16/'All Eligible'!D12 -> 0 | E16: ='IHCBS-FFT MDFT Service Utilizer'!E16/'All Eligible'!E12 -> 0 | F16: ='IHCBS-FFT MDFT Service Utilizer'!F16/'All Eligible'!F12 -> 0 | G16: ='IHCBS-FFT MDFT Service Utilizer'!G16/'All Eligible'!G12 -> 0 | H16: ='IHCBS-FFT MDFT Service Utilizer'!H16/'All Eligible'!H12 -> 0 | I16: ='IHCBS-FFT MDFT Service Utilizer'!I16/'All Eligible'!I12 -> 0 | J16: ='IHCBS-FFT MDFT Service Utilizer'!J16/'All Eligible'!J12 -> 0
A17: SFY2021-Q2 | B17: ='IHCBS-FFT MDFT Service Utilizer'!B17/'All Eligible'!B13 -> 0 | C17: ='IHCBS-FFT MDFT Service Utilizer'!C17/'All Eligible'!C13 -> 0 | D17: ='IHCBS-FFT MDFT Service Utilizer'!D17/'All Eligible'!D13 -> 2.4704168e-05 | E17: ='IHCBS-FFT MDFT Service Utilizer'!E17/'All Eligible'!E13 -> 7.9565044e-05 | F17: ='IHCBS-FFT MDFT Service Utilizer'!F17/'All Eligible'!F13 -> 0 | G17: ='IHCBS-FFT MDFT Service Utilizer'!G17/'All Eligible'!G13 -> 0 | H17: ='IHCBS-FFT MDFT Service Utilizer'!H17/'All Eligible'!H13 -> 0 | I17: ='IHCBS-FFT MDFT Service Utilizer'!I17/'All Eligible'!I13 -> 0 | J17: ='IHCBS-FFT MDFT Service Utilizer'!J17/'All Eligible'!J13 -> 2.1051413e-05
A18: SFY2021-Q3 | B18: ='IHCBS-FFT MDFT Service Utilizer'!B18/'All Eligible'!B14 -> 0 | C18: ='IHCBS-FFT MDFT Service Utilizer'!C18/'All Eligible'!C14 -> 0 | D18: ='IHCBS-FFT MDFT Service Utilizer'!D18/'All Eligible'!D14 -> 2.4358162e-05 | E18: ='IHCBS-FFT MDFT Service Utilizer'!E18/'All Eligible'!E14 -> 0.00010459978 | F18: ='IHCBS-FFT MDFT Service Utilizer'!F18/'All Eligible'!F14 -> 0 | G18: ='IHCBS-FFT MDFT Service Utilizer'!G18/'All Eligible'!G14 -> 0 | H18: ='IHCBS-FFT MDFT Service Utilizer'!H18/'All Eligible'!H14 -> 0 | I18: ='IHCBS-FFT MDFT Service Utilizer'!I18/'All Eligible'!I14 -> 0 | J18: ='IHCBS-FFT MDFT Service Utilizer'!J18/'All Eligible'!J14 -> 2.5938588e-05
A19: SFY2021-Q4 | B19: ='IHCBS-FFT MDFT Service Utilizer'!B19/'All Eligible'!B15 -> 0 | C19: ='IHCBS-FFT MDFT Service Utilizer'!C19/'All Eligible'!C15 -> 0 | D19: ='IHCBS-FFT MDFT Service Utilizer'!D19/'All Eligible'!D15 -> 2.4057546e-05 | E19: ='IHCBS-FFT MDFT Service Utilizer'!E19/'All Eligible'!E15 -> 0.00018122977 | F19: ='IHCBS-FFT MDFT Service Utilizer'!F19/'All Eligible'!F15 -> 0 | G19: ='IHCBS-FFT MDFT Service Utilizer'!G19/'All Eligible'!G15 -> 0 | H19: ='IHCBS-FFT MDFT Service Utilizer'!H19/'All Eligible'!H15 -> 2.7412281e-05 | I19: ='IHCBS-FFT MDFT Service Utilizer'!I19/'All Eligible'!I15 -> 0 | J19: ='IHCBS-FFT MDFT Service Utilizer'!J19/'All Eligible'!J15 -> 4.6127589e-05
A20: 2021 Distinct Utilizers
A21: SFY2022-Q1 | B21: ='IHCBS-FFT MDFT Service Utilizer'!B21/'All Eligible'!B17 -> 0 | C21: ='IHCBS-FFT MDFT Service Utilizer'!C21/'All Eligible'!C17 -> 0 | D21: ='IHCBS-FFT MDFT Service Utilizer'!D21/'All Eligible'!D17 -> 2.3896005e-05 | E21: ='IHCBS-FFT MDFT Service Utilizer'!E21/'All Eligible'!E17 -> 0.00017950559 | F21: ='IHCBS-FFT MDFT Service Utilizer'!F21/'All Eligible'!F17 -> 0 | G21: ='IHCBS-FFT MDFT Service Utilizer'!G21/'All Eligible'!G17 -> 0.00019924288 | H21: ='IHCBS-FFT MDFT Service Utilizer'!H21/'All Eligible'!H17 -> 8.1021957e-05 | I21: ='IHCBS-FFT MDFT Service Utilizer'!I21/'All Eligible'!I17 -> 0 | J21: ='IHCBS-FFT MDFT Service Utilizer'!J21/'All Eligible'!J17 -> 7.1366308e-05
A22: SFY2022-Q2 | B22: ='IHCBS-FFT MDFT Service Utilizer'!B22/'All Eligible'!B18 -> 0 | C22: ='IHCBS-FFT MDFT Service Utilizer'!C22/'All Eligible'!C18 -> 0 | D22: ='IHCBS-FFT MDFT Service Utilizer'!D22/'All Eligible'!D18 -> 0 | E22: ='IHCBS-FFT MDFT Service Utilizer'!E22/'All Eligible'!E18 -> 0.00020279348 | F22: ='IHCBS-FFT MDFT Service Utilizer'!F22/'All Eligible'!F18 -> 0 | G22: ='IHCBS-FFT MDFT Service Utilizer'!G22/'All Eligible'!G18 -> 0.00065466448 | H22: ='IHCBS-FFT MDFT Service Utilizer'!H22/'All Eligible'!H18 -> 0.00013299995 | I22: ='IHCBS-FFT MDFT Service Utilizer'!I22/'All Eligible'!I18 -> 0 | J22: ='IHCBS-FFT MDFT Service Utilizer'!J22/'All Eligible'!J18 -> 0.00011674416
A23: SFY2022-Q3 | B23: ='IHCBS-FFT MDFT Service Utilizer'!B23/'All Eligible'!B19 -> 0 | C23: ='IHCBS-FFT MDFT Service Utilizer'!C23/'All Eligible'!C19 -> 0 | D23: ='IHCBS-FFT MDFT Service Utilizer'!D23/'All Eligible'!D19 -> 2.3429629e-05 | E23: ='IHCBS-FFT MDFT Service Utilizer'!E23/'All Eligible'!E19 -> 0.00020093434 | F23: ='IHCBS-FFT MDFT Service Utilizer'!F23/'All Eligible'!F19 -> 0 | G23: ='IHCBS-FFT MDFT Service Utilizer'!G23/'All Eligible'!G19 -> 0.0012278661 | H23: ='IHCBS-FFT MDFT Service Utilizer'!H23/'All Eligible'!H19 -> 0.00013142331 | I23: ='IHCBS-FFT MDFT Service Utilizer'!I23/'All Eligible'!I19 -> 0 | J23: ='IHCBS-FFT MDFT Service Utilizer'!J23/'All Eligible'!J19 -> 0.00016457868
A24: SFY2022-Q4 | B24: ='IHCBS-FFT MDFT Service Utilizer'!B24/'All Eligible'!B20 -> 0 | C24: ='IHCBS-FFT MDFT Service Utilizer'!C24/'All Eligible'!C20 -> 0 | D24: ='IHCBS-FFT MDFT Service Utilizer'!D24/'All Eligible'!D20 -> 9.3508194e-05 | E24: ='IHCBS-FFT MDFT Service Utilizer'!E24/'All Eligible'!E20 -> 0.00017475098 | F24: ='IHCBS-FFT MDFT Service Utilizer'!F24/'All Eligible'!F20 -> 0 | G24: ='IHCBS-FFT MDFT Service Utilizer'!G24/'All Eligible'!G20 -> 0.0012795905 | H24: ='IHCBS-FFT MDFT Service Utilizer'!H24/'All Eligible'!H20 -> 0.0001300052 | I24: ='IHCBS-FFT MDFT Service Utilizer'!I24/'All Eligible'!I20 -> 0 | J24: ='IHCBS-FFT MDFT Service Utilizer'!J24/'All Eligible'!J20 -> 0.00017956724
A25: 2022 Distinct Utilizers
A26: SFY2023-Q1 | B26: ='IHCBS-FFT MDFT Service Utilizer'!B26/'All Eligible'!B22 -> 0 | C26: ='IHCBS-FFT MDFT Service Utilizer'!C26/'All Eligible'!C22 -> 0 | D26: ='IHCBS-FFT MDFT Service Utilizer'!D26/'All Eligible'!D22 -> 9.2755774e-05 | E26: ='IHCBS-FFT MDFT Service Utilizer'!E26/'All Eligible'!E22 -> 0.00019743337 | F26: ='IHCBS-FFT MDFT Service Utilizer'!F26/'All Eligible'!F22 -> 3.5260931e-05 | G26: ='IHCBS-FFT MDFT Service Utilizer'!G26/'All Eligible'!G22 -> 0.0010116338 | H26: ='IHCBS-FFT MDFT Service Utilizer'!H26/'All Eligible'!H22 -> 0.00012821828 | I26: ='IHCBS-FFT MDFT Service Utilizer'!I26/'All Eligible'!I22 -> 0 | J26: ='IHCBS-FFT MDFT Service Utilizer'!J26/'All Eligible'!J22 -> 0.00016856801
A27: 2023 Distinct Utilizers

Sheet IHCBS All Service Utilizer
A1: Intensive Home/Community Based Services (IHCBS ALL)
A2: Table 1: IHCBS - Distinct service utilizers per Region/Quarter
A3: Description: This table displays distinct number of members between the ages of 0 to 17, by quarter who utilized the indicated service between 7/1/2018 to 9/30/2022. Note: Total distinct utilizer count represents an unduplicated (distinct) count of utilizers for the given state fiscal year across all quarters and/or regions combined. Data as of 11/07/2022. Includes Procedure codes ('H0036','H2033')
B4: Region 1 | C4: Region 2 | D4: Region 3 | E4: Region 4 | F4: Region 5 | G4: Region 6 | H4: Region 7 | I4: Region 9 / Out of State | J4: Total
A5: Service Date SFY-Qtr | B5: Distinct Utilizers | C5: Distinct Utilizers | D5: Distinct Utilizers | E5: Distinct Utilizers | F5: Distinct Utilizers | G5: Distinct Utilizers | H5: Distinct Utilizers | I5: Distinct Utilizers | J5: Distinct Utilizers
A6: SFY2019-Q1 | B6: 0 | C6: 0 | D6: 0 | E6: 0 | F6: 0 | G6: 0 | H6: 0 | I6: 0 | J6: 0
A7: SFY2019-Q2 | B7: 0 | C7: 0 | D7: 0 | E7: 0 | F7: 0 | G7: 0 | H7: 0 | I7: 0 | J7: 0
A8: SFY2019-Q3 | B8: 0 | C8: 0 | D8: 0 | E8: 0 | F8: 0 | G8: 0 | H8: 0 | I8: 0 | J8: 0
A9: SFY2019-Q4 | B9: 0 | C9: 0 | D9: 0 | E9: 0 | F9: 0 | G9: 0 | H9: 0 | I9: 0 | J9: 0
A10: 2019 Distinct Utilizers | B10: 0 | C10: 0 | D10: 0 | E10: 0 | F10: 0 | G10: 0 | H10: 0 | I10: 0 | J10: 0
A11: SFY2020-Q1 | B11: 0 | C11: 0 | D11: 0 | E11: 0 | F11: 0 | G11: 0 | H11: 0 | I11: 0 | J11: 0
A12: SFY2020-Q2 | B12: 0 | C12: 0 | D12: 0 | E12: 0 | F12: 0 | G12: 0 | H12: 0 | I12: 0 | J12: 0
A13: SFY2020-Q3 | B13: 1 | C13: 0 | D13: 0 | E13: 1 | F13: 0 | G13: 0 | H13: 0 | I13: 0 | J13: 2
A14: SFY2020-Q4 | B14: 0 | C14: 0 | D14: 0 | E14: 1 | F14: 0 | G14: 0 | H14: 0 | I14: 0 | J14: 1
A15: 2020 Distinct Utilizers | B15: 1 | C15: 0 | D15: 0 | E15: 1 | F15: 0 | G15: 0 | H15: 0 | I15: 0 | J15: 2
A16: SFY2021-Q1 | B16: 0 | C16: 0 | D16: 0 | E16: 0 | F16: 0 | G16: 0 | H16: 0 | I16: 0 | J16: 0
A17: SFY2021-Q2 | B17: 0 | C17: 0 | D17: 1 | E17: 3 | F17: 0 | G17: 0 | H17: 0 | I17: 0 | J17: 4
... A27: 2023 Distinct Utilizers | B27: 0 | C27: 0 | D27: 4 | E27: 8 | F27: 1 | G27: 16 | H27: 5 | I27: 0 | J27: 34

Sheet IHCBS All Member Utilizer
A1: Intensive Home/Community Based Services (IHCBS ALL)
A2: Table 1: IHCBS - Member Utilization per Region/Quarter
A3: Description: This table displays distinct number of members between the ages of 0 to 17, by quarter who utilized the indicated service between 7/1/2018 to 9/30/2022. Note: Total distinct utilizer count represents an unduplicated (distinct) count of utilizers for the given state fiscal year across all quarters and/or regions combined. Data as of 11/07/2022. Includes Procedure codes ('H0036','H2033')
B4: Region 1 | C4: Region 2 | D4: Region 3 | E4: Region 4 | F4: Region 5 | G4: Region 6 | H4: Region 7 | I4: Region 9 / Out of State | J4: Total
A5: Service Date SFY-Qtr | B5: Member Utilization | C5: Member Utilization | D5: Member Utilization | E5: Member Utilization | F5: Member Utilization | G5: Member Utilization | H5: Member Utilization | I5: Member Utilization | J5: Member Utilization
A6: SFY2019-Q1 | B6: ='IHCBS All Service Utilizer'!B6/'All Eligible'!B2 -> 0 | C6: ='IHCBS All Service Utilizer'!C6/'All Eligible'!C2 -> 0 | D6: ='IHCBS All Service Utilizer'!D6/'All Eligible'!D2 -> 0 | E6: ='IHCBS All Service Utilizer'!E6/'All Eligible'!E2 -> 0 | F6: ='IHCBS All Service Utilizer'!F6/'All Eligible'!F2 -> 0 | G6: ='IHCBS All Service Utilizer'!G6/'All Eligible'!G2 -> 0 | H6: ='IHCBS All Service Utilizer'!H6/'All Eligible'!H2 -> 0 | I6: ='IHCBS All Service Utilizer'!I6/'All Eligible'!I2 -> 0 | J6: ='IHCBS All Service Utilizer'!J6/'All Eligible'!J2 -> 0
A7: SFY2019-Q2 | B7: ='IHCBS All Service Utilizer'!B7/'All Eligible'!B3 -> 0 | C7: ='IHCBS All Service Utilizer'!C7/'All Eligible'!C3 -> 0 | D7: ='IHCBS All Service Utilizer'!D7/'All Eligible'!D3 -> 0 | E7: ='IHCBS All Service Utilizer'!E7/'All Eligible'!E3 -> 0 | F7: ='IHCBS All Service Utilizer'!F7/'All Eligible'!F3 -> 0 | G7: ='IHCBS All Service Utilizer'!G7/'All Eligible'!G3 -> 0 | H7: ='IHCBS All Service Utilizer'!H7/'All Eligible'!H3 -> 0 | I7: ='IHCBS All Service Utilizer'!I7/'All Eligible'!I3 -> 0 | J7: ='IHCBS All Service Utilizer'!J7/'All Eligible'!J3 -> 0
A8: SFY2019-Q3 | B8: ='IHCBS All Service Utilizer'!B8/'All Eligible'!B4 -> 0 | C8: ='IHCBS All Service Utilizer'!C8/'All Eligible'!C4 -> 0 | D8: ='IHCBS All Service Utilizer'!D8/'All Eligible'!D4 -> 0 | E8: ='IHCBS All Service Utilizer'!E8/'All Eligible'!E4 -> 0 | F8: ='IHCBS All Service Utilizer'!F8/'All Eligible'!F4 -> 0 | G8: ='IHCBS All Service Utilizer'!G8/'All Eligible'!G4 -> 0 | H8: ='IHCBS All Service Utilizer'!H8/'All Eligible'!H4 -> 0 | I8: ='IHCBS All Service Utilizer'!I8/'All Eligible'!I4 -> 0 | J8: ='IHCBS All Service Utilizer'!J8/'All Eligible'!J4 -> 0
A9: SFY2019-Q4 | B9: ='IHCBS All Service Utilizer'!B9/'All Eligible'!B5 -> 0 | C9: ='IHCBS All Service Utilizer'!C9/'All Eligible'!C5 -> 0 | D9: ='IHCBS All Service Utilizer'!D9/'All Eligible'!D5 -> 0 | E9: ='IHCBS All Service Utilizer'!E9/'All Eligible'!E5 -> 0 | F9: ='IHCBS All Service Utilizer'!F9/'All Eligible'!F5 -> 0 | G9: ='IHCBS All Service Utilizer'!G9/'All Eligible'!G5 -> 0 | H9: ='IHCBS All Service Utilizer'!H9/'All Eligible'!H5 -> 0 | I9: ='IHCBS All Service Utilizer'!I9/'All Eligible'!I5 -> 0 | J9: ='IHCBS All Service Utilizer'!J9/'All Eligible'!J5 -> 0
A10: 2019 Distinct Utilizers
A11: SFY2020-Q1 | B11: ='IHCBS All Service Utilizer'!B11/'All Eligible'!B7 -> 0 | C11: ='IHCBS All Service Utilizer'!C11/'All Eligible'!C7 -> 0 | D11: ='IHCBS All Service Utilizer'!D11/'All Eligible'!D7 -> 0 | E11: ='IHCBS All Service Utilizer'!E11/'All Eligible'!E7 -> 0 | F11: ='IHCBS All Service Utilizer'!F11/'All Eligible'!F7 -> 0 | G11: ='IHCBS All Service Utilizer'!G11/'All Eligible'!G7 -> 0 | H11: ='IHCBS All Service Utilizer'!H11/'All Eligible'!H7 -> 0 | I11: ='IHCBS All Service Utilizer'!I11/'All Eligible'!I7 -> 0 | J11: ='IHCBS All Service Utilizer'!J11/'All Eligible'!J7 -> 0
A12: SFY2020-Q2 | B12: ='IHCBS All Service Utilizer'!B12/'All Eligible'!B8 -> 0 | C12: ='IHCBS All Service Utilizer'!C12/'All Eligible'!C8 -> 0 | D12: ='IHCBS All Service Utilizer'!D12/'All Eligible'!D8 -> 0 | E12: ='IHCBS All Service Utilizer'!E12/'All Eligible'!E8 -> 0 | F12: ='IHCBS All Service Utilizer'!F12/'All Eligible'!F8 -> 0 | G12: ='IHCBS All Service Utilizer'!G12/'All Eligible'!G8 -> 0 | H12: ='IHCBS All Service Utilizer'!H12/'All Eligible'!H8 -> 0 | I12: ='IHCBS All Service Utilizer'!I12/'All Eligible'!I8 -> 0 | J12: ='IHCBS All Service Utilizer'!J12/'All Eligible'!J8 -> 0
A13: SFY2020-Q3 | B13: ='IHCBS All Service Utilizer'!B13/'All Eligible'!B9 -> 4.852249e-05 | C13: ='IHCBS All Service Utilizer'!C13/'All Eligible'!C9 -> 0 | D13: ='IHCBS All Service Utilizer'!D13/'All Eligible'!D9 -> 0 | E13: ='IHCBS All Service Utilizer'!E13/'All Eligible'!E9 -> 2.8443029e-05 | F13: ='IHCBS All Service Utilizer'!F13/'All Eligible'!F9 -> 0 | G13: ='IHCBS All Service Utilizer'!G13/'All Eligible'!G9 -> 0 | H13: ='IHCBS All Service Utilizer'!H13/'All Eligible'!H9 -> 0 | I13: ='IHCBS All Service Utilizer'!I13/'All Eligible'!I9 -> 0 | J13: ='IHCBS All Service Utilizer'!J13/'All Eligible'!J9 -> 1.1233178e-05
A14: SFY2020-Q4 | B14: ='IHCBS All Service Utilizer'!B14/'All Eligible'!B10 -> 0 | C14: ='IHCBS All Service Utilizer'!C14/'All Eligible'!C10 -> 0 | D14: ='IHCBS All Service Utilizer'!D14/'All Eligible'!D10 -> 0 | E14: ='IHCBS All Service Utilizer'!E14/'All Eligible'!E10 -> 2.7786268e-05 | F14: ='IHCBS All Service Utilizer'!F14/'All Eligible'!F10 -> 0 | G14: ='IHCBS All Service Utilizer'!G14/'All Eligible'!G10 -> 0 | H14: ='IHCBS All Service Utilizer'!H14/'All Eligible'!H10 -> 0 | I14: ='IHCBS All Service Utilizer'!I14/'All Eligible'!I10 -> 0 | J14: ='IHCBS All Service Utilizer'!J14/'All Eligible'!J10 -> 5.4957435e-06
A15: 2020 Distinct Utilizers
A16: SFY2021-Q1 | B16: ='IHCBS All Service Utilizer'!B16/'All Eligible'!B12 -> 0 | C16: ='IHCBS All Service Utilizer'!C16/'All Eligible'!C12 -> 0 | D16: ='IHCBS All Service Utilizer'!D16/'All Eligible'!D12 -> 0 | E16: ='IHCBS All Service Utilizer'!E16/'All Eligible'!E12 -> 0 | F16: ='IHCBS All Service Utilizer'!F16/'All Eligible'!F12 -> 0 | G16: ='IHCBS All Service Utilizer'!G16/'All Eligible'!G12 -> 0 | H16: ='IHCBS All Service Utilizer'!H16/'All Eligible'!H12 -> 0 | I16: ='IHCBS All Service Utilizer'!I16/'All Eligible'!I12 -> 0 | J16: ='IHCBS All Service Utilizer'!J16/'All Eligible'!J12 -> 0
A17: SFY2021-Q2 | B17: ='IHCBS All Service Utilizer'!B17/'All Eligible'!B13 -> 0 | C17: ='IHCBS All Service Utilizer'!C17/'All Eligible'!C13 -> 0 | D17: ='IHCBS All Service Utilizer'!D17/'All Eligible'!D13 -> 2.4704168e-05 | E17: ='IHCBS All Service Utilizer'!E17/'All Eligible'!E13 -> 7.9565044e-05 | F17: ='IHCBS All Service Utilizer'!F17/'All Eligible'!F13 -> 0 | G17: ='IHCBS All Service Utilizer'!G17/'All Eligible'!G13 -> 0 | H17: ='IHCBS All Service Utilizer'!H17/'All Eligible'!H13 -> 0 | I17: ='IHCBS All Service Utilizer'!I17/'All Eligible'!I13 -> 0 | J17: ='IHCBS All Service Utilizer'!J17/'All Eligible'!J13 -> 2.1051413e-05
