Workbook
Name HypDateTimeFormat: "mm/dd/yy HH:MM AM/PM"
Name HypIntgFormat: "###0"
Name HypRealFormat: "#,##0.#####"

Sheet Cover Sheet
A1: IDAHO BEHAVIORAL HEALTH PLAN
A2: Other-02 QMIA Quarterly Report: 2022-Q3 (07/01/2022 - 09/30/2022)
A4: REPORT COVER SHEET
A5: Report ID: | B5: OTHER-02
A6: Report Name: | B6: QMIA Report
A7: Report Frequency/Schedule | B7: Quarterly (Feb/May/Aug/Nov)
A8: Report Data Type: | B8: Confidential/Proprietary
A9: Report Owner/Contact: | B9: Sherry L. Johnson, Quality Manager
A10: Report Production Team: | B10: Optum Standard Reporting-Optum Idaho
A11: Data Source System(s): | B11: Cosmos via IR3029 EDW Data Mart and Facets
A12: Report Specifications Approval Date(s):
A13: Report Specifications Approver(s):
A15: IBHP Contract Citation(s):
A16: Contractual Performance Target(s): | B16: n/a
A17: Optum Internal Performance Target(s): | B17: n/a
A18: Assigned QAPI Oversight Committee: | B18: n/a
A20: Report Description: | B20: The purpose of this report is to show the number of enrolled IBHP youth Medicaid members, over time, for Idaho children's mental health systems-of-care stakeholders, so they can identify and address youth empowerment services performance issues at critical points in care, which will serve to improve outcomes for children, youth and families and reduce unnecessary and potentially serious variation in healthcare processes.
A21: Report Parameters/Filters:
A23: Report Period: | B23: Calendar Quarter: 2022-Q3(07/01/2022 to 09/30/2022 )
A24: Report Run Date: | B24: 44872
A25: Report Submission Date: | B25: 44875
A26: Report Summary: | B26: Section 5 Service Utilization: For each service identified, this report contains the distinct number of members between the ages of 0-17 who have utilized the service during the period covered by the report (July 2018 to September 2022). Of additional note is the potential impact of COVID-19 on utilization beginning in March 2020 (SFY20-Q3).
A27: Identified Barriers: | B27: No identified barriers at this time.
A28: Opportunities/Interventions: | B28: No additional interventions at this time.
A30: Trend Analysis
A31: This report is intended only for the use of the customer named herein and may contain information which is confidential, proprietary, or legally privileged. Any reproduction, dissemination, or distribution without the express written consent of Optum or its affiliates is prohibited.

Sheet BMC Service Utilizers
A1: Behavior Modification and Consultation
A2: *Please note: Formerly known as Adaptive Behavior Treatment Services
A3: Table 1: Behavior Modification and Consultation - Distinct service utilizers per Region/Quarter
A4: Description: This table displays distinct number of members between the ages of 0 to 17, by quarter who utilized the indicated service between 7/1/2018 to 9/30/2022. Note: Total distinct utilizer count represents an unduplicated (distinct) count of utilizers for the given state fiscal year across all quarters and/or regions combined. Data as of 11/07/2022. Includes Procedure codes ('97153', '0373T','97154','97155','97156','97157','97158')
B5: Region 1 | C5: Region 2 | D5: Region 3 | E5: Region 4 | F5: Region 5 | G5: Region 6 | H5: Region 7 | I5: Region 9 / Out of State | J5: Total
A6: Service Date SFY-Qtr | B6: Distinct Utilizers | C6: Distinct Utilizers | D6: Distinct Utilizers | E6: Distinct Utilizers | F6: Distinct Utilizers | G6: Distinct Utilizers | H6: Distinct Utilizers | I6: Distinct Utilizers | J6: Distinct Utilizers
A7: SFY2019-Q1 | B7: 0 | C7: 0 | D7: 0 | E7: 0 | F7: 0 | G7: 0 | H7: 0 | I7: 0 | J7: 0
A8: SFY2019-Q2 | B8: 0 | C8: 0 | D8: 0 | E8: 0 | F8: 0 | G8: 0 | H8: 0 | I8: 0 | J8: 0
A9: SFY2019-Q3 | B9: 0 | C9: 0 | D9: 0 | E9: 0 | F9: 0 | G9: 0 | H9: 0 | I9: 0 | J9: 0
A10: SFY2019-Q4 | B10: 0 | C10: 0 | D10: 0 | E10: 0 | F10: 0 | G10: 0 | H10: 0 | I10: 0 | J10: 0
A11: 2019 Distinct Utilizers | B11: 0 | C11: 0 | D11: 0 | E11: 0 | F11: 0 | G11: 0 | H11: 0 | I11: 0 | J11: 0
A12: SFY2020-Q1 | B12: 0 | C12: 0 | D12: 0 | E12: 0 | F12: 0 | G12: 0 | H12: 0 | I12: 0 | J12: 0
A13: SFY2020-Q2 | B13: 0 | C13: 0 | D13: 1 | E13: 2 | F13: 0 | G13: 0 | H13: 0 | I13: 0 | J13: 3
A14: SFY2020-Q3 | B14: 14 | C14: 0 | D14: 4 | E14: 4 | F14: 0 | G14: 0 | H14: 0 | I14: 0 | J14: 22
A15: SFY2020-Q4 | B15: 23 | C15: 0 | D15: 1 | E15: 4 | F15: 0 | G15: 0 | H15: 0 | I15: 0 | J15: 28
A16: 2020 Distinct Utilizers | B16: 25 | C16: 0 | D16: 4 | E16: 4 | F16: 0 | G16: 0 | H16: 0 | I16: 0 | J16: 33
A17: SFY2021-Q1 | B17: 26 | C17: 0 | D17: 0 | E17: 1 | F17: 0 | G17: 0 | H17: 0 | I17: 0 | J17: 27
A18: SFY2021-Q2 | B18: 25 | C18: 0 | D18: 0 | E18: 3 | F18: 0 | G18: 0 | H18: 0 | I18: 0 | J18: 28
... A28: 2023 Distinct Utilizers | B28: 60 | C28: 1 | D28: 25 | E28: 44 | F28: 1 | G28: 0 | H28: 0 | I28: 0 | J28: 130
F37: f 5

Sheet BMC Member Utilizers
A1: Behavior Modification and Consultation
A2: *Please note: Formerly known as Adaptive Behavior Treatment Services
A3: Table 1: Behavior Modification and Consultation - Member Utilization per Region/Quarter
A4: Description: This table displays distinct number of members between the ages of 0 to 17, by quarter who utilized the indicated service between 7/1/2018 to 9/30/2022. Note: Total distinct utilizer count represents an unduplicated (distinct) count of utilizers for the given state fiscal year across all quarters and/or regions combined. Data as of 11/07/2022. Includes Procedure codes ('97153', '0373T','97154','97155','97156','97157','97158')
B5: Region 1 | C5: Region 2 | D5: Region 3 | E5: Region 4 | F5: Region 5 | G5: Region 6 | H5: Region 7 | I5: Region 9 / Out of State | J5: Total
A6: Service Date SFY-Qtr | B6: Member Utilization | C6: Member Utilization | D6: Member Utilization | E6: Member Utilization | F6: Member Utilization | G6: Member Utilization | H6: Member Utilization | I6: Member Utilization | J6: Member Utilization
A7: SFY2019-Q1 | B7: ='BMC Service Utilizers'!B7/'All Eligible'!B2 -> 0 | C7: ='BMC Service Utilizers'!C7/'All Eligible'!C2 -> 0 | D7: ='BMC Service Utilizers'!D7/'All Eligible'!D2 -> 0 | E7: ='BMC Service Utilizers'!E7/'All Eligible'!E2 -> 0 | F7: ='BMC Service Utilizers'!F7/'All Eligible'!F2 -> 0 | G7: ='BMC Service Utilizers'!G7/'All Eligible'!G2 -> 0 | H7: ='BMC Service Utilizers'!H7/'All Eligible'!H2 -> 0 | I7: ='BMC Service Utilizers'!I7/'All Eligible'!I2 -> 0 | J7: ='BMC Service Utilizers'!J7/'All Eligible'!J2 -> 0
A8: SFY2019-Q2 | B8: ='BMC Service Utilizers'!B8/'All Eligible'!B3 -> 0 | C8: ='BMC Service Utilizers'!C8/'All Eligible'!C3 -> 0 | D8: ='BMC Service Utilizers'!D8/'All Eligible'!D3 -> 0 | E8: ='BMC Service Utilizers'!E8/'All Eligible'!E3 -> 0 | F8: ='BMC Service Utilizers'!F8/'All Eligible'!F3 -> 0 | G8: ='BMC Service Utilizers'!G8/'All Eligible'!G3 -> 0 | H8: ='BMC Service Utilizers'!H8/'All Eligible'!H3 -> 0 | I8: ='BMC Service Utilizers'!I8/'All Eligible'!I3 -> 0 | J8: ='BMC Service Utilizers'!J8/'All Eligible'!J3 -> 0
A9: SFY2019-Q3 | B9: ='BMC Service Utilizers'!B9/'All Eligible'!B4 -> 0 | C9: ='BMC Service Utilizers'!C9/'All Eligible'!C4 -> 0 | D9: ='BMC Service Utilizers'!D9/'All Eligible'!D4 -> 0 | E9: ='BMC Service Utilizers'!E9/'All Eligible'!E4 -> 0 | F9: ='BMC Service Utilizers'!F9/'All Eligible'!F4 -> 0 | G9: ='BMC Service Utilizers'!G9/'All Eligible'!G4 -> 0 | H9: ='BMC Service Utilizers'!H9/'All Eligible'!H4 -> 0 | I9: ='BMC Service Utilizers'!I9/'All Eligible'!I4 -> 0 | J9: ='BMC Service Utilizers'!J9/'All Eligible'!J4 -> 0
A10: SFY2019-Q4 | B10: ='BMC Service Utilizers'!B10/'All Eligible'!B5 -> 0 | C10: ='BMC Service Utilizers'!C10/'All Eligible'!C5 -> 0 | D10: ='BMC Service Utilizers'!D10/'All Eligible'!D5 -> 0 | E10: ='BMC Service Utilizers'!E10/'All Eligible'!E5 -> 0 | F10: ='BMC Service Utilizers'!F10/'All Eligible'!F5 -> 0 | G10: ='BMC Service Utilizers'!G10/'All Eligible'!G5 -> 0 | H10: ='BMC Service Utilizers'!H10/'All Eligible'!H5 -> 0 | I10: ='BMC Service Utilizers'!I10/'All Eligible'!I5 -> 0 | J10: ='BMC Service Utilizers'!J10/'All Eligible'!J5 -> 0
A11: 2019 Distinct Utilizers
A12: SFY2020-Q1 | B12: ='BMC Service Utilizers'!B12/'All Eligible'!B7 -> 0 | C12: ='BMC Service Utilizers'!C12/'All Eligible'!C7 -> 0 | D12: ='BMC Service Utilizers'!D12/'All Eligible'!D7 -> 0 | E12: ='BMC Service Utilizers'!E12/'All Eligible'!E7 -> 0 | F12: ='BMC Service Utilizers'!F12/'All Eligible'!F7 -> 0 | G12: ='BMC Service Utilizers'!G12/'All Eligible'!G7 -> 0 | H12: ='BMC Service Utilizers'!H12/'All Eligible'!H7 -> 0 | I12: ='BMC Service Utilizers'!I12/'All Eligible'!I7 -> 0 | J12: ='BMC Service Utilizers'!J12/'All Eligible'!J7 -> 0
A13: SFY2020-Q2 | B13: ='BMC Service Utilizers'!B13/'All Eligible'!B8 -> 0 | C13: ='BMC Service Utilizers'!C13/'All Eligible'!C8 -> 0 | D13: ='BMC Service Utilizers'!D13/'All Eligible'!D8 -> 2.4628722e-05 | E13: ='BMC Service Utilizers'!E13/'All Eligible'!E8 -> 5.3236797e-05 | F13: ='BMC Service Utilizers'!F13/'All Eligible'!F8 -> 0 | G13: ='BMC Service Utilizers'!G13/'All Eligible'!G8 -> 0 | H13: ='BMC Service Utilizers'!H13/'All Eligible'!H8 -> 0 | I13: ='BMC Service Utilizers'!I13/'All Eligible'!I8 -> 0 | J13: ='BMC Service Utilizers'!J13/'All Eligible'!J8 -> 1.5785237e-05
A14: SFY2020-Q3 | B14: ='BMC Service Utilizers'!B14/'All Eligible'!B9 -> 0.00067931486 | C14: ='BMC Service Utilizers'!C14/'All Eligible'!C9 -> 0 | D14: ='BMC Service Utilizers'!D14/'All Eligible'!D9 -> 0.00010566636 | E14: ='BMC Service Utilizers'!E14/'All Eligible'!E9 -> 0.00011377211 | F14: ='BMC Service Utilizers'!F14/'All Eligible'!F9 -> 0 | G14: ='BMC Service Utilizers'!G14/'All Eligible'!G9 -> 0 | H14: ='BMC Service Utilizers'!H14/'All Eligible'!H9 -> 0 | I14: ='BMC Service Utilizers'!I14/'All Eligible'!I9 -> 0 | J14: ='BMC Service Utilizers'!J14/'All Eligible'!J9 -> 0.00012356496
A15: SFY2020-Q4 | B15: ='BMC Service Utilizers'!B15/'All Eligible'!B10 -> 0.0010860327 | C15: ='BMC Service Utilizers'!C15/'All Eligible'!C10 -> 0 | D15: ='BMC Service Utilizers'!D15/'All Eligible'!D10 -> 2.5825112e-05 | E15: ='BMC Service Utilizers'!E15/'All Eligible'!E10 -> 0.00011114507 | F15: ='BMC Service Utilizers'!F15/'All Eligible'!F10 -> 0 | G15: ='BMC Service Utilizers'!G15/'All Eligible'!G10 -> 0 | H15: ='BMC Service Utilizers'!H15/'All Eligible'!H10 -> 0 | I15: ='BMC Service Utilizers'!I15/'All Eligible'!I10 -> 0 | J15: ='BMC Service Utilizers'!J15/'All Eligible'!J10 -> 0.00015388082
A16: 2020 Distinct Utilizers
A17: SFY2021-Q1 | B17: ='BMC Service Utilizers'!B17/'All Eligible'!B12 -> 0.0011932627 | C17: ='BMC Service Utilizers'!C17/'All Eligible'!C12 -> 0 | D17: ='BMC Service Utilizers'!D17/'All Eligible'!D12 -> 0 | E17: ='BMC Service Utilizers'!E17/'All Eligible'!E12 -> 2.711938e-05 | F17: ='BMC Service Utilizers'!F17/'All Eligible'!F12 -> 0 | G17: ='BMC Service Utilizers'!G17/'All Eligible'!G12 -> 0 | H17: ='BMC Service Utilizers'!H17/'All Eligible'!H12 -> 0 | I17: ='BMC Service Utilizers'!I17/'All Eligible'!I12 -> 0 | J17: ='BMC Service Utilizers'!J17/'All Eligible'!J12 -> 0.00014471004
A18: SFY2021-Q2 | B18: ='BMC Service Utilizers'!B18/'All Eligible'!B13 -> 0.001118168 | C18: ='BMC Service Utilizers'!C18/'All Eligible'!C13 -> 0 | D18: ='BMC Service Utilizers'!D18/'All Eligible'!D13 -> 0 | E18: ='BMC Service Utilizers'!E18/'All Eligible'!E13 -> 7.9565044e-05 | F18: ='BMC Service Utilizers'!F18/'All Eligible'!F13 -> 0 | G18: ='BMC Service Utilizers'!G18/'All Eligible'!G13 -> 0 | H18: ='BMC Service Utilizers'!H18/'All Eligible'!H13 -> 0 | I18: ='BMC Service Utilizers'!I18/'All Eligible'!I13 -> 0 | J18: ='BMC Service Utilizers'!J18/'All Eligible'!J13 -> 0.00014735989
A19: SFY2021-Q3 | B19: ='BMC Service Utilizers'!B19/'All Eligible'!B14 -> 0.0014038782 | C19: ='BMC Service Utilizers'!C19/'All Eligible'!C14 -> 0 | D19: ='BMC Service Utilizers'!D19/'All Eligible'!D14 -> 2.4358162e-05 | E19: ='BMC Service Utilizers'!E19/'All Eligible'!E14 -> 0.00031379933 | F19: ='BMC Service Utilizers'!F19/'All Eligible'!F14 -> 0 | G19: ='BMC Service Utilizers'!G19/'All Eligible'!G14 -> 0 | H19: ='BMC Service Utilizers'!H19/'All Eligible'!H14 -> 0 | I19: ='BMC Service Utilizers'!I19/'All Eligible'!I14 -> 0 | J19: ='BMC Service Utilizers'!J19/'All Eligible'!J14 -> 0.00023344729
A20: SFY2021-Q4 | B20: ='BMC Service Utilizers'!B20/'All Eligible'!B15 -> 0.0015985483 | C20: ='BMC Service Utilizers'!C20/'All Eligible'!C15 -> 0 | D20: ='BMC Service Utilizers'!D20/'All Eligible'!D15 -> 7.2172637e-05 | E20: ='BMC Service Utilizers'!E20/'All Eligible'!E15 -> 0.00064724919 | F20: ='BMC Service Utilizers'!F20/'All Eligible'!F15 -> 0 | G20: ='BMC Service Utilizers'!G20/'All Eligible'!G15 -> 0 | H20: ='BMC Service Utilizers'!H20/'All Eligible'!H15 -> 0 | I20: ='BMC Service Utilizers'!I20/'All Eligible'!I15 -> 0.00018903592 | J20: ='BMC Service Utilizers'!J20/'All Eligible'!J15 -> 0.0003331437
A21: 2021 Distinct Utilizers
A22: SFY2022-Q1 | B22: ='BMC Service Utilizers'!B22/'All Eligible'!B17 -> 0.0015043411 | C22: ='BMC Service Utilizers'!C22/'All Eligible'!C17 -> 0 | D22: ='BMC Service Utilizers'!D22/'All Eligible'!D17 -> 0.00014337603 | E22: ='BMC Service Utilizers'!E22/'All Eligible'!E17 -> 0.00061544774 | F22: ='BMC Service Utilizers'!F22/'All Eligible'!F17 -> 0 | G22: ='BMC Service Utilizers'!G22/'All Eligible'!G17 -> 0 | H22: ='BMC Service Utilizers'!H22/'All Eligible'!H17 -> 0 | I22: ='BMC Service Utilizers'!I22/'All Eligible'!I17 -> 0 | J22: ='BMC Service Utilizers'!J22/'All Eligible'!J17 -> 0.00032624598
A23: SFY2022-Q2 | B23: ='BMC Service Utilizers'!B23/'All Eligible'!B18 -> 0.001391407 | C23: ='BMC Service Utilizers'!C23/'All Eligible'!C18 -> 0 | D23: ='BMC Service Utilizers'!D23/'All Eligible'!D18 -> 0.00016608143 | E23: ='BMC Service Utilizers'!E23/'All Eligible'!E18 -> 0.00058303126 | F23: ='BMC Service Utilizers'!F23/'All Eligible'!F18 -> 0 | G23: ='BMC Service Utilizers'!G23/'All Eligible'!G18 -> 0 | H23: ='BMC Service Utilizers'!H23/'All Eligible'!H18 -> 0 | I23: ='BMC Service Utilizers'!I23/'All Eligible'!I18 -> 0 | J23: ='BMC Service Utilizers'!J23/'All Eligible'!J18 -> 0.00031470164
A24: SFY2022-Q3 | B24: ='BMC Service Utilizers'!B24/'All Eligible'!B19 -> 0.0014222371 | C24: ='BMC Service Utilizers'!C24/'All Eligible'!C19 -> 0 | D24: ='BMC Service Utilizers'!D24/'All Eligible'!D19 -> 0.00028115555 | E24: ='BMC Service Utilizers'!E24/'All Eligible'!E19 -> 0.00097955493 | F24: ='BMC Service Utilizers'!F24/'All Eligible'!F19 -> 0 | G24: ='BMC Service Utilizers'!G24/'All Eligible'!G19 -> 0 | H24: ='BMC Service Utilizers'!H24/'All Eligible'!H19 -> 0 | I24: ='BMC Service Utilizers'!I24/'All Eligible'!I19 -> 0 | J24: ='BMC Service Utilizers'!J24/'All Eligible'!J19 -> 0.00042391478
A25: SFY2022-Q4 | B25: ='BMC Service Utilizers'!B25/'All Eligible'!B20 -> 0.002256959 | C25: ='BMC Service Utilizers'!C25/'All Eligible'!C20 -> 0.00011976048 | D25: ='BMC Service Utilizers'!D25/'All Eligible'!D20 -> 0.00037403277 | E25: ='BMC Service Utilizers'!E25/'All Eligible'!E20 -> 0.0011483636 | F25: ='BMC Service Utilizers'!F25/'All Eligible'!F20 -> 0 | G25: ='BMC Service Utilizers'!G25/'All Eligible'!G20 -> 0 | H25: ='BMC Service Utilizers'!H25/'All Eligible'!H20 -> 0 | I25: ='BMC Service Utilizers'!I25/'All Eligible'!I20 -> 0 | J25: ='BMC Service Utilizers'!J25/'All Eligible'!J20 -> 0.00057860556
A26: 2022 Distinct Utilizers
A27: SFY2023-Q1 | B27: ='BMC Service Utilizers'!B27/'All Eligible'!B22 -> 0.0024747371 | C27: ='BMC Service Utilizers'!C27/'All Eligible'!C22 -> 0.00011741223 | D27: ='BMC Service Utilizers'!D27/'All Eligible'!D22 -> 0.00057972359 | E27: ='BMC Service Utilizers'!E27/'All Eligible'!E22 -> 0.0010858835 | F27: ='BMC Service Utilizers'!F27/'All Eligible'!F22 -> 3.5260931e-05 | G27: ='BMC Service Utilizers'!G27/'All Eligible'!G22 -> 0 | H27: ='BMC Service Utilizers'!H27/'All Eligible'!H22 -> 0 | I27: ='BMC Service Utilizers'!I27/'All Eligible'!I22 -> 0 | J27: ='BMC Service Utilizers'!J27/'All Eligible'!J22 -> 0.00064452476
A28: 2023 Distinct Utilizers
F37: f 5

Sheet BMCA Service Utilizer
A1: Behavior Modification and Consultation Assessment
A2: *Please note: Formerly known as Behavior Identification Assessment
A3: Table 1: Behavior Modification and Consultation Assessment - Distinct service utilizers per Region/Quarter
A4: Description: This table displays distinct number of members between the ages of 0 to 17, by quarter who utilized the indicated service between 7/1/2018 to 9/30/2022. Note: Total distinct utilizer count represents an unduplicated (distinct) count of utilizers for the given state fiscal year across all quarters and/or regions combined. Data as of 11/07/2022. Includes Procedure Codes ('97151','97152','0362T')
B5: Region 1 | C5: Region 2 | D5: Region 3 | E5: Region 4 | F5: Region 5 | G5: Region 6 | H5: Region 7 | I5: Region 9 / Out of State | J5: Total
A6: Service Date SFY-Qtr | B6: Distinct Utilizers | C6: Distinct Utilizers | D6: Distinct Utilizers | E6: Distinct Utilizers | F6: Distinct Utilizers | G6: Distinct Utilizers | H6: Distinct Utilizers | I6: Distinct Utilizers | J6: Distinct Utilizers
A7: SFY2019-Q1 | B7: 0 | C7: 0 | D7: 0 | E7: 0 | F7: 0 | G7: 0 | H7: 0 | I7: 0 | J7: 0
A8: SFY2019-Q2 | B8: 0 | C8: 0 | D8: 0 | E8: 0 | F8: 0 | G8: 0 | H8: 0 | I8: 0 | J8: 0
A9: SFY2019-Q3 | B9: 0 | C9: 0 | D9: 0 | E9: 0 | F9: 0 | G9: 0 | H9: 0 | I9: 0 | J9: 0
A10: SFY2019-Q4 | B10: 0 | C10: 0 | D10: 0 | E10: 0 | F10: 0 | G10: 0 | H10: 0 | I10: 0 | J10: 0
A11: 2019 Distinct Utilizers | B11: 0 | C11: 0 | D11: 0 | E11: 0 | F11: 0 | G11: 0 | H11: 0 | I11: 0 | J11: 0
A12: SFY2020-Q1 | B12: 0 | C12: 0 | D12: 2 | E12: 1 | F12: 0 | G12: 0 | H12: 0 | I12: 0 | J12: 3
A13: SFY2020-Q2 | B13: 3 | C13: 0 | D13: 1 | E13: 4 | F13: 1 | G13: 0 | H13: 0 | I13: 0 | J13: 9
A14: SFY2020-Q3 | B14: 11 | C14: 0 | D14: 3 | E14: 5 | F14: 0 | G14: 0 | H14: 0 | I14: 0 | J14: 19
A15: SFY2020-Q4 | B15: 12 | C15: 0 | D15: 0 | E15: 2 | F15: 0 | G15: 0 | H15: 7 | I15: 0 | J15: 21
A16: 2020 Distinct Utilizers | B16: 23 | C16: 0 | D16: 4 | E16: 9 | F16: 1 | G16: 0 | H16: 7 | I16: 0 | J16: 44
A17: SFY2021-Q1 | B17: 10 | C17: 0 | D17: 4 | E17: 2 | F17: 0 | G17: 0 | H17: 4 | I17: 0 | J17: 20
A18: SFY2021-Q2 | B18: 14 | C18: 0 | D18: 2 | E18: 1 | F18: 0 | G18: 0 | H18: 0 | I18: 0 | J18: 17
... A28: 2023 Distinct Utilizers | B28: 40 | C28: 0 | D28: 16 | E28: 46 | F28: 0 | G28: 0 | H28: 0 | I28: 0 | J28: 102

Sheet BMCA Member Utilizer
A1: Behavior Modification and Consultation Assessment
A2: *Please note: Formerly known as Behavior Identification Assessment
A3: Table 1: Behavior Modification and Consultation Assessment - Member Utilization per Region/Quarter
A4: Description: This table displays distinct number of members between the ages of 0 to 17, by quarter who utilized the indicated service between 7/1/2018 to 9/30/2022. Note: Total distinct utilizer count represents an unduplicated (distinct) count of utilizers for the given state fiscal year across all quarters and/or regions combined. Data as of 11/07/2022. Includes Procedure Codes ('97151','97152','0362T')
B5: Region 1 | C5: Region 2 | D5: Region 3 | E5: Region 4 | F5: Region 5 | G5: Region 6 | H5: Region 7 | I5: Region 9 / Out of State | J5: Total
A6: Service Date SFY-Qtr | B6: Member Utilization | C6: Member Utilization | D6: Member Utilization | E6: Member Utilization | F6: Member Utilization | G6: Member Utilization | H6: Member Utilization | I6: Member Utilization | J6: Member Utilization
A7: SFY2019-Q1 | B7: ='BMCA Service Utilizer'!B7/'All Eligible'!B2 -> 0 | C7: ='BMCA Service Utilizer'!C7/'All Eligible'!C2 -> 0 | D7: ='BMCA Service Utilizer'!D7/'All Eligible'!D2 -> 0 | E7: ='BMCA Service Utilizer'!E7/'All Eligible'!E2 -> 0 | F7: ='BMCA Service Utilizer'!F7/'All Eligible'!F2 -> 0 | G7: ='BMCA Service Utilizer'!G7/'All Eligible'!G2 -> 0 | H7: ='BMCA Service Utilizer'!H7/'All Eligible'!H2 -> 0 | I7: ='BMCA Service Utilizer'!I7/'All Eligible'!I2 -> 0 | J7: ='BMCA Service Utilizer'!J7/'All Eligible'!J2 -> 0
A8: SFY2019-Q2 | B8: ='BMCA Service Utilizer'!B8/'All Eligible'!B3 -> 0 | C8: ='BMCA Service Utilizer'!C8/'All Eligible'!C3 -> 0 | D8: ='BMCA Service Utilizer'!D8/'All Eligible'!D3 -> 0 | E8: ='BMCA Service Utilizer'!E8/'All Eligible'!E3 -> 0 | F8: ='BMCA Service Utilizer'!F8/'All Eligible'!F3 -> 0 | G8: ='BMCA Service Utilizer'!G8/'All Eligible'!G3 -> 0 | H8: ='BMCA Service Utilizer'!H8/'All Eligible'!H3 -> 0 | I8: ='BMCA Service Utilizer'!I8/'All Eligible'!I3 -> 0 | J8: ='BMCA Service Utilizer'!J8/'All Eligible'!J3 -> 0
A9: SFY2019-Q3 | B9: ='BMCA Service Utilizer'!B9/'All Eligible'!B4 -> 0 | C9: ='BMCA Service Utilizer'!C9/'All Eligible'!C4 -> 0 | D9: ='BMCA Service Utilizer'!D9/'All Eligible'!D4 -> 0 | E9: ='BMCA Service Utilizer'!E9/'All Eligible'!E4 -> 0 | F9: ='BMCA Service Utilizer'!F9/'All Eligible'!F4 -> 0 | G9: ='BMCA Service Utilizer'!G9/'All Eligible'!G4 -> 0 | H9: ='BMCA Service Utilizer'!H9/'All Eligible'!H4 -> 0 | I9: ='BMCA Service Utilizer'!I9/'All Eligible'!I4 -> 0 | J9: ='BMCA Service Utilizer'!J9/'All Eligible'!J4 -> 0
A10: SFY2019-Q4 | B10: ='BMCA Service Utilizer'!B10/'All Eligible'!B5 -> 0 | C10: ='BMCA Service Utilizer'!C10/'All Eligible'!C5 -> 0 | D10: ='BMCA Service Utilizer'!D10/'All Eligible'!D5 -> 0 | E10: ='BMCA Service Utilizer'!E10/'All Eligible'!E5 -> 0 | F10: ='BMCA Service Utilizer'!F10/'All Eligible'!F5 -> 0 | G10: ='BMCA Service Utilizer'!G10/'All Eligible'!G5 -> 0 | H10: ='BMCA Service Utilizer'!H10/'All Eligible'!H5 -> 0 | I10: ='BMCA Service Utilizer'!I10/'All Eligible'!I5 -> 0 | J10: ='BMCA Service Utilizer'!J10/'All Eligible'!J5 -> 0
A11: 2019 Distinct Utilizers
A12: SFY2020-Q1 | B12: ='BMCA Service Utilizer'!B12/'All Eligible'!B7 -> 0 | C12: ='BMCA Service Utilizer'!C12/'All Eligible'!C7 -> 0 | D12: ='BMCA Service Utilizer'!D12/'All Eligible'!D7 -> 4.8812633e-05 | E12: ='BMCA Service Utilizer'!E12/'All Eligible'!E7 -> 2.6224005e-05 | F12: ='BMCA Service Utilizer'!F12/'All Eligible'!F7 -> 0 | G12: ='BMCA Service Utilizer'!G12/'All Eligible'!G7 -> 0 | H12: ='BMCA Service Utilizer'!H12/'All Eligible'!H7 -> 0 | I12: ='BMCA Service Utilizer'!I12/'All Eligible'!I7 -> 0 | J12: ='BMCA Service Utilizer'!J12/'All Eligible'!J7 -> 1.5592759e-05
A13: SFY2020-Q2 | B13: ='BMCA Service Utilizer'!B13/'All Eligible'!B8 -> 0.00013613468 | C13: ='BMCA Service Utilizer'!C13/'All Eligible'!C8 -> 0 | D13: ='BMCA Service Utilizer'!D13/'All Eligible'!D8 -> 2.4628722e-05 | E13: ='BMCA Service Utilizer'!E13/'All Eligible'!E8 -> 0.00010647359 | F13: ='BMCA Service Utilizer'!F13/'All Eligible'!F8 -> 3.7995365e-05 | G13: ='BMCA Service Utilizer'!G13/'All Eligible'!G8 -> 0 | H13: ='BMCA Service Utilizer'!H13/'All Eligible'!H8 -> 0 | I13: ='BMCA Service Utilizer'!I13/'All Eligible'!I8 -> 0 | J13: ='BMCA Service Utilizer'!J13/'All Eligible'!J8 -> 4.735571e-05
A14: SFY2020-Q3 | B14: ='BMCA Service Utilizer'!B14/'All Eligible'!B9 -> 0.00053374739 | C14: ='BMCA Service Utilizer'!C14/'All Eligible'!C9 -> 0 | D14: ='BMCA Service Utilizer'!D14/'All Eligible'!D9 -> 7.9249769e-05 | E14: ='BMCA Service Utilizer'!E14/'All Eligible'!E9 -> 0.00014221514 | F14: ='BMCA Service Utilizer'!F14/'All Eligible'!F9 -> 0 | G14: ='BMCA Service Utilizer'!G14/'All Eligible'!G9 -> 0 | H14: ='BMCA Service Utilizer'!H14/'All Eligible'!H9 -> 0 | I14: ='BMCA Service Utilizer'!I14/'All Eligible'!I9 -> 0 | J14: ='BMCA Service Utilizer'!J14/'All Eligible'!J9 -> 0.00010671519
A15: SFY2020-Q4 | B15: ='BMCA Service Utilizer'!B15/'All Eligible'!B10 -> 0.00056662574 | C15: ='BMCA Service Utilizer'!C15/'All Eligible'!C10 -> 0 | D15: ='BMCA Service Utilizer'!D15/'All Eligible'!D10 -> 0 | E15: ='BMCA Service Utilizer'!E15/'All Eligible'!E10 -> 5.5572536e-05 | F15: ='BMCA Service Utilizer'!F15/'All Eligible'!F10 -> 0 | G15: ='BMCA Service Utilizer'!G15/'All Eligible'!G10 -> 0 | H15: ='BMCA Service Utilizer'!H15/'All Eligible'!H10 -> 0.00020956829 | I15: ='BMCA Service Utilizer'!I15/'All Eligible'!I10 -> 0 | J15: ='BMCA Service Utilizer'!J15/'All Eligible'!J10 -> 0.00011541061
A16: 2020 Distinct Utilizers
A17: SFY2021-Q1 | B17: ='BMCA Service Utilizer'!B17/'All Eligible'!B12 -> 0.00045894718 | C17: ='BMCA Service Utilizer'!C17/'All Eligible'!C12 -> 0 | D17: ='BMCA Service Utilizer'!D17/'All Eligible'!D12 -> 0.00010094382 | E17: ='BMCA Service Utilizer'!E17/'All Eligible'!E12 -> 5.4238759e-05 | F17: ='BMCA Service Utilizer'!F17/'All Eligible'!F12 -> 0 | G17: ='BMCA Service Utilizer'!G17/'All Eligible'!G12 -> 0 | H17: ='BMCA Service Utilizer'!H17/'All Eligible'!H12 -> 0.00011618113 | I17: ='BMCA Service Utilizer'!I17/'All Eligible'!I12 -> 0 | J17: ='BMCA Service Utilizer'!J17/'All Eligible'!J12 -> 0.00010719263
A18: SFY2021-Q2 | B18: ='BMCA Service Utilizer'!B18/'All Eligible'!B13 -> 0.00062617408 | C18: ='BMCA Service Utilizer'!C18/'All Eligible'!C13 -> 0 | D18: ='BMCA Service Utilizer'!D18/'All Eligible'!D13 -> 4.9408335e-05 | E18: ='BMCA Service Utilizer'!E18/'All Eligible'!E13 -> 2.6521681e-05 | F18: ='BMCA Service Utilizer'!F18/'All Eligible'!F13 -> 0 | G18: ='BMCA Service Utilizer'!G18/'All Eligible'!G13 -> 0 | H18: ='BMCA Service Utilizer'!H18/'All Eligible'!H13 -> 0 | I18: ='BMCA Service Utilizer'!I18/'All Eligible'!I13 -> 0 | J18: ='BMCA Service Utilizer'!J18/'All Eligible'!J13 -> 8.9468504e-05
A19: SFY2021-Q3 | B19: ='BMCA Service Utilizer'!B19/'All Eligible'!B14 -> 0.00092129508 | C19: ='BMCA Service Utilizer'!C19/'All Eligible'!C14 -> 0 | D19: ='BMCA Service Utilizer'!D19/'All Eligible'!D14 -> 4.8716325e-05 | E19: ='BMCA Service Utilizer'!E19/'All Eligible'!E14 -> 0.00031379933 | F19: ='BMCA Service Utilizer'!F19/'All Eligible'!F14 -> 0 | G19: ='BMCA Service Utilizer'!G19/'All Eligible'!G14 -> 0 | H19: ='BMCA Service Utilizer'!H19/'All Eligible'!H14 -> 0 | I19: ='BMCA Service Utilizer'!I19/'All Eligible'!I14 -> 0 | J19: ='BMCA Service Utilizer'!J19/'All Eligible'!J14 -> 0.00018157011
A20: SFY2021-Q4 | B20: ='BMCA Service Utilizer'!B20/'All Eligible'!B15 -> 0.0010801002 | C20: ='BMCA Service Utilizer'!C20/'All Eligible'!C15 -> 0 | D20: ='BMCA Service Utilizer'!D20/'All Eligible'!D15 -> 2.4057546e-05 | E20: ='BMCA Service Utilizer'!E20/'All Eligible'!E15 -> 0.00046601942 | F20: ='BMCA Service Utilizer'!F20/'All Eligible'!F15 -> 0 | G20: ='BMCA Service Utilizer'!G20/'All Eligible'!G15 -> 0 | H20: ='BMCA Service Utilizer'!H20/'All Eligible'!H15 -> 0 | I20: ='BMCA Service Utilizer'!I20/'All Eligible'!I15 -> 0 | J20: ='BMCA Service Utilizer'!J20/'All Eligible'!J15 -> 0.00022551266
A21: 2021 Distinct Utilizers
A22: SFY2022-Q1 | B22: ='BMCA Service Utilizer'!B22/'All Eligible'!B17 -> 0.00085962348 | C22: ='BMCA Service Utilizer'!C22/'All Eligible'!C17 -> 0 | D22: ='BMCA Service Utilizer'!D22/'All Eligible'!D17 -> 0.00011948002 | E22: ='BMCA Service Utilizer'!E22/'All Eligible'!E17 -> 0.00069237871 | F22: ='BMCA Service Utilizer'!F22/'All Eligible'!F17 -> 0 | G22: ='BMCA Service Utilizer'!G22/'All Eligible'!G17 -> 0 | H22: ='BMCA Service Utilizer'!H22/'All Eligible'!H17 -> 0 | I22: ='BMCA Service Utilizer'!I22/'All Eligible'!I17 -> 0 | J22: ='BMCA Service Utilizer'!J22/'All Eligible'!J17 -> 0.00026507486
A23: SFY2022-Q2 | B23: ='BMCA Service Utilizer'!B23/'All Eligible'!B18 -> 0.00096976852 | C23: ='BMCA Service Utilizer'!C23/'All Eligible'!C18 -> 0 | D23: ='BMCA Service Utilizer'!D23/'All Eligible'!D18 -> 0.00011862959 | E23: ='BMCA Service Utilizer'!E23/'All Eligible'!E18 -> 0.00070977718 | F23: ='BMCA Service Utilizer'!F23/'All Eligible'!F18 -> 0 | G23: ='BMCA Service Utilizer'!G23/'All Eligible'!G18 -> 0 | H23: ='BMCA Service Utilizer'!H23/'All Eligible'!H18 -> 0 | I23: ='BMCA Service Utilizer'!I23/'All Eligible'!I18 -> 0 | J23: ='BMCA Service Utilizer'!J23/'All Eligible'!J18 -> 0.00028424664
A24: SFY2022-Q3 | B24: ='BMCA Service Utilizer'!B24/'All Eligible'!B19 -> 0.0010457626 | C24: ='BMCA Service Utilizer'!C24/'All Eligible'!C19 -> 0 | D24: ='BMCA Service Utilizer'!D24/'All Eligible'!D19 -> 0.00028115555 | E24: ='BMCA Service Utilizer'!E24/'All Eligible'!E19 -> 0.00092932134 | F24: ='BMCA Service Utilizer'!F24/'All Eligible'!F19 -> 0 | G24: ='BMCA Service Utilizer'!G24/'All Eligible'!G19 -> 0 | H24: ='BMCA Service Utilizer'!H24/'All Eligible'!H19 -> 0 | I24: ='BMCA Service Utilizer'!I24/'All Eligible'!I19 -> 0 | J24: ='BMCA Service Utilizer'!J24/'All Eligible'!J19 -> 0.00036905522
A25: SFY2022-Q4 | B25: ='BMCA Service Utilizer'!B25/'All Eligible'!B20 -> 0.0015882304 | C25: ='BMCA Service Utilizer'!C25/'All Eligible'!C20 -> 0.00011976048 | D25: ='BMCA Service Utilizer'!D25/'All Eligible'!D20 -> 0.00025714753 | E25: ='BMCA Service Utilizer'!E25/'All Eligible'!E20 -> 0.001173328 | F25: ='BMCA Service Utilizer'!F25/'All Eligible'!F20 -> 0 | G25: ='BMCA Service Utilizer'!G25/'All Eligible'!G20 -> 0 | H25: ='BMCA Service Utilizer'!H25/'All Eligible'!H20 -> 0 | I25: ='BMCA Service Utilizer'!I25/'All Eligible'!I20 -> 0 | J25: ='BMCA Service Utilizer'!J25/'All Eligible'!J20 -> 0.00047884598
A26: 2022 Distinct Utilizers
A27: SFY2023-Q1 | B27: ='BMCA Service Utilizer'!B27/'All Eligible'!B22 -> 0.0016498247 | C27: ='BMCA Service Utilizer'!C27/'All Eligible'!C22 -> 0 | D27: ='BMCA Service Utilizer'!D27/'All Eligible'!D22 -> 0.0003710231 | E27: ='BMCA Service Utilizer'!E27/'All Eligible'!E22 -> 0.0011352419 | F27: ='BMCA Service Utilizer'!F27/'All Eligible'!F22 -> 0 | G27: ='BMCA Service Utilizer'!G27/'All Eligible'!G22 -> 0 | H27: ='BMCA Service Utilizer'!H27/'All Eligible'!H22 -> 0 | I27: ='BMCA Service Utilizer'!I27/'All Eligible'!I22 -> 0 | J27: ='BMCA Service Utilizer'!J27/'All Eligible'!J22 -> 0.00050570404
A28: 2023 Distinct Utilizers

Sheet CANS Asmt Service Utilizer
A1: CANS Assessment
A2: Table 1: CANS Assessment - Distinct service utilizers per Region/Quarter
A3: Description: This table displays distinct number of members between the ages of 0 to 17, by quarter who utilized the indicated service between 7/1/2018 to 9/30/2022. Note: Total distinct utilizer count represents an unduplicated (distinct) count of utilizers for the given state fiscal year across all quarters and/or regions combined. Data as of 11/07/2022. Includes Procedure Code ('H0031') Member < Age 18
B4: Region 1 | C4: Region 2 | D4: Region 3 | E4: Region 4 | F4: Region 5 | G4: Region 6 | H4: Region 7 | I4: Region 9 / Out of State | J4: Total
A5: Service Date SFY-Qtr | B5: Distinct Utilizers | C5: Distinct Utilizers | D5: Distinct Utilizers | E5: Distinct Utilizers | F5: Distinct Utilizers | G5: Distinct Utilizers | H5: Distinct Utilizers | I5: Distinct Utilizers | J5: Distinct Utilizers
A6: SFY2019-Q1 | B6: 189 | C6: 107 | D6: 155 | E6: 199 | F6: 52 | G6: 8 | H6: 351 | I6: 2 | J6: 1063
A7: SFY2019-Q2 | B7: 248 | C7: 85 | D7: 317 | E7: 361 | F7: 77 | G7: 26 | H7: 458 | I7: 4 | J7: 1576
A8: SFY2019-Q3 | B8: 324 | C8: 123 | D8: 424 | E8: 586 | F8: 120 | G8: 34 | H8: 716 | I8: 3 | J8: 2329
A9: SFY2019-Q4 | B9: 367 | C9: 163 | D9: 853 | E9: 969 | F9: 327 | G9: 161 | H9: 881 | I9: 5 | J9: 3724
A10: 2019 Distinct Utilizers | B10: 736 | C10: 308 | D10: 1180 | E10: 1365 | F10: 489 | G10: 193 | H10: 1526 | I10: 10 | J10: 5779
A11: SFY2020-Q1 | B11: 682 | C11: 187 | D11: 1511 | E11: 1690 | F11: 563 | G11: 329 | H11: 1380 | I11: 19 | J11: 6357
A12: SFY2020-Q2 | B12: 629 | C12: 185 | D12: 1597 | E12: 1832 | F12: 631 | G12: 358 | H12: 1379 | I12: 16 | J12: 6626
A13: SFY2020-Q3 | B13: 752 | C13: 229 | D13: 1594 | E13: 1726 | F13: 724 | G13: 431 | H13: 1542 | I13: 8 | J13: 7005
A14: SFY2020-Q4 | B14: 616 | C14: 151 | D14: 1193 | E14: 1439 | F14: 521 | G14: 405 | H14: 1262 | I14: 8 | J14: 5593
A15: 2020 Distinct Utilizers | B15: 1421 | C15: 423 | D15: 3169 | E15: 3591 | F15: 1406 | G15: 856 | H15: 3018 | I15: 35 | J15: 13775
A16: SFY2021-Q1 | B16: 701 | C16: 174 | D16: 1233 | E16: 1550 | F16: 565 | G16: 378 | H16: 1385 | I16: 18 | J16: 5999
A17: SFY2021-Q2 | B17: 706 | C17: 97 | D17: 1360 | E17: 1655 | F17: 673 | G17: 363 | H17: 1457 | I17: 9 | J17: 6316
... A27: 2023 Distinct Utilizers | B27: 509 | C27: 150 | D27: 1226 | E27: 1538 | F27: 496 | G27: 330 | H27: 1408 | I27: 9 | J27: 5663

Sheet CANS Asmt Member Utilizer
A1: CANS Assessment
A2: Table 1: CANS Assessment - Member Utilization per Region/Quarter
A3: Description: This table displays distinct number of members between the ages of 0 to 17, by quarter who utilized the indicated service between 7/1/2018 to 9/30/2022. Note: Total distinct utilizer count represents an unduplicated (distinct) count of utilizers for the given state fiscal year across all quarters and/or regions combined. Data as of 11/07/2022. Includes Procedure Code ('H0031')Member < Age 18
B4: Region 1 | C4: Region 2 | D4: Region 3 | E4: Region 4 | F4: Region 5 | G4: Region 6 | H4: Region 7 | I4: Region 9 / Out of State | J4: Total
A5: Service Date SFY-Qtr | B5: Member Utilization | C5: Member Utilization | D5: Member Utilization | E5: Member Utilization | F5: Member Utilization | G5: Member Utilization | H5: Member Utilization | I5: Member Utilization | J5: Member Utilization | P5: CANS Member Utilizer
A6: SFY2019-Q1 | B6: ='CANS Asmt Service Utilizer'!B6/'All Eligible'!B2 -> 0.0082536355 | C6: ='CANS Asmt Service Utilizer'!C6/'All Eligible'!C2 -> 0.013614964 | D6: ='CANS Asmt Service Utilizer'!D6/'All Eligible'!D2 -> 0.0036007991 | E6: ='CANS Asmt Service Utilizer'!E6/'All Eligible'!E2 -> 0.0050368271 | F6: ='CANS Asmt Service Utilizer'!F6/'All Eligible'!F2 -> 0.0019068574 | G6: ='CANS Asmt Service Utilizer'!G6/'All Eligible'!G2 -> 0.00054425471 | H6: ='CANS Asmt Service Utilizer'!H6/'All Eligible'!H2 -> 0.0097087379 | I6: ='CANS Asmt Service Utilizer'!I6/'All Eligible'!I2 -> 0.000232369 | J6: ='CANS Asmt Service Utilizer'!J6/'All Eligible'!J2 -> 0.0053138841
A7: SFY2019-Q2 | B7: ='CANS Asmt Service Utilizer'!B7/'All Eligible'!B3 -> 0.010687812 | C7: ='CANS Asmt Service Utilizer'!C7/'All Eligible'!C3 -> 0.010745891 | D7: ='CANS Asmt Service Utilizer'!D7/'All Eligible'!D3 -> 0.0072980937 | E7: ='CANS Asmt Service Utilizer'!E7/'All Eligible'!E3 -> 0.0090451254 | F7: ='CANS Asmt Service Utilizer'!F7/'All Eligible'!F3 -> 0.0027937015 | G7: ='CANS Asmt Service Utilizer'!G7/'All Eligible'!G3 -> 0.0017493104 | H7: ='CANS Asmt Service Utilizer'!H7/'All Eligible'!H3 -> 0.012547945 | I7: ='CANS Asmt Service Utilizer'!I7/'All Eligible'!I3 -> 0.00051085568 | J7: ='CANS Asmt Service Utilizer'!J7/'All Eligible'!J3 -> 0.0078323791
A8: SFY2019-Q3 | B8: ='CANS Asmt Service Utilizer'!B8/'All Eligible'!B4 -> 0.014464286 | C8: ='CANS Asmt Service Utilizer'!C8/'All Eligible'!C4 -> 0.015994798 | D8: ='CANS Asmt Service Utilizer'!D8/'All Eligible'!D4 -> 0.010209979 | E8: ='CANS Asmt Service Utilizer'!E8/'All Eligible'!E4 -> 0.015274737 | F8: ='CANS Asmt Service Utilizer'!F8/'All Eligible'!F4 -> 0.0045065345 | G8: ='CANS Asmt Service Utilizer'!G8/'All Eligible'!G4 -> 0.0023632446 | H8: ='CANS Asmt Service Utilizer'!H8/'All Eligible'!H4 -> 0.020343799 | I8: ='CANS Asmt Service Utilizer'!I8/'All Eligible'!I4 -> 0.00039808917 | J8: ='CANS Asmt Service Utilizer'!J8/'All Eligible'!J4 -> 0.01202201
A9: SFY2019-Q4 | B9: ='CANS Asmt Service Utilizer'!B9/'All Eligible'!B5 -> 0.016168113 | C9: ='CANS Asmt Service Utilizer'!C9/'All Eligible'!C5 -> 0.021018698 | D9: ='CANS Asmt Service Utilizer'!D9/'All Eligible'!D5 -> 0.020287304 | E9: ='CANS Asmt Service Utilizer'!E9/'All Eligible'!E5 -> 0.024991618 | F9: ='CANS Asmt Service Utilizer'!F9/'All Eligible'!F5 -> 0.01209946 | G9: ='CANS Asmt Service Utilizer'!G9/'All Eligible'!G5 -> 0.01109121 | H9: ='CANS Asmt Service Utilizer'!H9/'All Eligible'!H5 -> 0.024637154 | I9: ='CANS Asmt Service Utilizer'!I9/'All Eligible'!I5 -> 0.00067033114 | J9: ='CANS Asmt Service Utilizer'!J9/'All Eligible'!J5 -> 0.018996802
A10: 2019 Distinct Utilizers
A11: SFY2020-Q1 | B11: ='CANS Asmt Service Utilizer'!B11/'All Eligible'!B7 -> 0.030540504 | C11: ='CANS Asmt Service Utilizer'!C11/'All Eligible'!C7 -> 0.024345788 | D11: ='CANS Asmt Service Utilizer'!D11/'All Eligible'!D7 -> 0.036877944 | E11: ='CANS Asmt Service Utilizer'!E11/'All Eligible'!E7 -> 0.044318569 | F11: ='CANS Asmt Service Utilizer'!F11/'All Eligible'!F7 -> 0.02124849 | G11: ='CANS Asmt Service Utilizer'!G11/'All Eligible'!G7 -> 0.023094202 | H11: ='CANS Asmt Service Utilizer'!H11/'All Eligible'!H7 -> 0.039156712 | I11: ='CANS Asmt Service Utilizer'!I11/'All Eligible'!I7 -> 0.0026048807 | J11: ='CANS Asmt Service Utilizer'!J11/'All Eligible'!J7 -> 0.033041056
A12: SFY2020-Q2 | B12: ='CANS Asmt Service Utilizer'!B12/'All Eligible'!B8 -> 0.028542905 | C12: ='CANS Asmt Service Utilizer'!C12/'All Eligible'!C8 -> 0.024322903 | D12: ='CANS Asmt Service Utilizer'!D12/'All Eligible'!D8 -> 0.039332069 | E12: ='CANS Asmt Service Utilizer'!E12/'All Eligible'!E8 -> 0.048764906 | F12: ='CANS Asmt Service Utilizer'!F12/'All Eligible'!F8 -> 0.023975075 | G12: ='CANS Asmt Service Utilizer'!G12/'All Eligible'!G8 -> 0.025098149 | H12: ='CANS Asmt Service Utilizer'!H12/'All Eligible'!H8 -> 0.039352777 | I12: ='CANS Asmt Service Utilizer'!I12/'All Eligible'!I8 -> 0.0024198427 | J12: ='CANS Asmt Service Utilizer'!J12/'All Eligible'!J8 -> 0.034864326
A13: SFY2020-Q3 | B13: ='CANS Asmt Service Utilizer'!B13/'All Eligible'!B9 -> 0.036488913 | C13: ='CANS Asmt Service Utilizer'!C13/'All Eligible'!C9 -> 0.031978774 | D13: ='CANS Asmt Service Utilizer'!D13/'All Eligible'!D9 -> 0.042108044 | E13: ='CANS Asmt Service Utilizer'!E13/'All Eligible'!E9 -> 0.049092667 | F13: ='CANS Asmt Service Utilizer'!F13/'All Eligible'!F9 -> 0.029427306 | G13: ='CANS Asmt Service Utilizer'!G13/'All Eligible'!G9 -> 0.03216658 | H13: ='CANS Asmt Service Utilizer'!H13/'All Eligible'!H9 -> 0.046996434 | I13: ='CANS Asmt Service Utilizer'!I13/'All Eligible'!I9 -> 0.0012406948 | J13: ='CANS Asmt Service Utilizer'!J13/'All Eligible'!J9 -> 0.039344207
A14: SFY2020-Q4 | B14: ='CANS Asmt Service Utilizer'!B14/'All Eligible'!B10 -> 0.029086788 | C14: ='CANS Asmt Service Utilizer'!C14/'All Eligible'!C10 -> 0.02058623 | D14: ='CANS Asmt Service Utilizer'!D14/'All Eligible'!D10 -> 0.030809359 | E14: ='CANS Asmt Service Utilizer'!E14/'All Eligible'!E10 -> 0.03998444 | F14: ='CANS Asmt Service Utilizer'!F14/'All Eligible'!F10 -> 0.020690203 | G14: ='CANS Asmt Service Utilizer'!G14/'All Eligible'!G10 -> 0.029401089 | H14: ='CANS Asmt Service Utilizer'!H14/'All Eligible'!H10 -> 0.037782169 | I14: ='CANS Asmt Service Utilizer'!I14/'All Eligible'!I10 -> 0.0012545084 | J14: ='CANS Asmt Service Utilizer'!J14/'All Eligible'!J10 -> 0.030737694
A15: 2020 Distinct Utilizers
A16: SFY2021-Q1 | B16: ='CANS Asmt Service Utilizer'!B16/'All Eligible'!B12 -> 0.032172197 | C16: ='CANS Asmt Service Utilizer'!C16/'All Eligible'!C12 -> 0.023043306 | D16: ='CANS Asmt Service Utilizer'!D16/'All Eligible'!D12 -> 0.031115934 | E16: ='CANS Asmt Service Utilizer'!E16/'All Eligible'!E12 -> 0.042035038 | F16: ='CANS Asmt Service Utilizer'!F16/'All Eligible'!F12 -> 0.021848415 | G16: ='CANS Asmt Service Utilizer'!G16/'All Eligible'!G12 -> 0.026674194 | H16: ='CANS Asmt Service Utilizer'!H16/'All Eligible'!H12 -> 0.040227715 | I16: ='CANS Asmt Service Utilizer'!I16/'All Eligible'!I12 -> 0.002866242 | J16: ='CANS Asmt Service Utilizer'!J16/'All Eligible'!J12 -> 0.032152428
A17: SFY2021-Q2 | B17: ='CANS Asmt Service Utilizer'!B17/'All Eligible'!B13 -> 0.031577064 | C17: ='CANS Asmt Service Utilizer'!C17/'All Eligible'!C13 -> 0.012522592 | D17: ='CANS Asmt Service Utilizer'!D17/'All Eligible'!D13 -> 0.033597668 | E17: ='CANS Asmt Service Utilizer'!E17/'All Eligible'!E13 -> 0.043893383 | F17: ='CANS Asmt Service Utilizer'!F17/'All Eligible'!F13 -> 0.02541061 | G17: ='CANS Asmt Service Utilizer'!G17/'All Eligible'!G13 -> 0.025119369 | H17: ='CANS Asmt Service Utilizer'!H17/'All Eligible'!H13 -> 0.0414356 | I17: ='CANS Asmt Service Utilizer'!I17/'All Eligible'!I13 -> 0.0016002845 | J17: ='CANS Asmt Service Utilizer'!J17/'All Eligible'!J13 -> 0.033240181
A18: SFY2021-Q3 | B18: ='CANS Asmt Service Utilizer'!B18/'All Eligible'!B14 -> 0.032113714 | C18: ='CANS Asmt Service Utilizer'!C18/'All Eligible'!C14 -> 0.012895812 | D18: ='CANS Asmt Service Utilizer'!D18/'All Eligible'!D14 -> 0.033736055 | E18: ='CANS Asmt Service Utilizer'!E18/'All Eligible'!E14 -> 0.045004053 | F18: ='CANS Asmt Service Utilizer'!F18/'All Eligible'!F14 -> 0.026893319 | G18: ='CANS Asmt Service Utilizer'!G18/'All Eligible'!G14 -> 0.028334014 | H18: ='CANS Asmt Service Utilizer'!H18/'All Eligible'!H14 -> 0.047351659 | I18: ='CANS Asmt Service Utilizer'!I18/'All Eligible'!I14 -> 0.0016423358 | J18: ='CANS Asmt Service Utilizer'!J18/'All Eligible'!J14 -> 0.035177913
A19: SFY2021-Q4 | B19: ='CANS Asmt Service Utilizer'!B19/'All Eligible'!B15 -> 0.02942193 | C19: ='CANS Asmt Service Utilizer'!C19/'All Eligible'!C15 -> 0.017812343 | D19: ='CANS Asmt Service Utilizer'!D19/'All Eligible'!D15 -> 0.033873024 | E19: ='CANS Asmt Service Utilizer'!E19/'All Eligible'!E15 -> 0.045825243 | F19: ='CANS Asmt Service Utilizer'!F19/'All Eligible'!F15 -> 0.026525882 | G19: ='CANS Asmt Service Utilizer'!G19/'All Eligible'!G15 -> 0.025387205 | H19: ='CANS Asmt Service Utilizer'!H19/'All Eligible'!H15 -> 0.044161184 | I19: ='CANS Asmt Service Utilizer'!I19/'All Eligible'!I15 -> 0.0030245747 | J19: ='CANS Asmt Service Utilizer'!J19/'All Eligible'!J15 -> 0.034436808
A20: 2021 Distinct Utilizers
A21: SFY2022-Q1 | B21: ='CANS Asmt Service Utilizer'!B21/'All Eligible'!B17 -> 0.025229949 | C21: ='CANS Asmt Service Utilizer'!C21/'All Eligible'!C17 -> 0.016360932 | D21: ='CANS Asmt Service Utilizer'!D21/'All Eligible'!D17 -> 0.029296502 | E21: ='CANS Asmt Service Utilizer'!E21/'All Eligible'!E17 -> 0.042004308 | F21: ='CANS Asmt Service Utilizer'!F21/'All Eligible'!F17 -> 0.026818663 | G21: ='CANS Asmt Service Utilizer'!G21/'All Eligible'!G17 -> 0.026233645 | H21: ='CANS Asmt Service Utilizer'!H21/'All Eligible'!H17 -> 0.03918762 | I21: ='CANS Asmt Service Utilizer'!I21/'All Eligible'!I17 -> 0.0022026432 | J21: ='CANS Asmt Service Utilizer'!J21/'All Eligible'!J17 -> 0.031447054
A22: SFY2022-Q2 | B22: ='CANS Asmt Service Utilizer'!B22/'All Eligible'!B18 -> 0.023906902 | C22: ='CANS Asmt Service Utilizer'!C22/'All Eligible'!C18 -> 0.015867204 | D22: ='CANS Asmt Service Utilizer'!D22/'All Eligible'!D18 -> 0.031579197 | E22: ='CANS Asmt Service Utilizer'!E22/'All Eligible'!E18 -> 0.043321757 | F22: ='CANS Asmt Service Utilizer'!F22/'All Eligible'!F18 -> 0.021411807 | G22: ='CANS Asmt Service Utilizer'!G22/'All Eligible'!G18 -> 0.02212766 | H22: ='CANS Asmt Service Utilizer'!H22/'All Eligible'!H18 -> 0.037106985 | I22: ='CANS Asmt Service Utilizer'!I22/'All Eligible'!I18 -> 0.0037402244 | J22: ='CANS Asmt Service Utilizer'!J22/'All Eligible'!J18 -> 0.030825533
A23: SFY2022-Q3 | B23: ='CANS Asmt Service Utilizer'!B23/'All Eligible'!B19 -> 0.028361081 | C23: ='CANS Asmt Service Utilizer'!C23/'All Eligible'!C19 -> 0.018636528 | D23: ='CANS Asmt Service Utilizer'!D23/'All Eligible'!D19 -> 0.035542747 | E23: ='CANS Asmt Service Utilizer'!E23/'All Eligible'!E19 -> 0.044456724 | F23: ='CANS Asmt Service Utilizer'!F23/'All Eligible'!F19 -> 0.020493562 | G23: ='CANS Asmt Service Utilizer'!G23/'All Eligible'!G19 -> 0.02210159 | H23: ='CANS Asmt Service Utilizer'!H23/'All Eligible'!H19 -> 0.039900118 | I23: ='CANS Asmt Service Utilizer'!I23/'All Eligible'!I19 -> 0.0030127462 | J23: ='CANS Asmt Service Utilizer'!J23/'All Eligible'!J19 -> 0.032736195
A24: SFY2022-Q4 | B24: ='CANS Asmt Service Utilizer'!B24/'All Eligible'!B20 -> 0.025662459 | C24: ='CANS Asmt Service Utilizer'!C24/'All Eligible'!C20 -> 0.019401198 | D24: ='CANS Asmt Service Utilizer'!D24/'All Eligible'!D20 -> 0.030974589 | E24: ='CANS Asmt Service Utilizer'!E24/'All Eligible'!E20 -> 0.042314702 | F24: ='CANS Asmt Service Utilizer'!F24/'All Eligible'!F20 -> 0.020416148 | G24: ='CANS Asmt Service Utilizer'!G24/'All Eligible'!G20 -> 0.02431222 | H24: ='CANS Asmt Service Utilizer'!H24/'All Eligible'!H20 -> 0.039781591 | I24: ='CANS Asmt Service Utilizer'!I24/'All Eligible'!I20 -> 0.0041048311 | J24: ='CANS Asmt Service Utilizer'!J24/'All Eligible'!J20 -> 0.031349448
A25: 2022 Distinct Utilizers
A26: SFY2023-Q1 | B26: ='CANS Asmt Service Utilizer'!B26/'All Eligible'!B22 -> 0.020994019 | C26: ='CANS Asmt Service Utilizer'!C26/'All Eligible'!C22 -> 0.017611835 | D26: ='CANS Asmt Service Utilizer'!D26/'All Eligible'!D22 -> 0.028429645 | E26: ='CANS Asmt Service Utilizer'!E26/'All Eligible'!E22 -> 0.037956565 | F26: ='CANS Asmt Service Utilizer'!F26/'All Eligible'!F22 -> 0.017489422 | G26: ='CANS Asmt Service Utilizer'!G26/'All Eligible'!G22 -> 0.020864947 | H26: ='CANS Asmt Service Utilizer'!H26/'All Eligible'!H22 -> 0.036106267 | I26: ='CANS Asmt Service Utilizer'!I26/'All Eligible'!I22 -> 0.0042432815 | J26: ='CANS Asmt Service Utilizer'!J26/'All Eligible'!J22 -> 0.02807649
A27: 2023 Distinct Utilizers

Sheet Case Mgmt Service Utilizer
A1: Case Management
A2: Table 1: Case Management - Distinct service utilizers per Region/Quarter
A3: Description: This table displays distinct number of members between the ages of 0 to 17, by quarter who utilized the indicated service between 7/1/2018 to 9/30/2022. Note: Total distinct utilizer count represents an unduplicated (distinct) count of utilizers for the given state fiscal year across all quarters and/or regions combined. Data as of 11/07/2022. Includes Procedure Code 'T1017' and 'T1016'
B4: Region 1 | C4: Region 2 | D4: Region 3 | E4: Region 4 | F4: Region 5 | G4: Region 6 | H4: Region 7 | I4: Region 9 / Out of State | J4: Total
A5: Service Date SFY-Qtr | B5: Distinct Utilizers | C5: Distinct Utilizers | D5: Distinct Utilizers | E5: Distinct Utilizers | F5: Distinct Utilizers | G5: Distinct Utilizers | H5: Distinct Utilizers | I5: Distinct Utilizers | J5: Distinct Utilizers
A6: SFY2019-Q1 | B6: 68 | C6: 31 | D6: 210 | E6: 347 | F6: 21 | G6: 75 | H6: 991 | I6: 2 | J6: 1733
A7: SFY2019-Q2 | B7: 60 | C7: 27 | D7: 206 | E7: 352 | F7: 20 | G7: 70 | H7: 969 | I7: 3 | J7: 1702
A8: SFY2019-Q3 | B8: 48 | C8: 27 | D8: 205 | E8: 370 | F8: 16 | G8: 54 | H8: 951 | I8: 4 | J8: 1670
A9: SFY2019-Q4 | B9: 32 | C9: 21 | D9: 216 | E9: 378 | F9: 17 | G9: 74 | H9: 950 | I9: 1 | J9: 1684
A10: 2019 Distinct Utilizers | B10: 102 | C10: 58 | D10: 382 | E10: 635 | F10: 55 | G10: 142 | H10: 1468 | I10: 9 | J10: 2809
A11: SFY2020-Q1 | B11: 19 | C11: 16 | D11: 153 | E11: 310 | F11: 26 | G11: 74 | H11: 877 | I11: 3 | J11: 1473
A12: SFY2020-Q2 | B12: 19 | C12: 23 | D12: 147 | E12: 257 | F12: 18 | G12: 70 | H12: 714 | I12: 0 | J12: 1238
A13: SFY2020-Q3 | B13: 50 | C13: 17 | D13: 182 | E13: 368 | F13: 58 | G13: 89 | H13: 743 | I13: 2 | J13: 1502
A14: SFY2020-Q4 | B14: 84 | C14: 25 | D14: 220 | E14: 381 | F14: 45 | G14: 89 | H14: 689 | I14: 0 | J14: 1530
A15: 2020 Distinct Utilizers | B15: 99 | C15: 57 | D15: 373 | E15: 661 | F15: 93 | G15: 181 | H15: 1369 | I15: 5 | J15: 2809
A16: SFY2021-Q1 | B16: 119 | C16: 23 | D16: 209 | E16: 389 | F16: 76 | G16: 84 | H16: 645 | I16: 3 | J16: 1536
A17: SFY2021-Q2 | B17: 127 | C17: 29 | D17: 198 | E17: 337 | F17: 142 | G17: 73 | H17: 606 | I17: 3 | J17: 1503
... A27: 2023 Distinct Utilizers | B27: 39 | C27: 28 | D27: 161 | E27: 272 | F27: 117 | G27: 98 | H27: 585 | I27: 0 | J27: 1297

Sheet Case Mgmt Member Utilizer
A1: Case Management
A2: Table 1: Case Management - Member Utilization per Region/Quarter
A3: Description: This table displays distinct number of members between the ages of 0 to 17, by quarter who utilized the indicated service between 7/1/2018 to 9/30/2022. Note: Total distinct utilizer count represents an unduplicated (distinct) count of utilizers for the given state fiscal year across all quarters and/or regions combined. Data as of 11/07/2022. Includes Procedure Code 'T1017' and 'T1016'
B4: Region 1 | C4: Region 2 | D4: Region 3 | E4: Region 4 | F4: Region 5 | G4: Region 6 | H4: Region 7 | I4: Region 9 / Out of State | J4: Total
A5: Service Date SFY-Qtr | B5: Member Utilization | C5: Member Utilization | D5: Member Utilization | E5: Member Utilization | F5: Member Utilization | G5: Member Utilization | H5: Member Utilization | I5: Member Utilization | J5: Member Utilization
A6: SFY2019-Q1 | B6: ='Case Mgmt Service Utilizer'!B6/'All Eligible'!B2 -> 0.002969562 | C6: ='Case Mgmt Service Utilizer'!C6/'All Eligible'!C2 -> 0.0039445222 | D6: ='Case Mgmt Service Utilizer'!D6/'All Eligible'!D2 -> 0.0048785021 | E6: ='Case Mgmt Service Utilizer'!E6/'All Eligible'!E2 -> 0.008782809 | F6: ='Case Mgmt Service Utilizer'!F6/'All Eligible'!F2 -> 0.00077007701 | G6: ='Case Mgmt Service Utilizer'!G6/'All Eligible'!G2 -> 0.0051023879 | H6: ='Case Mgmt Service Utilizer'!H6/'All Eligible'!H2 -> 0.02741128 | I6: ='Case Mgmt Service Utilizer'!I6/'All Eligible'!I2 -> 0.000232369 | J6: ='Case Mgmt Service Utilizer'!J6/'All Eligible'!J2 -> 0.0086631807
A7: SFY2019-Q2 | B7: ='Case Mgmt Service Utilizer'!B7/'All Eligible'!B3 -> 0.0025857611 | C7: ='Case Mgmt Service Utilizer'!C7/'All Eligible'!C3 -> 0.0034134008 | D7: ='Case Mgmt Service Utilizer'!D7/'All Eligible'!D3 -> 0.0047426098 | E7: ='Case Mgmt Service Utilizer'!E7/'All Eligible'!E3 -> 0.0088196237 | F7: ='Case Mgmt Service Utilizer'!F7/'All Eligible'!F3 -> 0.00072563675 | G7: ='Case Mgmt Service Utilizer'!G7/'All Eligible'!G3 -> 0.0047096818 | H7: ='Case Mgmt Service Utilizer'!H7/'All Eligible'!H3 -> 0.026547945 | I7: ='Case Mgmt Service Utilizer'!I7/'All Eligible'!I3 -> 0.00038314176 | J7: ='Case Mgmt Service Utilizer'!J7/'All Eligible'!J3 -> 0.0084585719
A8: SFY2019-Q3 | B8: ='Case Mgmt Service Utilizer'!B8/'All Eligible'!B4 -> 0.0021428571 | C8: ='Case Mgmt Service Utilizer'!C8/'All Eligible'!C4 -> 0.0035110533 | D8: ='Case Mgmt Service Utilizer'!D8/'All Eligible'!D4 -> 0.0049364284 | E8: ='Case Mgmt Service Utilizer'!E8/'All Eligible'!E4 -> 0.0096444583 | F8: ='Case Mgmt Service Utilizer'!F8/'All Eligible'!F4 -> 0.00060087126 | G8: ='Case Mgmt Service Utilizer'!G8/'All Eligible'!G4 -> 0.0037533885 | H8: ='Case Mgmt Service Utilizer'!H8/'All Eligible'!H4 -> 0.027020884 | I8: ='Case Mgmt Service Utilizer'!I8/'All Eligible'!I4 -> 0.00053078556 | J8: ='Case Mgmt Service Utilizer'!J8/'All Eligible'!J4 -> 0.0086203337
A9: SFY2019-Q4 | B9: ='Case Mgmt Service Utilizer'!B9/'All Eligible'!B5 -> 0.0014097537 | C9: ='Case Mgmt Service Utilizer'!C9/'All Eligible'!C5 -> 0.0027079304 | D9: ='Case Mgmt Service Utilizer'!D9/'All Eligible'!D5 -> 0.0051372307 | E9: ='Case Mgmt Service Utilizer'!E9/'All Eligible'!E5 -> 0.0097490522 | F9: ='Case Mgmt Service Utilizer'!F9/'All Eligible'!F5 -> 0.0006290239 | G9: ='Case Mgmt Service Utilizer'!G9/'All Eligible'!G5 -> 0.0050978231 | H9: ='Case Mgmt Service Utilizer'!H9/'All Eligible'!H5 -> 0.026566738 | I9: ='Case Mgmt Service Utilizer'!I9/'All Eligible'!I5 -> 0.00013406623 | J9: ='Case Mgmt Service Utilizer'!J9/'All Eligible'!J5 -> 0.0085903904
A10: 2019 Distinct Utilizers
A11: SFY2020-Q1 | B11: ='Case Mgmt Service Utilizer'!B11/'All Eligible'!B7 -> 0.00085083516 | C11: ='Case Mgmt Service Utilizer'!C11/'All Eligible'!C7 -> 0.0020830621 | D11: ='Case Mgmt Service Utilizer'!D11/'All Eligible'!D7 -> 0.0037341664 | E11: ='Case Mgmt Service Utilizer'!E11/'All Eligible'!E7 -> 0.0081294417 | F11: ='Case Mgmt Service Utilizer'!F11/'All Eligible'!F7 -> 0.00098128019 | G11: ='Case Mgmt Service Utilizer'!G11/'All Eligible'!G7 -> 0.0051944405 | H11: ='Case Mgmt Service Utilizer'!H11/'All Eligible'!H7 -> 0.024884374 | I11: ='Case Mgmt Service Utilizer'!I11/'All Eligible'!I7 -> 0.00041129696 | J11: ='Case Mgmt Service Utilizer'!J11/'All Eligible'!J7 -> 0.0076560445
A12: SFY2020-Q2 | B12: ='Case Mgmt Service Utilizer'!B12/'All Eligible'!B8 -> 0.00086218632 | C12: ='Case Mgmt Service Utilizer'!C12/'All Eligible'!C8 -> 0.0030239285 | D12: ='Case Mgmt Service Utilizer'!D12/'All Eligible'!D8 -> 0.0036204221 | E12: ='Case Mgmt Service Utilizer'!E12/'All Eligible'!E8 -> 0.0068409284 | F12: ='Case Mgmt Service Utilizer'!F12/'All Eligible'!F8 -> 0.00068391656 | G12: ='Case Mgmt Service Utilizer'!G12/'All Eligible'!G8 -> 0.0049074593 | H12: ='Case Mgmt Service Utilizer'!H12/'All Eligible'!H8 -> 0.020375549 | I12: ='Case Mgmt Service Utilizer'!I12/'All Eligible'!I8 -> 0 | J12: ='Case Mgmt Service Utilizer'!J12/'All Eligible'!J8 -> 0.006514041
A13: SFY2020-Q3 | B13: ='Case Mgmt Service Utilizer'!B13/'All Eligible'!B9 -> 0.0024261245 | C13: ='Case Mgmt Service Utilizer'!C13/'All Eligible'!C9 -> 0.0023739701 | D13: ='Case Mgmt Service Utilizer'!D13/'All Eligible'!D9 -> 0.0048078193 | E13: ='Case Mgmt Service Utilizer'!E13/'All Eligible'!E9 -> 0.010467035 | F13: ='Case Mgmt Service Utilizer'!F13/'All Eligible'!F9 -> 0.0023574361 | G13: ='Case Mgmt Service Utilizer'!G13/'All Eligible'!G9 -> 0.0066422867 | H13: ='Case Mgmt Service Utilizer'!H13/'All Eligible'!H9 -> 0.022644845 | I13: ='Case Mgmt Service Utilizer'!I13/'All Eligible'!I9 -> 0.0003101737 | J13: ='Case Mgmt Service Utilizer'!J13/'All Eligible'!J9 -> 0.0084361169
A14: SFY2020-Q4 | B14: ='Case Mgmt Service Utilizer'!B14/'All Eligible'!B10 -> 0.0039663802 | C14: ='Case Mgmt Service Utilizer'!C14/'All Eligible'!C10 -> 0.0034083163 | D14: ='Case Mgmt Service Utilizer'!D14/'All Eligible'!D10 -> 0.0056815247 | E14: ='Case Mgmt Service Utilizer'!E14/'All Eligible'!E10 -> 0.010586568 | F14: ='Case Mgmt Service Utilizer'!F14/'All Eligible'!F10 -> 0.0017870617 | G14: ='Case Mgmt Service Utilizer'!G14/'All Eligible'!G10 -> 0.00646098 | H14: ='Case Mgmt Service Utilizer'!H14/'All Eligible'!H10 -> 0.020627507 | I14: ='Case Mgmt Service Utilizer'!I14/'All Eligible'!I10 -> 0 | J14: ='Case Mgmt Service Utilizer'!J14/'All Eligible'!J10 -> 0.0084084876
A15: 2020 Distinct Utilizers
A16: SFY2021-Q1 | B16: ='Case Mgmt Service Utilizer'!B16/'All Eligible'!B12 -> 0.0054614714 | C16: ='Case Mgmt Service Utilizer'!C16/'All Eligible'!C12 -> 0.0030459542 | D16: ='Case Mgmt Service Utilizer'!D16/'All Eligible'!D12 -> 0.0052743148 | E16: ='Case Mgmt Service Utilizer'!E16/'All Eligible'!E12 -> 0.010549439 | F16: ='Case Mgmt Service Utilizer'!F16/'All Eligible'!F12 -> 0.0029389018 | G16: ='Case Mgmt Service Utilizer'!G16/'All Eligible'!G12 -> 0.0059275986 | H16: ='Case Mgmt Service Utilizer'!H16/'All Eligible'!H12 -> 0.018734207 | I16: ='Case Mgmt Service Utilizer'!I16/'All Eligible'!I12 -> 0.00047770701 | J16: ='Case Mgmt Service Utilizer'!J16/'All Eligible'!J12 -> 0.0082323936
A17: SFY2021-Q2 | B17: ='Case Mgmt Service Utilizer'!B17/'All Eligible'!B13 -> 0.0056802934 | C17: ='Case Mgmt Service Utilizer'!C17/'All Eligible'!C13 -> 0.0037438678 | D17: ='Case Mgmt Service Utilizer'!D17/'All Eligible'!D13 -> 0.0048914252 | E17: ='Case Mgmt Service Utilizer'!E17/'All Eligible'!E13 -> 0.0089378067 | F17: ='Case Mgmt Service Utilizer'!F17/'All Eligible'!F13 -> 0.0053615254 | G17: ='Case Mgmt Service Utilizer'!G17/'All Eligible'!G13 -> 0.0050515535 | H17: ='Case Mgmt Service Utilizer'!H17/'All Eligible'!H13 -> 0.017234024 | I17: ='Case Mgmt Service Utilizer'!I17/'All Eligible'!I13 -> 0.00053342817 | J17: ='Case Mgmt Service Utilizer'!J17/'All Eligible'!J13 -> 0.0079100684
A18: SFY2021-Q3 | B18: ='Case Mgmt Service Utilizer'!B18/'All Eligible'!B14 -> 0.0016232342 | C18: ='Case Mgmt Service Utilizer'!C18/'All Eligible'!C14 -> 0.0022982635 | D18: ='Case Mgmt Service Utilizer'!D18/'All Eligible'!D14 -> 0.0040190968 | E18: ='Case Mgmt Service Utilizer'!E18/'All Eligible'!E14 -> 0.0088648309 | F18: ='Case Mgmt Service Utilizer'!F18/'All Eligible'!F14 -> 0.0056911174 | G18: ='Case Mgmt Service Utilizer'!G18/'All Eligible'!G14 -> 0.0044271898 | H18: ='Case Mgmt Service Utilizer'!H18/'All Eligible'!H14 -> 0.016566097 | I18: ='Case Mgmt Service Utilizer'!I18/'All Eligible'!I14 -> 0.00054744526 | J18: ='Case Mgmt Service Utilizer'!J18/'All Eligible'!J14 -> 0.0071175485
A19: SFY2021-Q4 | B19: ='Case Mgmt Service Utilizer'!B19/'All Eligible'!B15 -> 0.0022898125 | C19: ='Case Mgmt Service Utilizer'!C19/'All Eligible'!C15 -> 0.0030105369 | D19: ='Case Mgmt Service Utilizer'!D19/'All Eligible'!D15 -> 0.0038973224 | E19: ='Case Mgmt Service Utilizer'!E19/'All Eligible'!E15 -> 0.0089320388 | F19: ='Case Mgmt Service Utilizer'!F19/'All Eligible'!F15 -> 0.0066590633 | G19: ='Case Mgmt Service Utilizer'!G19/'All Eligible'!G15 -> 0.0037037037 | H19: ='Case Mgmt Service Utilizer'!H19/'All Eligible'!H15 -> 0.016557018 | I19: ='Case Mgmt Service Utilizer'!I19/'All Eligible'!I15 -> 0.0018903592 | J19: ='Case Mgmt Service Utilizer'!J19/'All Eligible'!J15 -> 0.0072932843
A20: 2021 Distinct Utilizers
A21: SFY2022-Q1 | B21: ='Case Mgmt Service Utilizer'!B21/'All Eligible'!B17 -> 0.0021490587 | C21: ='Case Mgmt Service Utilizer'!C21/'All Eligible'!C17 -> 0.0029747149 | D21: ='Case Mgmt Service Utilizer'!D21/'All Eligible'!D17 -> 0.0041818008 | E21: ='Case Mgmt Service Utilizer'!E21/'All Eligible'!E17 -> 0.0084880501 | F21: ='Case Mgmt Service Utilizer'!F21/'All Eligible'!F17 -> 0.0064306332 | G21: ='Case Mgmt Service Utilizer'!G21/'All Eligible'!G17 -> 0.0044497576 | H21: ='Case Mgmt Service Utilizer'!H21/'All Eligible'!H17 -> 0.015691252 | I21: ='Case Mgmt Service Utilizer'!I21/'All Eligible'!I17 -> 0.0011013216 | J21: ='Case Mgmt Service Utilizer'!J21/'All Eligible'!J17 -> 0.0071621188
A22: SFY2022-Q2 | B22: ='Case Mgmt Service Utilizer'!B22/'All Eligible'!B18 -> 0.0024876671 | C22: ='Case Mgmt Service Utilizer'!C22/'All Eligible'!C18 -> 0.0031734407 | D22: ='Case Mgmt Service Utilizer'!D22/'All Eligible'!D18 -> 0.0040096802 | E22: ='Case Mgmt Service Utilizer'!E22/'All Eligible'!E18 -> 0.0075540571 | F22: ='Case Mgmt Service Utilizer'!F22/'All Eligible'!F18 -> 0.0059216465 | G22: ='Case Mgmt Service Utilizer'!G22/'All Eligible'!G18 -> 0.0048445172 | H22: ='Case Mgmt Service Utilizer'!H22/'All Eligible'!H18 -> 0.015640794 | I22: ='Case Mgmt Service Utilizer'!I22/'All Eligible'!I18 -> 0.0003400204 | J22: ='Case Mgmt Service Utilizer'!J22/'All Eligible'!J18 -> 0.0069741945
A23: SFY2022-Q3 | B23: ='Case Mgmt Service Utilizer'!B23/'All Eligible'!B19 -> 0.0018405421 | C23: ='Case Mgmt Service Utilizer'!C23/'All Eligible'!C19 -> 0.0012023566 | D23: ='Case Mgmt Service Utilizer'!D23/'All Eligible'!D19 -> 0.0045219184 | E23: ='Case Mgmt Service Utilizer'!E23/'All Eligible'!E19 -> 0.0073843372 | F23: ='Case Mgmt Service Utilizer'!F23/'All Eligible'!F19 -> 0.0057224607 | G23: ='Case Mgmt Service Utilizer'!G23/'All Eligible'!G19 -> 0.0050407135 | H23: ='Case Mgmt Service Utilizer'!H23/'All Eligible'!H19 -> 0.014745696 | I23: ='Case Mgmt Service Utilizer'!I23/'All Eligible'!I19 -> 0.00023174971 | J23: ='Case Mgmt Service Utilizer'!J23/'All Eligible'!J19 -> 0.006687879
A24: SFY2022-Q4 | B24: ='Case Mgmt Service Utilizer'!B24/'All Eligible'!B20 -> 0.0015464348 | C24: ='Case Mgmt Service Utilizer'!C24/'All Eligible'!C20 -> 0.002994012 | D24: ='Case Mgmt Service Utilizer'!D24/'All Eligible'!D20 -> 0.0046286556 | E24: ='Case Mgmt Service Utilizer'!E24/'All Eligible'!E20 -> 0.0071148613 | F24: ='Case Mgmt Service Utilizer'!F24/'All Eligible'!F20 -> 0.0044815935 | G24: ='Case Mgmt Service Utilizer'!G24/'All Eligible'!G20 -> 0.0053103007 | H24: ='Case Mgmt Service Utilizer'!H24/'All Eligible'!H20 -> 0.015210608 | I24: ='Case Mgmt Service Utilizer'!I24/'All Eligible'!I20 -> 0.00094726871 | J24: ='Case Mgmt Service Utilizer'!J24/'All Eligible'!J20 -> 0.0066739159
A25: 2022 Distinct Utilizers
A26: SFY2023-Q1 | B26: ='Case Mgmt Service Utilizer'!B26/'All Eligible'!B22 -> 0.0016085791 | C26: ='Case Mgmt Service Utilizer'!C26/'All Eligible'!C22 -> 0.0032875426 | D26: ='Case Mgmt Service Utilizer'!D26/'All Eligible'!D22 -> 0.0037334199 | E26: ='Case Mgmt Service Utilizer'!E26/'All Eligible'!E22 -> 0.0067127345 | F26: ='Case Mgmt Service Utilizer'!F26/'All Eligible'!F22 -> 0.0041255289 | G26: ='Case Mgmt Service Utilizer'!G26/'All Eligible'!G22 -> 0.006196257 | H26: ='Case Mgmt Service Utilizer'!H26/'All Eligible'!H22 -> 0.015001539 | I26: ='Case Mgmt Service Utilizer'!I26/'All Eligible'!I22 -> 0 | J26: ='Case Mgmt Service Utilizer'!J26/'All Eligible'!J22 -> 0.006430374
A27: 2023 Distinct Utilizers

Sheet CFT Service  Utilizer
A1: Child and Family Inter-Disciplinary Team Meeting
A2: Table 1: CFT Meeting - Distinct service utilizers per Region/Quarter
